BEGIN:VCALENDAR
VERSION:2.0
PRODID:-//Trinity Lutheran Church - ECPv6.15.20//NONSGML v1.0//EN
CALSCALE:GREGORIAN
METHOD:PUBLISH
X-WR-CALNAME:Trinity Lutheran Church
X-ORIGINAL-URL:https://trinity-hamilton.com
X-WR-CALDESC:Events for Trinity Lutheran Church
REFRESH-INTERVAL;VALUE=DURATION:PT1H
X-Robots-Tag:noindex
X-PUBLISHED-TTL:PT1H
BEGIN:VTIMEZONE
TZID:America/Toronto
BEGIN:DAYLIGHT
TZOFFSETFROM:-0500
TZOFFSETTO:-0400
TZNAME:EDT
DTSTART:20240310T070000
END:DAYLIGHT
BEGIN:STANDARD
TZOFFSETFROM:-0400
TZOFFSETTO:-0500
TZNAME:EST
DTSTART:20241103T060000
END:STANDARD
BEGIN:DAYLIGHT
TZOFFSETFROM:-0500
TZOFFSETTO:-0400
TZNAME:EDT
DTSTART:20250309T070000
END:DAYLIGHT
BEGIN:STANDARD
TZOFFSETFROM:-0400
TZOFFSETTO:-0500
TZNAME:EST
DTSTART:20251102T060000
END:STANDARD
BEGIN:DAYLIGHT
TZOFFSETFROM:-0500
TZOFFSETTO:-0400
TZNAME:EDT
DTSTART:20260308T070000
END:DAYLIGHT
BEGIN:STANDARD
TZOFFSETFROM:-0400
TZOFFSETTO:-0500
TZNAME:EST
DTSTART:20261101T060000
END:STANDARD
END:VTIMEZONE
BEGIN:VEVENT
DTSTART;TZID=America/Toronto:20251123T100000
DTEND;TZID=America/Toronto:20251123T110000
DTSTAMP:20260423T094720
CREATED:20251020T144907Z
LAST-MODIFIED:20251020T144907Z
UID:5475-1763892000-1763895600@trinity-hamilton.com
SUMMARY:Sunday Worship Service
DESCRIPTION:We offer in-person Sunday Worship service at our Fennell Avenue location. You may also watch our service through livestream on Zoom. Please contact the church office at 905 974-9878 for the link. A recording of the 10:00 am service will be posted on the Trinity Lutheran Church YouTube channel by the end of the day.
URL:https://trinity-hamilton.com/event/sunday-worship-service-21/
LOCATION:Trinity Lutheran Church Hughson St.\, 104 Hughson Street North\, Hamilton\, Ontario\, Canada
ATTACH;FMTTYPE=image/jpeg:https://trinity-hamilton.com/wp-content/uploads/2025/10/Pastor-Daniella-copy_web.jpg
END:VEVENT
BEGIN:VEVENT
DTSTART;TZID=America/Toronto:20251123T100000
DTEND;TZID=America/Toronto:20251123T110000
DTSTAMP:20260423T094720
CREATED:20251020T225258Z
LAST-MODIFIED:20251020T225258Z
UID:5499-1763892000-1763895600@trinity-hamilton.com
SUMMARY:Sunday School
DESCRIPTION:Learning together is an important part of Sunday School. It is a place to learn about God and his teachings. We offer Sunday School from September to June for children ages 3 to 12. Sunday school run parallel to the Sunday Worship service at 10.00 a.m. The children begin the morning in Sunday School and join the congregation in the sanctuary at communion. \nSunday School includes bible stories\, crafts\, games\, and songs. Parents of younger children are welcome to join.
URL:https://trinity-hamilton.com/event/sunday-school-5/
LOCATION:Trinity Lutheran Church Fennell Ave.\, 232 Fennell Ave. E\, Hamilton\, Ontario\, Canada
ATTACH;FMTTYPE=image/jpeg:https://trinity-hamilton.com/wp-content/uploads/2023/02/Children.jpg
END:VEVENT
END:VCALENDAR