BEGIN:VCALENDAR
VERSION:2.0
PRODID:-//Trinity Lutheran Church - ECPv6.15.20//NONSGML v1.0//EN
CALSCALE:GREGORIAN
METHOD:PUBLISH
X-WR-CALNAME:Trinity Lutheran Church
X-ORIGINAL-URL:https://trinity-hamilton.com
X-WR-CALDESC:Events for Trinity Lutheran Church
REFRESH-INTERVAL;VALUE=DURATION:PT1H
X-Robots-Tag:noindex
X-PUBLISHED-TTL:PT1H
BEGIN:VTIMEZONE
TZID:America/Toronto
BEGIN:DAYLIGHT
TZOFFSETFROM:-0500
TZOFFSETTO:-0400
TZNAME:EDT
DTSTART:20240310T070000
END:DAYLIGHT
BEGIN:STANDARD
TZOFFSETFROM:-0400
TZOFFSETTO:-0500
TZNAME:EST
DTSTART:20241103T060000
END:STANDARD
BEGIN:DAYLIGHT
TZOFFSETFROM:-0500
TZOFFSETTO:-0400
TZNAME:EDT
DTSTART:20250309T070000
END:DAYLIGHT
BEGIN:STANDARD
TZOFFSETFROM:-0400
TZOFFSETTO:-0500
TZNAME:EST
DTSTART:20251102T060000
END:STANDARD
BEGIN:DAYLIGHT
TZOFFSETFROM:-0500
TZOFFSETTO:-0400
TZNAME:EDT
DTSTART:20260308T070000
END:DAYLIGHT
BEGIN:STANDARD
TZOFFSETFROM:-0400
TZOFFSETTO:-0500
TZNAME:EST
DTSTART:20261101T060000
END:STANDARD
END:VTIMEZONE
BEGIN:VEVENT
DTSTART;TZID=America/Toronto:20251207T100000
DTEND;TZID=America/Toronto:20251207T110000
DTSTAMP:20260423T082658
CREATED:20251112T201235Z
LAST-MODIFIED:20251112T201235Z
UID:5660-1765101600-1765105200@trinity-hamilton.com
SUMMARY:Sunday Worship Service
DESCRIPTION:We offer in-person Sunday Worship service at our Fennell Avenue location. You may also watch our service through livestream on Zoom. Please contact the church office at 905 974-9878 for the link. A recording of the 10:00 am service will be posted on the Trinity Lutheran Church YouTube channel by the end of the day.
URL:https://trinity-hamilton.com/event/sunday-worship-service-23/
LOCATION:Trinity Lutheran Church Fennell Ave.\, 232 Fennell Ave. E\, Hamilton\, Ontario\, Canada
ATTACH;FMTTYPE=image/jpeg:https://trinity-hamilton.com/wp-content/uploads/2023/11/IMG_2184-copy-1-scaled-e1732141656980.jpg
END:VEVENT
BEGIN:VEVENT
DTSTART;TZID=America/Toronto:20251207T100000
DTEND;TZID=America/Toronto:20251207T110000
DTSTAMP:20260423T082658
CREATED:20251116T194602Z
LAST-MODIFIED:20251116T194602Z
UID:5677-1765101600-1765105200@trinity-hamilton.com
SUMMARY:Sunday School
DESCRIPTION:Learning together is an important part of Sunday School. It is a place to learn about God and his teachings. We offer Sunday School from September to June for children ages 3 to 12. Sunday school run parallel to the Sunday Worship service at 10.00 a.m. The children begin the morning in Sunday School and join the congregation in the sanctuary at communion. \nSunday School includes bible stories\, crafts\, games\, and songs. Parents of younger children are welcome to join.
URL:https://trinity-hamilton.com/event/sunday-school-6/
LOCATION:Trinity Lutheran Church Fennell Ave.\, 232 Fennell Ave. E\, Hamilton\, Ontario\, Canada
ATTACH;FMTTYPE=image/jpeg:https://trinity-hamilton.com/wp-content/uploads/2023/06/SundaySchool-1-e1739737315196.jpg
END:VEVENT
BEGIN:VEVENT
DTSTART;TZID=America/Toronto:20251207T180000
DTEND;TZID=America/Toronto:20251207T190000
DTSTAMP:20260423T082658
CREATED:20251116T205647Z
LAST-MODIFIED:20251116T205647Z
UID:5711-1765130400-1765134000@trinity-hamilton.com
SUMMARY:Blue Christmas Service
DESCRIPTION:Grieving a loved one\, lonely\, feeling blue\, struggling with some burden… find comfort in knowing you are not alone. Please join us for a worship service of comfort and renewal at the Immanuel Christian Reformed Church of Hamilton.\nFor more details please ask Pastor Jordan or Pastor Daniela.
URL:https://trinity-hamilton.com/event/blue-christmas-service/
LOCATION:Immanuel Christian Reformed Church\, 61 Mohawk Rd. W\, Hamilton\, Ontario\, L9C 1V9\, Canada
ATTACH;FMTTYPE=image/jpeg:https://trinity-hamilton.com/wp-content/uploads/2024/02/hands2-copy.jpg
END:VEVENT
END:VCALENDAR