BEGIN:VCALENDAR
VERSION:2.0
PRODID:-//Trinity Lutheran Church - ECPv6.15.20//NONSGML v1.0//EN
CALSCALE:GREGORIAN
METHOD:PUBLISH
X-ORIGINAL-URL:https://trinity-hamilton.com
X-WR-CALDESC:Events for Trinity Lutheran Church
REFRESH-INTERVAL;VALUE=DURATION:PT1H
X-Robots-Tag:noindex
X-PUBLISHED-TTL:PT1H
BEGIN:VTIMEZONE
TZID:America/Toronto
BEGIN:DAYLIGHT
TZOFFSETFROM:-0500
TZOFFSETTO:-0400
TZNAME:EDT
DTSTART:20240310T070000
END:DAYLIGHT
BEGIN:STANDARD
TZOFFSETFROM:-0400
TZOFFSETTO:-0500
TZNAME:EST
DTSTART:20241103T060000
END:STANDARD
BEGIN:DAYLIGHT
TZOFFSETFROM:-0500
TZOFFSETTO:-0400
TZNAME:EDT
DTSTART:20250309T070000
END:DAYLIGHT
BEGIN:STANDARD
TZOFFSETFROM:-0400
TZOFFSETTO:-0500
TZNAME:EST
DTSTART:20251102T060000
END:STANDARD
BEGIN:DAYLIGHT
TZOFFSETFROM:-0500
TZOFFSETTO:-0400
TZNAME:EDT
DTSTART:20260308T070000
END:DAYLIGHT
BEGIN:STANDARD
TZOFFSETFROM:-0400
TZOFFSETTO:-0500
TZNAME:EST
DTSTART:20261101T060000
END:STANDARD
END:VTIMEZONE
BEGIN:VEVENT
DTSTART;TZID=America/Toronto:20251216T100000
DTEND;TZID=America/Toronto:20251216T120000
DTSTAMP:20260423T082740
CREATED:20251117T022321Z
LAST-MODIFIED:20251117T022321Z
UID:5723-1765879200-1765886400@trinity-hamilton.com
SUMMARY:People's Café
DESCRIPTION:Everyone is welcome at the People’s Café on Tuesdays from 10:00 am to 12:00 pm. Refreshments and fellowship are offered. Come and make new friends or sit quietly by yourself. Our neighbours are also welcome to enjoy coffee and toast while sheltering from the weather. People wishing to volunteer to help with the program can contact Pastor Dani.
URL:https://trinity-hamilton.com/event/peoples-cafe-22/
LOCATION:Streetlight Church\, 82 Ferguson Street North\, Hamilton\, ON\, L8R 1L4\, Canada
ATTACH;FMTTYPE=image/jpeg:https://trinity-hamilton.com/wp-content/uploads/2024/01/alzheimer-cafe-low-res-e1741893245194.jpg
END:VEVENT
BEGIN:VEVENT
DTSTART;TZID=America/Toronto:20251216T133000
DTEND;TZID=America/Toronto:20251216T150000
DTSTAMP:20260423T082740
CREATED:20251117T230542Z
LAST-MODIFIED:20251124T011130Z
UID:5739-1765891800-1765897200@trinity-hamilton.com
SUMMARY:Lutheran Ladies United (LLU)
DESCRIPTION:“Bells At Christmas” is the theme for this year’s Christmas Program. We hope you will join us on December 16 at 1:30pm\, 232 Fennell Avenue East.\nIf possible bring a bell so you can join us in ringing in the Christmas Season. \nThe Christmas Market was a great success in part due to Trinity’s faithful support of the LLU. Your donations and attendance were very much\nappreciated. Proceeds from the bazaar were approximately $3\,000 before expenses\, will again be donated to The Living Rock and Liberty for Youth. \nThe next regular LLU meeting will take place on February 17\, 2026.\nMany thanks for collecting Denninger receipts and milk bags throughout 2025.\nMerry Christmas and a blessed New Year.
URL:https://trinity-hamilton.com/event/lutheran-ladies-united-llu-3/
LOCATION:Trinity Lutheran Church Fennell Ave.\, 232 Fennell Ave. E\, Hamilton\, Ontario\, Canada
ATTACH;FMTTYPE=image/jpeg:https://trinity-hamilton.com/wp-content/uploads/2023/08/handbells-2793510_1280.jpg
END:VEVENT
END:VCALENDAR