BEGIN:VCALENDAR
VERSION:2.0
PRODID:-//Trinity Lutheran Church - ECPv6.15.20//NONSGML v1.0//EN
CALSCALE:GREGORIAN
METHOD:PUBLISH
X-ORIGINAL-URL:https://trinity-hamilton.com
X-WR-CALDESC:Events for Trinity Lutheran Church
REFRESH-INTERVAL;VALUE=DURATION:PT1H
X-Robots-Tag:noindex
X-PUBLISHED-TTL:PT1H
BEGIN:VTIMEZONE
TZID:America/Toronto
BEGIN:DAYLIGHT
TZOFFSETFROM:-0500
TZOFFSETTO:-0400
TZNAME:EDT
DTSTART:20240310T070000
END:DAYLIGHT
BEGIN:STANDARD
TZOFFSETFROM:-0400
TZOFFSETTO:-0500
TZNAME:EST
DTSTART:20241103T060000
END:STANDARD
BEGIN:DAYLIGHT
TZOFFSETFROM:-0500
TZOFFSETTO:-0400
TZNAME:EDT
DTSTART:20250309T070000
END:DAYLIGHT
BEGIN:STANDARD
TZOFFSETFROM:-0400
TZOFFSETTO:-0500
TZNAME:EST
DTSTART:20251102T060000
END:STANDARD
BEGIN:DAYLIGHT
TZOFFSETFROM:-0500
TZOFFSETTO:-0400
TZNAME:EDT
DTSTART:20260308T070000
END:DAYLIGHT
BEGIN:STANDARD
TZOFFSETFROM:-0400
TZOFFSETTO:-0500
TZNAME:EST
DTSTART:20261101T060000
END:STANDARD
END:VTIMEZONE
BEGIN:VEVENT
DTSTART;TZID=America/Toronto:20251220T140000
DTEND;TZID=America/Toronto:20251220T160000
DTSTAMP:20260423T082718
CREATED:20251117T225410Z
LAST-MODIFIED:20251118T170854Z
UID:5735-1766239200-1766246400@trinity-hamilton.com
SUMMARY:German Afternoon-Weihnachtsfeier
DESCRIPTION:Join us for Weihnachtsfeier. We will have a Christmas Celebration with a devotion\, stories and hymn singing\, all in German.
URL:https://trinity-hamilton.com/event/german-afternoon-2/
LOCATION:Trinity Lutheran Church Fennell Ave.\, 232 Fennell Ave. E\, Hamilton\, Ontario\, Canada
ATTACH;FMTTYPE=image/jpeg:https://trinity-hamilton.com/wp-content/uploads/2025/11/weihnachtsfeirer.jpg
END:VEVENT
END:VCALENDAR