BEGIN:VCALENDAR
VERSION:2.0
PRODID:-//Trinity Lutheran Church - ECPv6.15.20//NONSGML v1.0//EN
CALSCALE:GREGORIAN
METHOD:PUBLISH
X-ORIGINAL-URL:https://trinity-hamilton.com
X-WR-CALDESC:Events for Trinity Lutheran Church
REFRESH-INTERVAL;VALUE=DURATION:PT1H
X-Robots-Tag:noindex
X-PUBLISHED-TTL:PT1H
BEGIN:VTIMEZONE
TZID:America/Toronto
BEGIN:DAYLIGHT
TZOFFSETFROM:-0500
TZOFFSETTO:-0400
TZNAME:EDT
DTSTART:20240310T070000
END:DAYLIGHT
BEGIN:STANDARD
TZOFFSETFROM:-0400
TZOFFSETTO:-0500
TZNAME:EST
DTSTART:20241103T060000
END:STANDARD
BEGIN:DAYLIGHT
TZOFFSETFROM:-0500
TZOFFSETTO:-0400
TZNAME:EDT
DTSTART:20250309T070000
END:DAYLIGHT
BEGIN:STANDARD
TZOFFSETFROM:-0400
TZOFFSETTO:-0500
TZNAME:EST
DTSTART:20251102T060000
END:STANDARD
BEGIN:DAYLIGHT
TZOFFSETFROM:-0500
TZOFFSETTO:-0400
TZNAME:EDT
DTSTART:20260308T070000
END:DAYLIGHT
BEGIN:STANDARD
TZOFFSETFROM:-0400
TZOFFSETTO:-0500
TZNAME:EST
DTSTART:20261101T060000
END:STANDARD
END:VTIMEZONE
BEGIN:VEVENT
DTSTART;TZID=America/Toronto:20251224T140000
DTEND;TZID=America/Toronto:20251224T150000
DTSTAMP:20260423T082740
CREATED:20251112T202644Z
LAST-MODIFIED:20251112T202705Z
UID:5669-1766584800-1766588400@trinity-hamilton.com
SUMMARY:Christmas Eve Worship Service
DESCRIPTION:Join us for Christmas Eve worship service. We are offering 3 different worship service times on December 24\, at 2:00 p.m.\, 5:00 p.m. and 7:00 p.m.
URL:https://trinity-hamilton.com/event/christmas-eve-worship-service/
LOCATION:Trinity Lutheran Church Fennell Ave.\, 232 Fennell Ave. E\, Hamilton\, Ontario\, Canada
ATTACH;FMTTYPE=image/jpeg:https://trinity-hamilton.com/wp-content/uploads/2024/11/christmas-tree-e1761159699953.jpg
END:VEVENT
BEGIN:VEVENT
DTSTART;TZID=America/Toronto:20251224T170000
DTEND;TZID=America/Toronto:20251224T180000
DTSTAMP:20260423T082740
CREATED:20251112T202855Z
LAST-MODIFIED:20251112T202855Z
UID:5671-1766595600-1766599200@trinity-hamilton.com
SUMMARY:Christmas Eve Worship Service
DESCRIPTION:Join us for Christmas Eve worship service. We are offering 3 different times on December 24 at 2:00 p.m.\, 5:00 p.m. and 7:00 p.m.
URL:https://trinity-hamilton.com/event/christmas-eve-worship-service-2/
LOCATION:Trinity Lutheran Church Fennell Ave.\, 232 Fennell Ave. E\, Hamilton\, Ontario\, Canada
ATTACH;FMTTYPE=image/jpeg:https://trinity-hamilton.com/wp-content/uploads/2024/11/christmas-tree-e1761159699953.jpg
END:VEVENT
BEGIN:VEVENT
DTSTART;TZID=America/Toronto:20251224T190000
DTEND;TZID=America/Toronto:20251224T200000
DTSTAMP:20260423T082740
CREATED:20251112T203007Z
LAST-MODIFIED:20251112T203007Z
UID:5673-1766602800-1766606400@trinity-hamilton.com
SUMMARY:Christmas Eve Worship Service
DESCRIPTION:Join us for Christmas Eve worship service. We are offering 3 different times on December 24 at 2:00 p.m.\, 5:00 p.m. and 7:00 p.m.
URL:https://trinity-hamilton.com/event/christmas-eve-worship-service-3/
LOCATION:Trinity Lutheran Church Fennell Ave.\, 232 Fennell Ave. E\, Hamilton\, Ontario\, Canada
ATTACH;FMTTYPE=image/jpeg:https://trinity-hamilton.com/wp-content/uploads/2024/11/christmas-tree-e1761159699953.jpg
END:VEVENT
END:VCALENDAR