BEGIN:VCALENDAR
VERSION:2.0
PRODID:-//Trinity Lutheran Church - ECPv6.15.20//NONSGML v1.0//EN
CALSCALE:GREGORIAN
METHOD:PUBLISH
X-ORIGINAL-URL:https://trinity-hamilton.com
X-WR-CALDESC:Events for Trinity Lutheran Church
REFRESH-INTERVAL;VALUE=DURATION:PT1H
X-Robots-Tag:noindex
X-PUBLISHED-TTL:PT1H
BEGIN:VTIMEZONE
TZID:America/Toronto
BEGIN:DAYLIGHT
TZOFFSETFROM:-0500
TZOFFSETTO:-0400
TZNAME:EDT
DTSTART:20250309T070000
END:DAYLIGHT
BEGIN:STANDARD
TZOFFSETFROM:-0400
TZOFFSETTO:-0500
TZNAME:EST
DTSTART:20251102T060000
END:STANDARD
BEGIN:DAYLIGHT
TZOFFSETFROM:-0500
TZOFFSETTO:-0400
TZNAME:EDT
DTSTART:20260308T070000
END:DAYLIGHT
BEGIN:STANDARD
TZOFFSETFROM:-0400
TZOFFSETTO:-0500
TZNAME:EST
DTSTART:20261101T060000
END:STANDARD
BEGIN:DAYLIGHT
TZOFFSETFROM:-0500
TZOFFSETTO:-0400
TZNAME:EDT
DTSTART:20270314T070000
END:DAYLIGHT
BEGIN:STANDARD
TZOFFSETFROM:-0400
TZOFFSETTO:-0500
TZNAME:EST
DTSTART:20271107T060000
END:STANDARD
END:VTIMEZONE
BEGIN:VEVENT
DTSTART;TZID=America/Toronto:20260109T170000
DTEND;TZID=America/Toronto:20260109T190000
DTSTAMP:20260423T070138
CREATED:20251118T164714Z
LAST-MODIFIED:20251118T164714Z
UID:5785-1767978000-1767985200@trinity-hamilton.com
SUMMARY:Confirmation Class
DESCRIPTION:Confirmation class is an opportunity to reflect on faith-related questions in an open and non-judgmental atmosphere.\nWe see confirmation as a starting point for being involved in the congregation. Our classes run for two years (September to April) and end with confirmation on Palm Sunday of the second year. \nCome and join us to find out more about God and life.
URL:https://trinity-hamilton.com/event/confirmation-class-6/
LOCATION:Trinity Lutheran Church Fennell Ave.\, 232 Fennell Ave. E\, Hamilton\, Ontario\, Canada
ATTACH;FMTTYPE=image/png:https://trinity-hamilton.com/wp-content/uploads/2023/08/confirmation.png
END:VEVENT
END:VCALENDAR