BEGIN:VCALENDAR
VERSION:2.0
PRODID:-//Trinity Lutheran Church - ECPv6.15.20//NONSGML v1.0//EN
CALSCALE:GREGORIAN
METHOD:PUBLISH
X-ORIGINAL-URL:https://trinity-hamilton.com
X-WR-CALDESC:Events for Trinity Lutheran Church
REFRESH-INTERVAL;VALUE=DURATION:PT1H
X-Robots-Tag:noindex
X-PUBLISHED-TTL:PT1H
BEGIN:VTIMEZONE
TZID:America/Toronto
BEGIN:DAYLIGHT
TZOFFSETFROM:-0500
TZOFFSETTO:-0400
TZNAME:EDT
DTSTART:20250309T070000
END:DAYLIGHT
BEGIN:STANDARD
TZOFFSETFROM:-0400
TZOFFSETTO:-0500
TZNAME:EST
DTSTART:20251102T060000
END:STANDARD
BEGIN:DAYLIGHT
TZOFFSETFROM:-0500
TZOFFSETTO:-0400
TZNAME:EDT
DTSTART:20260308T070000
END:DAYLIGHT
BEGIN:STANDARD
TZOFFSETFROM:-0400
TZOFFSETTO:-0500
TZNAME:EST
DTSTART:20261101T060000
END:STANDARD
BEGIN:DAYLIGHT
TZOFFSETFROM:-0500
TZOFFSETTO:-0400
TZNAME:EDT
DTSTART:20270314T070000
END:DAYLIGHT
BEGIN:STANDARD
TZOFFSETFROM:-0400
TZOFFSETTO:-0500
TZNAME:EST
DTSTART:20271107T060000
END:STANDARD
END:VTIMEZONE
BEGIN:VEVENT
DTSTART;TZID=America/Toronto:20260129T113000
DTEND;TZID=America/Toronto:20260129T123000
DTSTAMP:20260423T070624
CREATED:20251118T162538Z
LAST-MODIFIED:20251118T162538Z
UID:5762-1769686200-1769689800@trinity-hamilton.com
SUMMARY:Mid-Week Service
DESCRIPTION:Mid-Week service takes place on Thursdays at 11:30 a.m. Trinity offers a short mid-week service with Holy Communion at 232 Fennell Ave. East. You are welcome to bring a bag lunch for fellowship after the service.
URL:https://trinity-hamilton.com/event/mid-week-service-25/
LOCATION:Trinity Lutheran Church Fennell Ave.\, 232 Fennell Ave. E\, Hamilton\, Ontario\, Canada
ATTACH;FMTTYPE=image/jpeg:https://trinity-hamilton.com/wp-content/uploads/2024/06/Jordan-Trinity-copy2.jpg
END:VEVENT
BEGIN:VEVENT
DTSTART;TZID=America/Toronto:20260129T190000
DTEND;TZID=America/Toronto:20260129T203000
DTSTAMP:20260423T070624
CREATED:20251118T163346Z
LAST-MODIFIED:20260112T005303Z
UID:5771-1769713200-1769718600@trinity-hamilton.com
SUMMARY:Choir- Worship God with Music
DESCRIPTION:Come and find out about Trinity’s Choir and Worship God with Music! Whether contemporary\, traditional or global music is your favourite\, there’s always a way to musically enhance our worship. This is for singers and players of all instruments. \nContact Heide at heide.lang@gmail.com or 905-616-2575. Choir practices are held at 232 Fennell Ave. E.
URL:https://trinity-hamilton.com/event/choir-worship-god-with-music-18/
LOCATION:Trinity Lutheran Church Fennell Ave.\, 232 Fennell Ave. E\, Hamilton\, Ontario\, Canada
ATTACH;FMTTYPE=image/jpeg:https://trinity-hamilton.com/wp-content/uploads/2024/09/choir2-e1741894349692.jpg
END:VEVENT
END:VCALENDAR