BEGIN:VCALENDAR
VERSION:2.0
PRODID:-//Trinity Lutheran Church - ECPv6.15.20//NONSGML v1.0//EN
CALSCALE:GREGORIAN
METHOD:PUBLISH
X-WR-CALNAME:Trinity Lutheran Church
X-ORIGINAL-URL:https://trinity-hamilton.com
X-WR-CALDESC:Events for Trinity Lutheran Church
REFRESH-INTERVAL;VALUE=DURATION:PT1H
X-Robots-Tag:noindex
X-PUBLISHED-TTL:PT1H
BEGIN:VTIMEZONE
TZID:America/Toronto
BEGIN:DAYLIGHT
TZOFFSETFROM:-0500
TZOFFSETTO:-0400
TZNAME:EDT
DTSTART:20250309T070000
END:DAYLIGHT
BEGIN:STANDARD
TZOFFSETFROM:-0400
TZOFFSETTO:-0500
TZNAME:EST
DTSTART:20251102T060000
END:STANDARD
BEGIN:DAYLIGHT
TZOFFSETFROM:-0500
TZOFFSETTO:-0400
TZNAME:EDT
DTSTART:20260308T070000
END:DAYLIGHT
BEGIN:STANDARD
TZOFFSETFROM:-0400
TZOFFSETTO:-0500
TZNAME:EST
DTSTART:20261101T060000
END:STANDARD
BEGIN:DAYLIGHT
TZOFFSETFROM:-0500
TZOFFSETTO:-0400
TZNAME:EDT
DTSTART:20270314T070000
END:DAYLIGHT
BEGIN:STANDARD
TZOFFSETFROM:-0400
TZOFFSETTO:-0500
TZNAME:EST
DTSTART:20271107T060000
END:STANDARD
END:VTIMEZONE
BEGIN:VEVENT
DTSTART;TZID=America/Toronto:20260207T100000
DTEND;TZID=America/Toronto:20260207T113000
DTSTAMP:20260423T054505
CREATED:20260122T163229Z
LAST-MODIFIED:20260122T163229Z
UID:6142-1770458400-1770463800@trinity-hamilton.com
SUMMARY:Birdwatching Outing
DESCRIPTION:Saturday\, February 7\, 10:00 to 11:30 a.m. \nDesjardins Recreation Trail\, Hamilton \nSince forest trails can be snow-covered and icy during this time of year\, let’s do a birding outing on the Desjardins Recreation Trail that is flat and plowed. The flowing water of the Desjardins Canal tends to keep the water ice-free there\, attracting a variety of waterfowl. If we’re lucky\, one of our resident Bald Eagles might fly by. We’ll be parking at the Princess Point parking lot and the RBG charges for parking there at $3/hour (free if you have a displayed RBG pass). Carpooling can be arranged. \nWhether you are an experienced birder or a novice\, join Debbie Lindeman and Dennis Price at 10:00 a.m. for a morning of birding and nature appreciation.  Please bring binoculars if you have them. \nPlease email Debbie at deborahlindeman3@gmail.com or call at (905) 389-0224 if you would like to participate.
URL:https://trinity-hamilton.com/event/birdwatching-outing/
LOCATION:Desjardins Recreation Trail\, Hamilton\, 335 Longwood Rd N\, Hamilton\, Ontario\, L8S 3R8\, Canada
ATTACH;FMTTYPE=image/jpeg:https://trinity-hamilton.com/wp-content/uploads/2023/09/binocular-copy.jpg
END:VEVENT
BEGIN:VEVENT
DTSTART;TZID=America/Toronto:20260207T140000
DTEND;TZID=America/Toronto:20260207T160000
DTSTAMP:20260423T054505
CREATED:20260115T204618Z
LAST-MODIFIED:20260125T194643Z
UID:6063-1770472800-1770480000@trinity-hamilton.com
SUMMARY:German Afternoon
DESCRIPTION:Join us for German afternoon at 232 Fennell Ave. East.
URL:https://trinity-hamilton.com/event/german-afternoon-3/
LOCATION:Trinity Lutheran Church Fennell Ave.\, 232 Fennell Ave. E\, Hamilton\, Ontario\, Canada
END:VEVENT
END:VCALENDAR