BEGIN:VCALENDAR
VERSION:2.0
PRODID:-//Trinity Lutheran Church - ECPv6.15.20//NONSGML v1.0//EN
CALSCALE:GREGORIAN
METHOD:PUBLISH
X-WR-CALNAME:Trinity Lutheran Church
X-ORIGINAL-URL:https://trinity-hamilton.com
X-WR-CALDESC:Events for Trinity Lutheran Church
REFRESH-INTERVAL;VALUE=DURATION:PT1H
X-Robots-Tag:noindex
X-PUBLISHED-TTL:PT1H
BEGIN:VTIMEZONE
TZID:America/Toronto
BEGIN:DAYLIGHT
TZOFFSETFROM:-0500
TZOFFSETTO:-0400
TZNAME:EDT
DTSTART:20250309T070000
END:DAYLIGHT
BEGIN:STANDARD
TZOFFSETFROM:-0400
TZOFFSETTO:-0500
TZNAME:EST
DTSTART:20251102T060000
END:STANDARD
BEGIN:DAYLIGHT
TZOFFSETFROM:-0500
TZOFFSETTO:-0400
TZNAME:EDT
DTSTART:20260308T070000
END:DAYLIGHT
BEGIN:STANDARD
TZOFFSETFROM:-0400
TZOFFSETTO:-0500
TZNAME:EST
DTSTART:20261101T060000
END:STANDARD
BEGIN:DAYLIGHT
TZOFFSETFROM:-0500
TZOFFSETTO:-0400
TZNAME:EDT
DTSTART:20270314T070000
END:DAYLIGHT
BEGIN:STANDARD
TZOFFSETFROM:-0400
TZOFFSETTO:-0500
TZNAME:EST
DTSTART:20271107T060000
END:STANDARD
END:VTIMEZONE
BEGIN:VEVENT
DTSTART;TZID=America/Toronto:20260226T113000
DTEND;TZID=America/Toronto:20260226T123000
DTSTAMP:20260423T054512
CREATED:20260119T231200Z
LAST-MODIFIED:20260119T231200Z
UID:6086-1772105400-1772109000@trinity-hamilton.com
SUMMARY:Lenten Devotions
DESCRIPTION:Please join us for Lenten Devotions at 11:30 a.m.
URL:https://trinity-hamilton.com/event/lenten-devotions/
LOCATION:Trinity Lutheran Church Fennell Ave.\, 232 Fennell Ave. E\, Hamilton\, Ontario\, Canada
ATTACH;FMTTYPE=image/jpeg:https://trinity-hamilton.com/wp-content/uploads/2023/02/holy-week-the-time-of-lent-hand-illustration-vector-copy-e1768864362516.jpg
END:VEVENT
BEGIN:VEVENT
DTSTART;TZID=America/Toronto:20260226T180000
DTEND;TZID=America/Toronto:20260226T190000
DTSTAMP:20260423T054512
CREATED:20260119T232053Z
LAST-MODIFIED:20260119T232053Z
UID:6096-1772128800-1772132400@trinity-hamilton.com
SUMMARY:Soup Supper
DESCRIPTION:Please join us for a soup supper at 6:00 p.m. with Lenten Devotions to follow at 7:00 p.m.
URL:https://trinity-hamilton.com/event/soup-supper/
LOCATION:Trinity Lutheran Church Fennell Ave.\, 232 Fennell Ave. E\, Hamilton\, Ontario\, Canada
ATTACH;FMTTYPE=image/jpeg:https://trinity-hamilton.com/wp-content/uploads/2023/09/soup-e1768865003319.jpg
END:VEVENT
BEGIN:VEVENT
DTSTART;TZID=America/Toronto:20260226T190000
DTEND;TZID=America/Toronto:20260226T200000
DTSTAMP:20260423T054512
CREATED:20260112T005843Z
LAST-MODIFIED:20260112T005843Z
UID:6016-1772132400-1772136000@trinity-hamilton.com
SUMMARY:Choir- Worship God with Music
DESCRIPTION:Come and find out about Trinity’s Choir and Worship God with Music! Whether contemporary\, traditional or global music is your favourite\, there’s always a way to musically enhance our worship. This is for singers and players of all instruments. \nContact Heide at heide.lang@gmail.com or 905-616-2575. Choir practices are held at 232 Fennell Ave. E.
URL:https://trinity-hamilton.com/event/choir-worship-god-with-music-21/
LOCATION:Trinity Lutheran Church Fennell Ave.\, 232 Fennell Ave. E\, Hamilton\, Ontario\, Canada
ATTACH;FMTTYPE=image/jpeg:https://trinity-hamilton.com/wp-content/uploads/2023/06/choir5-e1747834867752.jpg
END:VEVENT
BEGIN:VEVENT
DTSTART;TZID=America/Toronto:20260226T190000
DTEND;TZID=America/Toronto:20260226T200000
DTSTAMP:20260423T054512
CREATED:20260120T164756Z
LAST-MODIFIED:20260120T164756Z
UID:6110-1772132400-1772136000@trinity-hamilton.com
SUMMARY:Lenten Devotions
DESCRIPTION:Please join us for Lenten Devotions at 7:00 p.m.
URL:https://trinity-hamilton.com/event/lenten-devotions-6/
LOCATION:Trinity Lutheran Church Fennell Ave.\, 232 Fennell Ave. E\, Hamilton\, Ontario\, Canada
ATTACH;FMTTYPE=image/jpeg:https://trinity-hamilton.com/wp-content/uploads/2023/02/holy-week-the-time-of-lent-hand-illustration-vector-copy-e1768864362516.jpg
END:VEVENT
END:VCALENDAR