BEGIN:VCALENDAR
VERSION:2.0
PRODID:-//Trinity Lutheran Church - ECPv6.15.20//NONSGML v1.0//EN
CALSCALE:GREGORIAN
METHOD:PUBLISH
X-WR-CALNAME:Trinity Lutheran Church
X-ORIGINAL-URL:https://trinity-hamilton.com
X-WR-CALDESC:Events for Trinity Lutheran Church
REFRESH-INTERVAL;VALUE=DURATION:PT1H
X-Robots-Tag:noindex
X-PUBLISHED-TTL:PT1H
BEGIN:VTIMEZONE
TZID:America/Toronto
BEGIN:DAYLIGHT
TZOFFSETFROM:-0500
TZOFFSETTO:-0400
TZNAME:EDT
DTSTART:20250309T070000
END:DAYLIGHT
BEGIN:STANDARD
TZOFFSETFROM:-0400
TZOFFSETTO:-0500
TZNAME:EST
DTSTART:20251102T060000
END:STANDARD
BEGIN:DAYLIGHT
TZOFFSETFROM:-0500
TZOFFSETTO:-0400
TZNAME:EDT
DTSTART:20260308T070000
END:DAYLIGHT
BEGIN:STANDARD
TZOFFSETFROM:-0400
TZOFFSETTO:-0500
TZNAME:EST
DTSTART:20261101T060000
END:STANDARD
BEGIN:DAYLIGHT
TZOFFSETFROM:-0500
TZOFFSETTO:-0400
TZNAME:EDT
DTSTART:20270314T070000
END:DAYLIGHT
BEGIN:STANDARD
TZOFFSETFROM:-0400
TZOFFSETTO:-0500
TZNAME:EST
DTSTART:20271107T060000
END:STANDARD
END:VTIMEZONE
BEGIN:VEVENT
DTSTART;TZID=America/Toronto:20260228T090000
DTEND;TZID=America/Toronto:20260228T103000
DTSTAMP:20260423T054513
CREATED:20260115T195647Z
LAST-MODIFIED:20260115T195647Z
UID:6046-1772269200-1772274600@trinity-hamilton.com
SUMMARY:Bibles and Bagels
DESCRIPTION:Bibles and Bagels women’s group meets for breakfast\, a discussion and fellowship (for about 90 minutes). It’s an opportunity to share and ask personal questions in a trustful atmosphere. Every month the conversation centers on a theme relevant to our lives. All are welcome – join us in-person or via zoom.
URL:https://trinity-hamilton.com/event/bibles-and-bagels-5/
LOCATION:Trinity Lutheran Church Fennell Ave.\, 232 Fennell Ave. E\, Hamilton\, Ontario\, Canada
ATTACH;FMTTYPE=image/jpeg:https://trinity-hamilton.com/wp-content/uploads/2023/02/Bagels-e1732749116300.jpg
END:VEVENT
BEGIN:VEVENT
DTSTART;TZID=America/Toronto:20260228T090000
DTEND;TZID=America/Toronto:20260228T103000
DTSTAMP:20260423T054513
CREATED:20260115T195747Z
LAST-MODIFIED:20260115T195747Z
UID:6048-1772269200-1772274600@trinity-hamilton.com
SUMMARY:Men's Breakfast
DESCRIPTION:Men’s breakfast is a hearty breakfast\, fellowship and thoughtful conversations. Join the men of Trinity from 9:00 a.m. to 10:30 a.m. In an informal setting we discuss a variety of topics from a Christian perspective. Sometimes guest presenters are asked to enlighten and challenge us! All men are welcome to join including non-members of Trinity.
URL:https://trinity-hamilton.com/event/mens-breakfast-5/
LOCATION:Trinity Lutheran Church Fennell Ave.\, 232 Fennell Ave. E\, Hamilton\, Ontario\, Canada
ATTACH;FMTTYPE=image/jpeg:https://trinity-hamilton.com/wp-content/uploads/2023/09/breakfast-copy2.jpg
END:VEVENT
END:VCALENDAR