BEGIN:VCALENDAR
VERSION:2.0
PRODID:-//Trinity Lutheran Church - ECPv6.15.20//NONSGML v1.0//EN
CALSCALE:GREGORIAN
METHOD:PUBLISH
X-ORIGINAL-URL:https://trinity-hamilton.com
X-WR-CALDESC:Events for Trinity Lutheran Church
REFRESH-INTERVAL;VALUE=DURATION:PT1H
X-Robots-Tag:noindex
X-PUBLISHED-TTL:PT1H
BEGIN:VTIMEZONE
TZID:America/Toronto
BEGIN:DAYLIGHT
TZOFFSETFROM:-0500
TZOFFSETTO:-0400
TZNAME:EDT
DTSTART:20250309T070000
END:DAYLIGHT
BEGIN:STANDARD
TZOFFSETFROM:-0400
TZOFFSETTO:-0500
TZNAME:EST
DTSTART:20251102T060000
END:STANDARD
BEGIN:DAYLIGHT
TZOFFSETFROM:-0500
TZOFFSETTO:-0400
TZNAME:EDT
DTSTART:20260308T070000
END:DAYLIGHT
BEGIN:STANDARD
TZOFFSETFROM:-0400
TZOFFSETTO:-0500
TZNAME:EST
DTSTART:20261101T060000
END:STANDARD
BEGIN:DAYLIGHT
TZOFFSETFROM:-0500
TZOFFSETTO:-0400
TZNAME:EDT
DTSTART:20270314T070000
END:DAYLIGHT
BEGIN:STANDARD
TZOFFSETFROM:-0400
TZOFFSETTO:-0500
TZNAME:EST
DTSTART:20271107T060000
END:STANDARD
END:VTIMEZONE
BEGIN:VEVENT
DTSTART;TZID=America/Toronto:20260325T140000
DTEND;TZID=America/Toronto:20260325T150000
DTSTAMP:20260423T042030
CREATED:20260120T172223Z
LAST-MODIFIED:20260120T172223Z
UID:6130-1774447200-1774450800@trinity-hamilton.com
SUMMARY:Lenten Devotions- Brantford
DESCRIPTION:Please join us for Lenten Devotions at 2:00 p.m. lead by Pastor Bethan Riehle-Jones.
URL:https://trinity-hamilton.com/event/lenten-devotions-brantford-5/
LOCATION:Faith Evangelical Lutheran Church Brantford\, 57 Brant Ave\,\, Brantford\, Ontario\, N3T 3G9\, Canada
ATTACH;FMTTYPE=image/jpeg:https://trinity-hamilton.com/wp-content/uploads/2023/02/holy-week-the-time-of-lent-hand-illustration-vector-copy-e1768864362516.jpg
END:VEVENT
END:VCALENDAR