BEGIN:VCALENDAR
VERSION:2.0
PRODID:-//Trinity Lutheran Church - ECPv6.15.20//NONSGML v1.0//EN
CALSCALE:GREGORIAN
METHOD:PUBLISH
X-ORIGINAL-URL:https://trinity-hamilton.com
X-WR-CALDESC:Events for Trinity Lutheran Church
REFRESH-INTERVAL;VALUE=DURATION:PT1H
X-Robots-Tag:noindex
X-PUBLISHED-TTL:PT1H
BEGIN:VTIMEZONE
TZID:America/Toronto
BEGIN:DAYLIGHT
TZOFFSETFROM:-0500
TZOFFSETTO:-0400
TZNAME:EDT
DTSTART:20250309T070000
END:DAYLIGHT
BEGIN:STANDARD
TZOFFSETFROM:-0400
TZOFFSETTO:-0500
TZNAME:EST
DTSTART:20251102T060000
END:STANDARD
BEGIN:DAYLIGHT
TZOFFSETFROM:-0500
TZOFFSETTO:-0400
TZNAME:EDT
DTSTART:20260308T070000
END:DAYLIGHT
BEGIN:STANDARD
TZOFFSETFROM:-0400
TZOFFSETTO:-0500
TZNAME:EST
DTSTART:20261101T060000
END:STANDARD
BEGIN:DAYLIGHT
TZOFFSETFROM:-0500
TZOFFSETTO:-0400
TZNAME:EDT
DTSTART:20270314T070000
END:DAYLIGHT
BEGIN:STANDARD
TZOFFSETFROM:-0400
TZOFFSETTO:-0500
TZNAME:EST
DTSTART:20271107T060000
END:STANDARD
END:VTIMEZONE
BEGIN:VEVENT
DTSTART;TZID=America/Toronto:20260502T093000
DTEND;TZID=America/Toronto:20260502T110000
DTSTAMP:20260423T030205
CREATED:20260418T183508Z
LAST-MODIFIED:20260418T183508Z
UID:6526-1777714200-1777719600@trinity-hamilton.com
SUMMARY:Let's Go Hiking
DESCRIPTION:Join us at Matt Broman Park\, on the Hamilton escarpment\, as we go for a scenic walk along the escarpment. The park offers a peaceful blend of natural beauty and quiet reflection\, where winding trails lead through mature trees and open clearings with glimpses of the city below.
URL:https://trinity-hamilton.com/event/lets-go-hiking/
LOCATION:Matt Broman Park\, 645 Mountain Brow Blvd.\, Hamilton\, ON\, Canada
ATTACH;FMTTYPE=image/png:https://trinity-hamilton.com/wp-content/uploads/2026/04/view-Matt-Broman-Park.png
END:VEVENT
END:VCALENDAR