BEGIN:VCALENDAR
VERSION:2.0
PRODID:-//Trinity Lutheran Church - ECPv6.15.20//NONSGML v1.0//EN
CALSCALE:GREGORIAN
METHOD:PUBLISH
X-WR-CALNAME:Trinity Lutheran Church
X-ORIGINAL-URL:https://trinity-hamilton.com
X-WR-CALDESC:Events for Trinity Lutheran Church
REFRESH-INTERVAL;VALUE=DURATION:PT1H
X-Robots-Tag:noindex
X-PUBLISHED-TTL:PT1H
BEGIN:VTIMEZONE
TZID:America/Toronto
BEGIN:DAYLIGHT
TZOFFSETFROM:-0500
TZOFFSETTO:-0400
TZNAME:EDT
DTSTART:20250309T070000
END:DAYLIGHT
BEGIN:STANDARD
TZOFFSETFROM:-0400
TZOFFSETTO:-0500
TZNAME:EST
DTSTART:20251102T060000
END:STANDARD
BEGIN:DAYLIGHT
TZOFFSETFROM:-0500
TZOFFSETTO:-0400
TZNAME:EDT
DTSTART:20260308T070000
END:DAYLIGHT
BEGIN:STANDARD
TZOFFSETFROM:-0400
TZOFFSETTO:-0500
TZNAME:EST
DTSTART:20261101T060000
END:STANDARD
BEGIN:DAYLIGHT
TZOFFSETFROM:-0500
TZOFFSETTO:-0400
TZNAME:EDT
DTSTART:20270314T070000
END:DAYLIGHT
BEGIN:STANDARD
TZOFFSETFROM:-0400
TZOFFSETTO:-0500
TZNAME:EST
DTSTART:20271107T060000
END:STANDARD
END:VTIMEZONE
BEGIN:VEVENT
DTSTART;TZID=America/Toronto:20260503T100000
DTEND;TZID=America/Toronto:20260503T110000
DTSTAMP:20260423T042712
CREATED:20260415T193903Z
LAST-MODIFIED:20260415T193903Z
UID:6447-1777802400-1777806000@trinity-hamilton.com
SUMMARY:Sunday Worship Service
DESCRIPTION:Learning together is an important part of Sunday School. It is a place to learn about God and his teachings. We offer Sunday School from September to June for children ages 3 to 12. Sunday school run parallel to the Sunday Worship service at 10.00 a.m. The children begin the morning in Sunday School and join the congregation in the sanctuary at communion.
URL:https://trinity-hamilton.com/event/sunday-worship-service-2/
LOCATION:Trinity Lutheran Church Fennell Ave.\, 232 Fennell Ave. E\, Hamilton\, Ontario\, Canada
ATTACH;FMTTYPE=image/jpeg:https://trinity-hamilton.com/wp-content/uploads/2024/06/Jordan-Trinity-copy2.jpg
END:VEVENT
BEGIN:VEVENT
DTSTART;TZID=America/Toronto:20260503T100000
DTEND;TZID=America/Toronto:20260503T110000
DTSTAMP:20260423T042712
CREATED:20260415T195236Z
LAST-MODIFIED:20260415T195236Z
UID:6464-1777802400-1777806000@trinity-hamilton.com
SUMMARY:Children's Activity
DESCRIPTION:For the remaining Sundays of the month the children are invited to join in the regular worship service. A children’s message and quiet independent activity will be provided for those in attendance.
URL:https://trinity-hamilton.com/event/childrens-activity/
LOCATION:Trinity Lutheran Church Fennell Ave.\, 232 Fennell Ave. E\, Hamilton\, Ontario\, Canada
ATTACH;FMTTYPE=image/jpeg:https://trinity-hamilton.com/wp-content/uploads/2023/04/P1144169-scaled-e1732748375643.jpg
END:VEVENT
BEGIN:VEVENT
DTSTART;TZID=America/Toronto:20260503T111500
DTEND;TZID=America/Toronto:20260503T121500
DTSTAMP:20260423T042712
CREATED:20260312T202253Z
LAST-MODIFIED:20260312T202253Z
UID:6387-1777806900-1777810500@trinity-hamilton.com
SUMMARY:Spring Bible Study: Our Confession of Faith: The Apostle’ Creed
DESCRIPTION:Sundays at 11:15 a.m. in-person and on Zoom. \nJoin us for one hour on Sunday following worship as we study the Apostles’ Creed and Luther’s instruction in the Small and Large Catechism. Over the course of six weeks we learn about how the church has used creeds and work on writing personal creeds of faith. \nContact Pastor Jordan for more information revjordansmith@gmail.com.
URL:https://trinity-hamilton.com/event/spring-bible-study-our-confession-of-faith-the-apostle-creed-3/
LOCATION:Trinity Lutheran Church Fennell Ave.\, 232 Fennell Ave. E\, Hamilton\, Ontario\, Canada
ATTACH;FMTTYPE=image/jpeg:https://trinity-hamilton.com/wp-content/uploads/2026/03/Bible-study.jpg
END:VEVENT
END:VCALENDAR