BEGIN:VCALENDAR
VERSION:2.0
PRODID:-//Trinity Lutheran Church - ECPv6.15.20//NONSGML v1.0//EN
CALSCALE:GREGORIAN
METHOD:PUBLISH
X-WR-CALNAME:Trinity Lutheran Church
X-ORIGINAL-URL:https://trinity-hamilton.com
X-WR-CALDESC:Events for Trinity Lutheran Church
REFRESH-INTERVAL;VALUE=DURATION:PT1H
X-Robots-Tag:noindex
X-PUBLISHED-TTL:PT1H
BEGIN:VTIMEZONE
TZID:America/Toronto
BEGIN:DAYLIGHT
TZOFFSETFROM:-0500
TZOFFSETTO:-0400
TZNAME:EDT
DTSTART:20240310T070000
END:DAYLIGHT
BEGIN:STANDARD
TZOFFSETFROM:-0400
TZOFFSETTO:-0500
TZNAME:EST
DTSTART:20241103T060000
END:STANDARD
BEGIN:DAYLIGHT
TZOFFSETFROM:-0500
TZOFFSETTO:-0400
TZNAME:EDT
DTSTART:20250309T070000
END:DAYLIGHT
BEGIN:STANDARD
TZOFFSETFROM:-0400
TZOFFSETTO:-0500
TZNAME:EST
DTSTART:20251102T060000
END:STANDARD
BEGIN:DAYLIGHT
TZOFFSETFROM:-0500
TZOFFSETTO:-0400
TZNAME:EDT
DTSTART:20260308T070000
END:DAYLIGHT
BEGIN:STANDARD
TZOFFSETFROM:-0400
TZOFFSETTO:-0500
TZNAME:EST
DTSTART:20261101T060000
END:STANDARD
END:VTIMEZONE
BEGIN:VEVENT
DTSTART;TZID=America/Toronto:20251029T190000
DTEND;TZID=America/Toronto:20251029T200000
DTSTAMP:20260423T115933
CREATED:20251011T183859Z
LAST-MODIFIED:20251011T184014Z
UID:5291-1761764400-1761768000@trinity-hamilton.com
SUMMARY:Worship & Music Committee Meeting
DESCRIPTION:Wednesday\, October 29\, 2025 at 7:00 pm on Zoom.
URL:https://trinity-hamilton.com/event/worship-music-committee-meeting/
LOCATION:Online
ATTACH;FMTTYPE=image/png:https://trinity-hamilton.com/wp-content/uploads/2023/08/music-notes-e1760207984947.png
END:VEVENT
BEGIN:VEVENT
DTSTART;TZID=America/Toronto:20251028T190000
DTEND;TZID=America/Toronto:20251028T203000
DTSTAMP:20260423T115933
CREATED:20250914T165740Z
LAST-MODIFIED:20250914T165740Z
UID:5171-1761678000-1761683400@trinity-hamilton.com
SUMMARY:Creation Care Group
DESCRIPTION:The Creation Care Group seeks a more sustainable lifestyle through a variety of activities. The Creation Care Group meets on the last Tuesday of the month for about 90 minutes.
URL:https://trinity-hamilton.com/event/creation-care-group-2/
LOCATION:Trinity Lutheran Church Fennell Ave.\, 232 Fennell Ave. E\, Hamilton\, Ontario\, Canada
ATTACH;FMTTYPE=image/jpeg:https://trinity-hamilton.com/wp-content/uploads/2023/04/CreationCare4-copy-e1757869043761.jpg
END:VEVENT
BEGIN:VEVENT
DTSTART;TZID=America/Toronto:20251028T100000
DTEND;TZID=America/Toronto:20251028T120000
DTSTAMP:20260423T115933
CREATED:20250914T201617Z
LAST-MODIFIED:20250914T201617Z
UID:5181-1761645600-1761652800@trinity-hamilton.com
SUMMARY:People's Café
DESCRIPTION:Everyone is welcome at the People’s Café on Tuesdays from 10:00 am to 12:00 pm. Refreshments and fellowship are offered. Come and make new friends or sit quietly by yourself. Our neighbours are also welcome to enjoy coffee and toast while sheltering from the weather. People wishing to volunteer to help with the program can contact Pastor Dani.
URL:https://trinity-hamilton.com/event/peoples-cafe-15/
LOCATION:Streetlight Church\, 82 Ferguson Street North\, Hamilton\, ON\, L8R 1L4\, Canada
ATTACH;FMTTYPE=image/jpeg:https://trinity-hamilton.com/wp-content/uploads/2023/11/group-friends-enjoying-coffee-copy.jpg
END:VEVENT
BEGIN:VEVENT
DTSTART;TZID=America/Toronto:20251027T093000
DTEND;TZID=America/Toronto:20251027T113000
DTSTAMP:20260423T115933
CREATED:20250927T190027Z
LAST-MODIFIED:20250927T190027Z
UID:5220-1761557400-1761564600@trinity-hamilton.com
SUMMARY:Friendship Circle
DESCRIPTION:The Friendship Circle Ladies meet on Mondays at Trinity at 232 Fennell Ave. E. Come and join the Friendship Circle ladies for fellowship and creativity. We quilt and work on other creative projects. No experience is necessary.\nThe Friendship Circle is also looking for cotton material for quilting\, lightweight towels to make washcloths and flannel (sheets) to make diapers. If you’re interested in joining\, want more information\, or if you have donations\, please contact Marie Stanat 289-919-0603.
URL:https://trinity-hamilton.com/event/friendship-circle-22/
LOCATION:Trinity Lutheran Church Fennell Ave.\, 232 Fennell Ave. E\, Hamilton\, Ontario\, Canada
ATTACH;FMTTYPE=image/jpeg:https://trinity-hamilton.com/wp-content/uploads/2024/04/circle.jpg
END:VEVENT
BEGIN:VEVENT
DTSTART;TZID=America/Toronto:20251026T100000
DTEND;TZID=America/Toronto:20251026T110000
DTSTAMP:20260423T115933
CREATED:20250927T191936Z
LAST-MODIFIED:20250927T192328Z
UID:5228-1761472800-1761476400@trinity-hamilton.com
SUMMARY:Sunday School
DESCRIPTION:Learning together is an important part of Sunday School. It is a place to learn about God and his teachings. We offer Sunday School from September to June for children ages 3 to 12. Sunday school runs parallel to the Sunday Worship service at 10.00 a.m.  Children begin the morning in Sunday School and join the congregation in the sanctuary at communion. For the remaining Sundays of the month\, the children are invited to join in the regular service.
URL:https://trinity-hamilton.com/event/sunday-school-3/
LOCATION:Trinity Lutheran Church Fennell Ave.\, 232 Fennell Ave. E\, Hamilton\, Ontario\, Canada
ATTACH;FMTTYPE=image/jpeg:https://trinity-hamilton.com/wp-content/uploads/2023/02/Children.jpg
END:VEVENT
BEGIN:VEVENT
DTSTART;TZID=America/Toronto:20251026T100000
DTEND;TZID=America/Toronto:20251026T110000
DTSTAMP:20260423T115933
CREATED:20250914T160826Z
LAST-MODIFIED:20250914T160826Z
UID:5139-1761472800-1761476400@trinity-hamilton.com
SUMMARY:Sunday Worship Service
DESCRIPTION:We offer in-person Sunday Worship service at our Fennell Avenue location. You may also watch our service through livestream on Zoom. Please contact the church office at 905 974-9878 for the link. A recording of the 10:00 am service will be posted on the Trinity Lutheran Church YouTube channel by the end of the day.
URL:https://trinity-hamilton.com/event/sunday-worship-service-6/
LOCATION:Trinity Lutheran Church Fennell Ave.\, 232 Fennell Ave. E\, Hamilton\, Ontario\, Canada
ATTACH;FMTTYPE=image/jpeg:https://trinity-hamilton.com/wp-content/uploads/2023/03/Pastor-Daniella2-e1744560996330.jpg
END:VEVENT
BEGIN:VEVENT
DTSTART;TZID=America/Toronto:20251025T090000
DTEND;TZID=America/Toronto:20251025T103000
DTSTAMP:20260423T115933
CREATED:20250914T165433Z
LAST-MODIFIED:20250914T165433Z
UID:5169-1761382800-1761388200@trinity-hamilton.com
SUMMARY:Men's Breakfast
DESCRIPTION:Men’s breakfast is a hearty breakfast\, fellowship and thoughtful conversations. Join the men of Trinity from 9:00 a.m. to 10:30 a.m. In an informal setting we discuss a variety of topics from a Christian perspective. Sometimes guest presenters are asked to enlighten and challenge us! All men are welcome to join including non-members of Trinity.
URL:https://trinity-hamilton.com/event/mens-breakfast-2/
LOCATION:Trinity Lutheran Church Fennell Ave.\, 232 Fennell Ave. E\, Hamilton\, Ontario\, Canada
ATTACH;FMTTYPE=image/jpeg:https://trinity-hamilton.com/wp-content/uploads/2023/09/breakfast-copy2.jpg
END:VEVENT
BEGIN:VEVENT
DTSTART;TZID=America/Toronto:20251025T090000
DTEND;TZID=America/Toronto:20251025T103000
DTSTAMP:20260423T115933
CREATED:20250914T165243Z
LAST-MODIFIED:20250914T165243Z
UID:5167-1761382800-1761388200@trinity-hamilton.com
SUMMARY:Bibles and Bagels
DESCRIPTION:Bibles and Bagels women’s group meets for breakfast\, a discussion and fellowship (for about 90 minutes). It’s an opportunity to share and ask personal questions in a trustful atmosphere. Every month the conversation centers on a theme relevant to our lives. All are welcome – join us in-person or via zoom.
URL:https://trinity-hamilton.com/event/bibles-and-bagels-2/
LOCATION:Trinity Lutheran Church Fennell Ave.\, 232 Fennell Ave. E\, Hamilton\, Ontario\, Canada
ATTACH;FMTTYPE=image/jpeg:https://trinity-hamilton.com/wp-content/uploads/2023/02/Bagels-e1732749116300.jpg
END:VEVENT
BEGIN:VEVENT
DTSTART;TZID=America/Toronto:20251023T190000
DTEND;TZID=America/Toronto:20251023T203000
DTSTAMP:20260423T115933
CREATED:20250916T205353Z
LAST-MODIFIED:20250916T205353Z
UID:5201-1761246000-1761251400@trinity-hamilton.com
SUMMARY:Choir- Worship God with Music
DESCRIPTION:Come and find out about Trinity’s Choir and Worship God with Music! Whether contemporary\, traditional or global music is your favourite\, there’s always a way to musically enhance our worship. This is for singers and players of all instruments. \nContact Heide at heide.lang@gmail.com or 905-616-2575. Choir practices are held at 232 Fennell Ave. E.
URL:https://trinity-hamilton.com/event/choir-worship-god-with-music-7/
LOCATION:Trinity Lutheran Church Fennell Ave.\, 232 Fennell Ave. E\, Hamilton\, Ontario\, Canada
ATTACH;FMTTYPE=image/jpeg:https://trinity-hamilton.com/wp-content/uploads/2024/09/choir3-e1747834766926.jpg
END:VEVENT
BEGIN:VEVENT
DTSTART;TZID=America/Toronto:20251023T113000
DTEND;TZID=America/Toronto:20251023T123000
DTSTAMP:20260423T115933
CREATED:20250914T162458Z
LAST-MODIFIED:20250914T162458Z
UID:5155-1761219000-1761222600@trinity-hamilton.com
SUMMARY:Mid-Week Service
DESCRIPTION:Mid-Week service takes place on Thursdays at 11:30 a.m. Trinity offers a short mid-week service with Holy Communion at 232 Fennell Ave. East. You are welcome to bring a bag lunch for fellowship after the service.
URL:https://trinity-hamilton.com/event/mid-week-service-9/
LOCATION:Trinity Lutheran Church Fennell Ave.\, 232 Fennell Ave. E\, Hamilton\, Ontario\, Canada
ATTACH;FMTTYPE=image/jpeg:https://trinity-hamilton.com/wp-content/uploads/2023/06/congregation-e1732747121525.jpg
END:VEVENT
END:VCALENDAR