BEGIN:VCALENDAR
VERSION:2.0
PRODID:-//Trinity Lutheran Church - ECPv6.15.20//NONSGML v1.0//EN
CALSCALE:GREGORIAN
METHOD:PUBLISH
X-WR-CALNAME:Trinity Lutheran Church
X-ORIGINAL-URL:https://trinity-hamilton.com
X-WR-CALDESC:Events for Trinity Lutheran Church
REFRESH-INTERVAL;VALUE=DURATION:PT1H
X-Robots-Tag:noindex
X-PUBLISHED-TTL:PT1H
BEGIN:VTIMEZONE
TZID:America/Toronto
BEGIN:DAYLIGHT
TZOFFSETFROM:-0500
TZOFFSETTO:-0400
TZNAME:EDT
DTSTART:20240310T070000
END:DAYLIGHT
BEGIN:STANDARD
TZOFFSETFROM:-0400
TZOFFSETTO:-0500
TZNAME:EST
DTSTART:20241103T060000
END:STANDARD
BEGIN:DAYLIGHT
TZOFFSETFROM:-0500
TZOFFSETTO:-0400
TZNAME:EDT
DTSTART:20250309T070000
END:DAYLIGHT
BEGIN:STANDARD
TZOFFSETFROM:-0400
TZOFFSETTO:-0500
TZNAME:EST
DTSTART:20251102T060000
END:STANDARD
BEGIN:DAYLIGHT
TZOFFSETFROM:-0500
TZOFFSETTO:-0400
TZNAME:EDT
DTSTART:20260308T070000
END:DAYLIGHT
BEGIN:STANDARD
TZOFFSETFROM:-0400
TZOFFSETTO:-0500
TZNAME:EST
DTSTART:20261101T060000
END:STANDARD
END:VTIMEZONE
BEGIN:VEVENT
DTSTART;TZID=America/Toronto:20251113T190000
DTEND;TZID=America/Toronto:20251113T203000
DTSTAMP:20260423T132034
CREATED:20251022T185059Z
LAST-MODIFIED:20251022T185059Z
UID:5533-1763060400-1763065800@trinity-hamilton.com
SUMMARY:Choir- Worship God with Music
DESCRIPTION:Come and find out about Trinity’s Choir and Worship God with Music! Whether contemporary\, traditional or global music is your favourite\, there’s always a way to musically enhance our worship. This is for singers and players of all instruments. \nContact Heide at heide.lang@gmail.com or 905-616-2575. Choir practices are held at 232 Fennell Ave. E.
URL:https://trinity-hamilton.com/event/choir-worship-god-with-music-10/
LOCATION:Trinity Lutheran Church Fennell Ave.\, 232 Fennell Ave. E\, Hamilton\, Ontario\, Canada
ATTACH;FMTTYPE=image/jpeg:https://trinity-hamilton.com/wp-content/uploads/2024/09/choir2-e1741894349692.jpg
END:VEVENT
BEGIN:VEVENT
DTSTART;TZID=America/Toronto:20251113T120000
DTEND;TZID=America/Toronto:20251113T143000
DTSTAMP:20260423T132034
CREATED:20251020T150511Z
LAST-MODIFIED:20251020T150832Z
UID:5489-1763035200-1763044200@trinity-hamilton.com
SUMMARY:Good Food Box
DESCRIPTION:Good Food Box pick up at Eucharist Church\, 130 Victoria Ave. N. between 12:00 and 2:30 p.m. \nTrinity’s Good Food Box Program runs from September to June on the second Thursday each month. \nFor $22 you will receive a bag of fruits and vegetables. Some financial help may be available. \nIf possible\, please bring your own bags. \nTo order a good food box\, please email Pastor Thomas at tfrm58@gmail.com. You can also access the online Good Food Box form to order online. \nPlease note that orders need to be received at least one week prior to the pick-up date and prepayment by etransfer to Trinity Lutheran Church.
URL:https://trinity-hamilton.com/event/good-food-box-7/
LOCATION:Eucharist Church\, 130 Victoria Ave. N.\, Hamilton\, ON\, L8L 5E5\, Canada
ATTACH;FMTTYPE=image/jpeg:https://trinity-hamilton.com/wp-content/uploads/2023/04/good-food-box-copy-e1732500715511.jpg
END:VEVENT
BEGIN:VEVENT
DTSTART;TZID=America/Toronto:20251113T113000
DTEND;TZID=America/Toronto:20251113T123000
DTSTAMP:20260423T132034
CREATED:20251020T145340Z
LAST-MODIFIED:20251020T145340Z
UID:5481-1763033400-1763037000@trinity-hamilton.com
SUMMARY:Mid-Week Service
DESCRIPTION:Mid-Week service takes place on Thursdays at 11:30 a.m. Trinity offers a short mid-week service with Holy Communion at 232 Fennell Ave. East. You are welcome to bring a bag lunch for fellowship after the service.
URL:https://trinity-hamilton.com/event/mid-week-service-12/
LOCATION:Trinity Lutheran Church Fennell Ave.\, 232 Fennell Ave. E\, Hamilton\, Ontario\, Canada
ATTACH;FMTTYPE=image/jpeg:https://trinity-hamilton.com/wp-content/uploads/2023/06/congregation-e1732747121525.jpg
END:VEVENT
BEGIN:VEVENT
DTSTART;TZID=America/Toronto:20251113T110000
DTEND;TZID=America/Toronto:20251113T160000
DTSTAMP:20260423T132034
CREATED:20251020T150723Z
LAST-MODIFIED:20251020T150723Z
UID:5491-1763031600-1763049600@trinity-hamilton.com
SUMMARY:Good Food Box
DESCRIPTION:Good Food Box pick up is at 232 Fennell Ave. East between 11:00 a.m. and 4:00 p.m. \nTrinity’s Good Food Box Program runs from September to June on the second Thursday each month. \nFor $22 you will receive a bag of fruits and vegetables. \nSome financial help may be available. If possible\, please bring your own bags. \nTo order a good food box\, please email Pastor Thomas at tfrm58@gmail.com. You can also access the online Good Food Box form to order online. \nPlease note that orders need to be received at least one week prior to the pick-up date and prepayment by etransfer to Trinity Lutheran Church.
URL:https://trinity-hamilton.com/event/good-food-box-8/
LOCATION:Trinity Lutheran Church Fennell Ave.\, 232 Fennell Ave. E\, Hamilton\, Ontario\, Canada
ATTACH;FMTTYPE=image/jpeg:https://trinity-hamilton.com/wp-content/uploads/2023/04/good-food-box-copy-e1732500715511.jpg
END:VEVENT
BEGIN:VEVENT
DTSTART;TZID=America/Toronto:20251111T100000
DTEND;TZID=America/Toronto:20251111T120000
DTSTAMP:20260423T132034
CREATED:20251021T200325Z
LAST-MODIFIED:20251021T200325Z
UID:5517-1762855200-1762862400@trinity-hamilton.com
SUMMARY:People's Café
DESCRIPTION:Everyone is welcome at the People’s Café on Tuesdays from 10:00 am to 12:00 pm. Refreshments and fellowship are offered. Come and make new friends or sit quietly by yourself. Our neighbours are also welcome to enjoy coffee and toast while sheltering from the weather. People wishing to volunteer to help with the program can contact Pastor Dani.
URL:https://trinity-hamilton.com/event/peoples-cafe-17/
LOCATION:Streetlight Church\, 82 Ferguson Street North\, Hamilton\, ON\, L8R 1L4\, Canada
ATTACH;FMTTYPE=image/jpeg:https://trinity-hamilton.com/wp-content/uploads/2024/01/alzheimer-cafe-low-res-e1741893245194.jpg
END:VEVENT
BEGIN:VEVENT
DTSTART;TZID=America/Toronto:20251110T093000
DTEND;TZID=America/Toronto:20251110T113000
DTSTAMP:20260423T132034
CREATED:20251022T184449Z
LAST-MODIFIED:20251022T184449Z
UID:5525-1762767000-1762774200@trinity-hamilton.com
SUMMARY:Friendship Circle
DESCRIPTION:The Friendship Circle Ladies meet on Mondays at Trinity at 232 Fennell Ave. E. Come and join the Friendship Circle ladies for fellowship and creativity. We quilt and work on other creative projects. No experience is necessary.\nThe Friendship Circle is also looking for cotton material for quilting\, lightweight towels to make washcloths and flannel (sheets) to make diapers. If you’re interested in joining\, want more information\, or if you have donations\, please contact Marie Stanat 289-919-0603.
URL:https://trinity-hamilton.com/event/friendship-circle-24/
LOCATION:Trinity Lutheran Church Fennell Ave.\, 232 Fennell Ave. E\, Hamilton\, Ontario\, Canada
ATTACH;FMTTYPE=image/jpeg:https://trinity-hamilton.com/wp-content/uploads/2024/04/circle.jpg
END:VEVENT
BEGIN:VEVENT
DTSTART;TZID=America/Toronto:20251109T100000
DTEND;TZID=America/Toronto:20251109T110000
DTSTAMP:20260423T132034
CREATED:20251020T225148Z
LAST-MODIFIED:20251020T225148Z
UID:5497-1762682400-1762686000@trinity-hamilton.com
SUMMARY:Sunday School
DESCRIPTION:Learning together is an important part of Sunday School. It is a place to learn about God and his teachings. We offer Sunday School from September to June for children ages 3 to 12. Sunday school run parallel to the Sunday Worship service at 10.00 a.m. The children begin the morning in Sunday School and join the congregation in the sanctuary at communion. \nSunday School includes bible stories\, crafts\, games\, and songs. Parents of younger children are welcome to join.
URL:https://trinity-hamilton.com/event/sunday-school-4/
LOCATION:Trinity Lutheran Church Fennell Ave.\, 232 Fennell Ave. E\, Hamilton\, Ontario\, Canada
ATTACH;FMTTYPE=image/jpeg:https://trinity-hamilton.com/wp-content/uploads/2023/06/SundaySchool-1-e1739737315196.jpg
END:VEVENT
BEGIN:VEVENT
DTSTART;TZID=America/Toronto:20251109T100000
DTEND;TZID=America/Toronto:20251109T110000
DTSTAMP:20260423T132034
CREATED:20251020T144609Z
LAST-MODIFIED:20251020T144609Z
UID:5471-1762682400-1762686000@trinity-hamilton.com
SUMMARY:Sunday Worship Service
DESCRIPTION:We offer in-person Sunday Worship service at our Fennell Avenue location. You may also watch our service through livestream on Zoom. Please contact the church office at 905 974-9878 for the link. A recording of the 10:00 am service will be posted on the Trinity Lutheran Church YouTube channel by the end of the day.
URL:https://trinity-hamilton.com/event/sunday-worship-service-19/
LOCATION:Trinity Lutheran Church Fennell Ave.\, 232 Fennell Ave. E\, Hamilton\, Ontario\, Canada
ATTACH;FMTTYPE=image/jpeg:https://trinity-hamilton.com/wp-content/uploads/2023/06/pastor-Daniella6-e1732747256780.jpg
END:VEVENT
BEGIN:VEVENT
DTSTART;TZID=America/Toronto:20251108T140000
DTEND;TZID=America/Toronto:20251108T163000
DTSTAMP:20260423T132034
CREATED:20250927T190714Z
LAST-MODIFIED:20250927T191012Z
UID:5222-1762610400-1762619400@trinity-hamilton.com
SUMMARY:Movie Afternoon
DESCRIPTION:We will watch and then discuss the movie “Luther” from 2003. It depicts the journey of Martin Luther\, a German monk who becomes disillusioned by corruption in the Catholic Church. Starting with his vow to become a monk after surviving a thunderstorm\, the film chronicles his spiritual struggles\, how he challenges to Church doctrine especially the sale of indulgences and his bold act of posting the 95 Theses and his subsequent exile. Undeterred\, Luther translates the Bible into German\, marries Katharina von Bora\, and inspires a movement that ignites the Protestant Reformation\, emphasizing faith and scripture for all believers. \nDiscussion to follow and coffee\, tea and snacks will be served. \n 
URL:https://trinity-hamilton.com/event/movie-afternoon/
LOCATION:Trinity Lutheran Church Fennell Ave.\, 232 Fennell Ave. E\, Hamilton\, Ontario\, Canada
ATTACH;FMTTYPE=image/png:https://trinity-hamilton.com/wp-content/uploads/2025/09/movie-reel-icon.png
END:VEVENT
BEGIN:VEVENT
DTSTART;TZID=America/Toronto:20251108T100000
DTEND;TZID=America/Toronto:20251108T113000
DTSTAMP:20260423T132034
CREATED:20251021T192716Z
LAST-MODIFIED:20251021T192716Z
UID:5502-1762596000-1762601400@trinity-hamilton.com
SUMMARY:Bird Watching Outing
DESCRIPTION:Saturday\, November 8th\, 10:00 to 11:30 a.m. \nPrincess Point Trail\, Royal Botanical Gardens \nPrincess Point Trail of the Royal Botanical Gardens offers a variety of habitats to attract migrating and resident birds\, including the shallow waters of Cootes Paradise\, the restored tall grass prairie on the peninsula\, and the surrounding forests.  There is a charge for parking there but is free if you have a displayed RBG pass.  Carpooling can be arranged. \nWhether you are an experienced birder or a novice\, join Debbie Lindeman and Dennis Price at 10:00 a.m. for a morning of birding and nature appreciation.  Please bring binoculars if you have them. \nPlease email Debbie at deborahlindeman3@gmail.com or call at (905) 389-0224 if you would like to participate.
URL:https://trinity-hamilton.com/event/bird-watching-outing/
LOCATION:Princess Point Trail\, RBG\, 335 Longwood Rd. N\, Hamilton\, L8S 3R8\, Canada
ATTACH;FMTTYPE=image/jpeg:https://trinity-hamilton.com/wp-content/uploads/2023/09/binocular-copy.jpg
END:VEVENT
BEGIN:VEVENT
DTSTART;TZID=America/Toronto:20251107T170000
DTEND;TZID=America/Toronto:20251107T190000
DTSTAMP:20260423T132034
CREATED:20250916T204540Z
LAST-MODIFIED:20251020T210604Z
UID:5191-1762534800-1762542000@trinity-hamilton.com
SUMMARY:Confirmation Class
DESCRIPTION:Confirmation class is an opportunity to reflect on faith-related questions in an open and non-judgmental atmosphere.\nWe see confirmation as a starting point for being involved in the congregation. Our classes run for two years (September to April) and end with confirmation on Palm Sunday of the second year. \nCome and join us to find out more about God and life.
URL:https://trinity-hamilton.com/event/confirmation-class-2/
LOCATION:Trinity Lutheran Church Fennell Ave.\, 232 Fennell Ave. E\, Hamilton\, Ontario\, Canada
ATTACH;FMTTYPE=image/png:https://trinity-hamilton.com/wp-content/uploads/2023/08/confirmation.png
END:VEVENT
BEGIN:VEVENT
DTSTART;TZID=America/Toronto:20251106T190000
DTEND;TZID=America/Toronto:20251106T203000
DTSTAMP:20260423T132034
CREATED:20251022T184951Z
LAST-MODIFIED:20251022T184951Z
UID:5531-1762455600-1762461000@trinity-hamilton.com
SUMMARY:Choir- Worship God with Music
DESCRIPTION:Come and find out about Trinity’s Choir and Worship God with Music! Whether contemporary\, traditional or global music is your favourite\, there’s always a way to musically enhance our worship. This is for singers and players of all instruments. \nContact Heide at heide.lang@gmail.com or 905-616-2575. Choir practices are held at 232 Fennell Ave. E.
URL:https://trinity-hamilton.com/event/choir-worship-god-with-music-9/
LOCATION:Trinity Lutheran Church Fennell Ave.\, 232 Fennell Ave. E\, Hamilton\, Ontario\, Canada
ATTACH;FMTTYPE=image/jpeg:https://trinity-hamilton.com/wp-content/uploads/2024/09/choir3-e1747834766926.jpg
END:VEVENT
BEGIN:VEVENT
DTSTART;TZID=America/Toronto:20251106T113000
DTEND;TZID=America/Toronto:20251106T123000
DTSTAMP:20260423T132034
CREATED:20251020T145232Z
LAST-MODIFIED:20251020T145232Z
UID:5479-1762428600-1762432200@trinity-hamilton.com
SUMMARY:Mid-Week Service
DESCRIPTION:Mid-Week service takes place on Thursdays at 11:30 a.m. Trinity offers a short mid-week service with Holy Communion at 232 Fennell Ave. East. You are welcome to bring a bag lunch for fellowship after the service.
URL:https://trinity-hamilton.com/event/mid-week-service-11/
LOCATION:Trinity Lutheran Church Fennell Ave.\, 232 Fennell Ave. E\, Hamilton\, Ontario\, Canada
ATTACH;FMTTYPE=image/jpeg:https://trinity-hamilton.com/wp-content/uploads/2023/06/congregation-e1732747121525.jpg
END:VEVENT
BEGIN:VEVENT
DTSTART;TZID=America/Toronto:20251106T080000
DTEND;TZID=America/Toronto:20251106T170000
DTSTAMP:20260423T132034
CREATED:20251020T150330Z
LAST-MODIFIED:20251020T150330Z
UID:5487-1762416000-1762448400@trinity-hamilton.com
SUMMARY:Deadline to order Good Food Box for November
DESCRIPTION:The deadline to order the October Good Food Box is today\, November 6. If you are interested in purchasing a Good Food Box\, from either of our locations\, orders need to be received at least one week prior to the pick-up date. The locations for pick-up are 232 Fennell Ave. East and 130 Victoria Avenue North. \nTrinity’s Good Food Box Program runs from September to June on the second Thursday each month. \nFor $22 you will receive a bag of fruit and vegetables. The pickup date is November 13. \nTo order a good food box\, please email Pastor Thomas at tfrm58@gmail.com. You can also access the online Good Food Box form to order online.
URL:https://trinity-hamilton.com/event/deadline-to-order-good-food-box-for-november/
LOCATION:Online
ATTACH;FMTTYPE=image/jpeg:https://trinity-hamilton.com/wp-content/uploads/2023/04/good-food-box-copy-e1732500715511.jpg
END:VEVENT
BEGIN:VEVENT
DTSTART;TZID=America/Toronto:20251104T190000
DTEND;TZID=America/Toronto:20251104T200000
DTSTAMP:20260423T132034
CREATED:20251020T211046Z
LAST-MODIFIED:20251020T211046Z
UID:5493-1762282800-1762286400@trinity-hamilton.com
SUMMARY:Newsletter Committee Meeting
DESCRIPTION:The Newsletter Committee meeting is on the first Tuesday of the month at 7:00 p.m. via Zoom. The Zoom link will be provided to committee members.
URL:https://trinity-hamilton.com/event/newsletter-committee-meeting-2/
LOCATION:Online
ATTACH;FMTTYPE=image/png:https://trinity-hamilton.com/wp-content/uploads/2023/06/newsletter.png
END:VEVENT
BEGIN:VEVENT
DTSTART;TZID=America/Toronto:20251104T100000
DTEND;TZID=America/Toronto:20251104T120000
DTSTAMP:20260423T132034
CREATED:20251021T200036Z
LAST-MODIFIED:20251021T200036Z
UID:5515-1762250400-1762257600@trinity-hamilton.com
SUMMARY:People's Café
DESCRIPTION:Everyone is welcome at the People’s Café on Tuesdays from 10:00 am to 12:00 pm. Refreshments and fellowship are offered. Come and make new friends or sit quietly by yourself. Our neighbours are also welcome to enjoy coffee and toast while sheltering from the weather. People wishing to volunteer to help with the program can contact Pastor Dani.
URL:https://trinity-hamilton.com/event/peoples-cafe-16/
LOCATION:Streetlight Church\, 82 Ferguson Street North\, Hamilton\, ON\, L8R 1L4\, Canada
ATTACH;FMTTYPE=image/jpeg:https://trinity-hamilton.com/wp-content/uploads/2023/09/peoples-cafe-coffee.jpg
END:VEVENT
BEGIN:VEVENT
DTSTART;TZID=America/Toronto:20251103T190000
DTEND;TZID=America/Toronto:20251103T200000
DTSTAMP:20260423T132034
CREATED:20251026T155011Z
LAST-MODIFIED:20251026T155011Z
UID:5548-1762196400-1762200000@trinity-hamilton.com
SUMMARY:Social Ministry Committee Meeting
DESCRIPTION:The Social Ministry Committee meeting is on Monday November 3 at 7:00 p.m. on Zoom. Members will receive the Zoom link.
URL:https://trinity-hamilton.com/event/social-ministry-committee-meeting/
LOCATION:Online
ATTACH;FMTTYPE=image/jpeg:https://trinity-hamilton.com/wp-content/uploads/2023/06/God-work-our-hands-copy2.jpg
END:VEVENT
BEGIN:VEVENT
DTSTART;TZID=America/Toronto:20251103T093000
DTEND;TZID=America/Toronto:20251103T113000
DTSTAMP:20260423T132034
CREATED:20251022T184340Z
LAST-MODIFIED:20251022T184340Z
UID:5523-1762162200-1762169400@trinity-hamilton.com
SUMMARY:Friendship Circle
DESCRIPTION:The Friendship Circle Ladies meet on Mondays at Trinity at 232 Fennell Ave. E. Come and join the Friendship Circle ladies for fellowship and creativity. We quilt and work on other creative projects. No experience is necessary.\nThe Friendship Circle is also looking for cotton material for quilting\, lightweight towels to make washcloths and flannel (sheets) to make diapers. If you’re interested in joining\, want more information\, or if you have donations\, please contact Marie Stanat 289-919-0603.
URL:https://trinity-hamilton.com/event/friendship-circle-23/
LOCATION:Trinity Lutheran Church Fennell Ave.\, 232 Fennell Ave. E\, Hamilton\, Ontario\, Canada
ATTACH;FMTTYPE=image/jpeg:https://trinity-hamilton.com/wp-content/uploads/2024/04/circle.jpg
END:VEVENT
BEGIN:VEVENT
DTSTART;TZID=America/Toronto:20251102T100000
DTEND;TZID=America/Toronto:20251102T110000
DTSTAMP:20260423T132034
CREATED:20251020T144453Z
LAST-MODIFIED:20251020T144453Z
UID:5469-1762077600-1762081200@trinity-hamilton.com
SUMMARY:Sunday Worship Service
DESCRIPTION:We offer in-person Sunday Worship service at our Fennell Avenue location. You may also watch our service through livestream on Zoom. Please contact the church office at 905 974-9878 for the link. A recording of the 10:00 am service will be posted on the Trinity Lutheran Church YouTube channel by the end of the day.
URL:https://trinity-hamilton.com/event/sunday-worship-service-7/
LOCATION:Trinity Lutheran Church Fennell Ave.\, 232 Fennell Ave. E\, Hamilton\, Ontario\, Canada
ATTACH;FMTTYPE=image/jpeg:https://trinity-hamilton.com/wp-content/uploads/2024/06/Jordan-Trinity-copy2.jpg
END:VEVENT
BEGIN:VEVENT
DTSTART;TZID=America/Toronto:20251030T190000
DTEND;TZID=America/Toronto:20251030T203000
DTSTAMP:20260423T132034
CREATED:20250916T205510Z
LAST-MODIFIED:20250916T205510Z
UID:5203-1761850800-1761856200@trinity-hamilton.com
SUMMARY:Choir- Worship God with Music
DESCRIPTION:Come and find out about Trinity’s Choir and Worship God with Music! Whether contemporary\, traditional or global music is your favourite\, there’s always a way to musically enhance our worship. This is for singers and players of all instruments. \nContact Heide at heide.lang@gmail.com or 905-616-2575. Choir practices are held at 232 Fennell Ave. E.
URL:https://trinity-hamilton.com/event/choir-worship-god-with-music-8/
LOCATION:Trinity Lutheran Church Fennell Ave.\, 232 Fennell Ave. E\, Hamilton\, Ontario\, Canada
ATTACH;FMTTYPE=image/jpeg:https://trinity-hamilton.com/wp-content/uploads/2024/09/choir3-e1747834766926.jpg
END:VEVENT
BEGIN:VEVENT
DTSTART;TZID=America/Toronto:20251030T113000
DTEND;TZID=America/Toronto:20251030T123000
DTSTAMP:20260423T132034
CREATED:20250914T162652Z
LAST-MODIFIED:20250914T162652Z
UID:5157-1761823800-1761827400@trinity-hamilton.com
SUMMARY:Mid-Week Service
DESCRIPTION:Mid-Week service takes place on Thursdays at 11:30 a.m. Trinity offers a short mid-week service with Holy Communion at 232 Fennell Ave. East. You are welcome to bring a bag lunch for fellowship after the service.
URL:https://trinity-hamilton.com/event/mid-week-service-10/
LOCATION:Trinity Lutheran Church Fennell Ave.\, 232 Fennell Ave. E\, Hamilton\, Ontario\, Canada
ATTACH;FMTTYPE=image/jpeg:https://trinity-hamilton.com/wp-content/uploads/2024/06/Jordan-Trinity-copy2.jpg
END:VEVENT
BEGIN:VEVENT
DTSTART;TZID=America/Toronto:20251029T190000
DTEND;TZID=America/Toronto:20251029T200000
DTSTAMP:20260423T132034
CREATED:20251011T183859Z
LAST-MODIFIED:20251011T184014Z
UID:5291-1761764400-1761768000@trinity-hamilton.com
SUMMARY:Worship & Music Committee Meeting
DESCRIPTION:Wednesday\, October 29\, 2025 at 7:00 pm on Zoom.
URL:https://trinity-hamilton.com/event/worship-music-committee-meeting/
LOCATION:Online
ATTACH;FMTTYPE=image/png:https://trinity-hamilton.com/wp-content/uploads/2023/08/music-notes-e1760207984947.png
END:VEVENT
BEGIN:VEVENT
DTSTART;TZID=America/Toronto:20251028T190000
DTEND;TZID=America/Toronto:20251028T203000
DTSTAMP:20260423T132034
CREATED:20250914T165740Z
LAST-MODIFIED:20250914T165740Z
UID:5171-1761678000-1761683400@trinity-hamilton.com
SUMMARY:Creation Care Group
DESCRIPTION:The Creation Care Group seeks a more sustainable lifestyle through a variety of activities. The Creation Care Group meets on the last Tuesday of the month for about 90 minutes.
URL:https://trinity-hamilton.com/event/creation-care-group-2/
LOCATION:Trinity Lutheran Church Fennell Ave.\, 232 Fennell Ave. E\, Hamilton\, Ontario\, Canada
ATTACH;FMTTYPE=image/jpeg:https://trinity-hamilton.com/wp-content/uploads/2023/04/CreationCare4-copy-e1757869043761.jpg
END:VEVENT
BEGIN:VEVENT
DTSTART;TZID=America/Toronto:20251028T100000
DTEND;TZID=America/Toronto:20251028T120000
DTSTAMP:20260423T132034
CREATED:20250914T201617Z
LAST-MODIFIED:20250914T201617Z
UID:5181-1761645600-1761652800@trinity-hamilton.com
SUMMARY:People's Café
DESCRIPTION:Everyone is welcome at the People’s Café on Tuesdays from 10:00 am to 12:00 pm. Refreshments and fellowship are offered. Come and make new friends or sit quietly by yourself. Our neighbours are also welcome to enjoy coffee and toast while sheltering from the weather. People wishing to volunteer to help with the program can contact Pastor Dani.
URL:https://trinity-hamilton.com/event/peoples-cafe-15/
LOCATION:Streetlight Church\, 82 Ferguson Street North\, Hamilton\, ON\, L8R 1L4\, Canada
ATTACH;FMTTYPE=image/jpeg:https://trinity-hamilton.com/wp-content/uploads/2023/11/group-friends-enjoying-coffee-copy.jpg
END:VEVENT
BEGIN:VEVENT
DTSTART;TZID=America/Toronto:20251027T093000
DTEND;TZID=America/Toronto:20251027T113000
DTSTAMP:20260423T132034
CREATED:20250927T190027Z
LAST-MODIFIED:20250927T190027Z
UID:5220-1761557400-1761564600@trinity-hamilton.com
SUMMARY:Friendship Circle
DESCRIPTION:The Friendship Circle Ladies meet on Mondays at Trinity at 232 Fennell Ave. E. Come and join the Friendship Circle ladies for fellowship and creativity. We quilt and work on other creative projects. No experience is necessary.\nThe Friendship Circle is also looking for cotton material for quilting\, lightweight towels to make washcloths and flannel (sheets) to make diapers. If you’re interested in joining\, want more information\, or if you have donations\, please contact Marie Stanat 289-919-0603.
URL:https://trinity-hamilton.com/event/friendship-circle-22/
LOCATION:Trinity Lutheran Church Fennell Ave.\, 232 Fennell Ave. E\, Hamilton\, Ontario\, Canada
ATTACH;FMTTYPE=image/jpeg:https://trinity-hamilton.com/wp-content/uploads/2024/04/circle.jpg
END:VEVENT
BEGIN:VEVENT
DTSTART;TZID=America/Toronto:20251026T100000
DTEND;TZID=America/Toronto:20251026T110000
DTSTAMP:20260423T132034
CREATED:20250927T191936Z
LAST-MODIFIED:20250927T192328Z
UID:5228-1761472800-1761476400@trinity-hamilton.com
SUMMARY:Sunday School
DESCRIPTION:Learning together is an important part of Sunday School. It is a place to learn about God and his teachings. We offer Sunday School from September to June for children ages 3 to 12. Sunday school runs parallel to the Sunday Worship service at 10.00 a.m.  Children begin the morning in Sunday School and join the congregation in the sanctuary at communion. For the remaining Sundays of the month\, the children are invited to join in the regular service.
URL:https://trinity-hamilton.com/event/sunday-school-3/
LOCATION:Trinity Lutheran Church Fennell Ave.\, 232 Fennell Ave. E\, Hamilton\, Ontario\, Canada
ATTACH;FMTTYPE=image/jpeg:https://trinity-hamilton.com/wp-content/uploads/2023/02/Children.jpg
END:VEVENT
BEGIN:VEVENT
DTSTART;TZID=America/Toronto:20251026T100000
DTEND;TZID=America/Toronto:20251026T110000
DTSTAMP:20260423T132034
CREATED:20250914T160826Z
LAST-MODIFIED:20250914T160826Z
UID:5139-1761472800-1761476400@trinity-hamilton.com
SUMMARY:Sunday Worship Service
DESCRIPTION:We offer in-person Sunday Worship service at our Fennell Avenue location. You may also watch our service through livestream on Zoom. Please contact the church office at 905 974-9878 for the link. A recording of the 10:00 am service will be posted on the Trinity Lutheran Church YouTube channel by the end of the day.
URL:https://trinity-hamilton.com/event/sunday-worship-service-6/
LOCATION:Trinity Lutheran Church Fennell Ave.\, 232 Fennell Ave. E\, Hamilton\, Ontario\, Canada
ATTACH;FMTTYPE=image/jpeg:https://trinity-hamilton.com/wp-content/uploads/2023/03/Pastor-Daniella2-e1744560996330.jpg
END:VEVENT
BEGIN:VEVENT
DTSTART;TZID=America/Toronto:20251025T090000
DTEND;TZID=America/Toronto:20251025T103000
DTSTAMP:20260423T132034
CREATED:20250914T165433Z
LAST-MODIFIED:20250914T165433Z
UID:5169-1761382800-1761388200@trinity-hamilton.com
SUMMARY:Men's Breakfast
DESCRIPTION:Men’s breakfast is a hearty breakfast\, fellowship and thoughtful conversations. Join the men of Trinity from 9:00 a.m. to 10:30 a.m. In an informal setting we discuss a variety of topics from a Christian perspective. Sometimes guest presenters are asked to enlighten and challenge us! All men are welcome to join including non-members of Trinity.
URL:https://trinity-hamilton.com/event/mens-breakfast-2/
LOCATION:Trinity Lutheran Church Fennell Ave.\, 232 Fennell Ave. E\, Hamilton\, Ontario\, Canada
ATTACH;FMTTYPE=image/jpeg:https://trinity-hamilton.com/wp-content/uploads/2023/09/breakfast-copy2.jpg
END:VEVENT
BEGIN:VEVENT
DTSTART;TZID=America/Toronto:20251025T090000
DTEND;TZID=America/Toronto:20251025T103000
DTSTAMP:20260423T132034
CREATED:20250914T165243Z
LAST-MODIFIED:20250914T165243Z
UID:5167-1761382800-1761388200@trinity-hamilton.com
SUMMARY:Bibles and Bagels
DESCRIPTION:Bibles and Bagels women’s group meets for breakfast\, a discussion and fellowship (for about 90 minutes). It’s an opportunity to share and ask personal questions in a trustful atmosphere. Every month the conversation centers on a theme relevant to our lives. All are welcome – join us in-person or via zoom.
URL:https://trinity-hamilton.com/event/bibles-and-bagels-2/
LOCATION:Trinity Lutheran Church Fennell Ave.\, 232 Fennell Ave. E\, Hamilton\, Ontario\, Canada
ATTACH;FMTTYPE=image/jpeg:https://trinity-hamilton.com/wp-content/uploads/2023/02/Bagels-e1732749116300.jpg
END:VEVENT
BEGIN:VEVENT
DTSTART;TZID=America/Toronto:20251023T190000
DTEND;TZID=America/Toronto:20251023T203000
DTSTAMP:20260423T132034
CREATED:20250916T205353Z
LAST-MODIFIED:20250916T205353Z
UID:5201-1761246000-1761251400@trinity-hamilton.com
SUMMARY:Choir- Worship God with Music
DESCRIPTION:Come and find out about Trinity’s Choir and Worship God with Music! Whether contemporary\, traditional or global music is your favourite\, there’s always a way to musically enhance our worship. This is for singers and players of all instruments. \nContact Heide at heide.lang@gmail.com or 905-616-2575. Choir practices are held at 232 Fennell Ave. E.
URL:https://trinity-hamilton.com/event/choir-worship-god-with-music-7/
LOCATION:Trinity Lutheran Church Fennell Ave.\, 232 Fennell Ave. E\, Hamilton\, Ontario\, Canada
ATTACH;FMTTYPE=image/jpeg:https://trinity-hamilton.com/wp-content/uploads/2024/09/choir3-e1747834766926.jpg
END:VEVENT
END:VCALENDAR