BEGIN:VCALENDAR
VERSION:2.0
PRODID:-//Trinity Lutheran Church - ECPv6.15.20//NONSGML v1.0//EN
CALSCALE:GREGORIAN
METHOD:PUBLISH
X-WR-CALNAME:Trinity Lutheran Church
X-ORIGINAL-URL:https://trinity-hamilton.com
X-WR-CALDESC:Events for Trinity Lutheran Church
REFRESH-INTERVAL;VALUE=DURATION:PT1H
X-Robots-Tag:noindex
X-PUBLISHED-TTL:PT1H
BEGIN:VTIMEZONE
TZID:America/Toronto
BEGIN:DAYLIGHT
TZOFFSETFROM:-0500
TZOFFSETTO:-0400
TZNAME:EDT
DTSTART:20250309T070000
END:DAYLIGHT
BEGIN:STANDARD
TZOFFSETFROM:-0400
TZOFFSETTO:-0500
TZNAME:EST
DTSTART:20251102T060000
END:STANDARD
BEGIN:DAYLIGHT
TZOFFSETFROM:-0500
TZOFFSETTO:-0400
TZNAME:EDT
DTSTART:20260308T070000
END:DAYLIGHT
BEGIN:STANDARD
TZOFFSETFROM:-0400
TZOFFSETTO:-0500
TZNAME:EST
DTSTART:20261101T060000
END:STANDARD
BEGIN:DAYLIGHT
TZOFFSETFROM:-0500
TZOFFSETTO:-0400
TZNAME:EDT
DTSTART:20270314T070000
END:DAYLIGHT
BEGIN:STANDARD
TZOFFSETFROM:-0400
TZOFFSETTO:-0500
TZNAME:EST
DTSTART:20271107T060000
END:STANDARD
END:VTIMEZONE
BEGIN:VEVENT
DTSTART;TZID=America/Toronto:20260514T110000
DTEND;TZID=America/Toronto:20260514T160000
DTSTAMP:20260423T071108
CREATED:20260415T200908Z
LAST-MODIFIED:20260415T200908Z
UID:6479-1778756400-1778774400@trinity-hamilton.com
SUMMARY:Good Food Box
DESCRIPTION:Good Food Box pick up is at 232 Fennell Ave. East between 11:00 a.m. and 4:00 p.m. \nTrinity’s Good Food Box Program runs from September to June on the second Thursday each month. \nFor $22 you will receive a bag of fruits and vegetables. \nSome financial help may be available. If possible\, please bring your own bags. \nTo order a good food box\, please email Pastor Thomas at tfrm58@gmail.com. You can also access the online Good Food Box form to order online. \nPlease note that orders need to be received at least one week prior to the pick-up date and prepayment by etransfer to Trinity Lutheran Church.
URL:https://trinity-hamilton.com/event/good-food-box-5/
LOCATION:Trinity Lutheran Church Fennell Ave.\, 232 Fennell Ave. E\, Hamilton\, Ontario\, Canada
ATTACH;FMTTYPE=image/jpeg:https://trinity-hamilton.com/wp-content/uploads/2023/04/good-food-box-copy-e1732500715511.jpg
END:VEVENT
BEGIN:VEVENT
DTSTART;TZID=America/Toronto:20260514T113000
DTEND;TZID=America/Toronto:20260514T123000
DTSTAMP:20260423T071108
CREATED:20260415T195951Z
LAST-MODIFIED:20260417T191457Z
UID:6472-1778758200-1778761800@trinity-hamilton.com
SUMMARY:Mid-Week Service
DESCRIPTION:Mid-Week service takes place on Thursdays at 11:30 a.m. Trinity offers a short mid-week service with Holy Communion at 232 Fennell Ave. East. You are welcome to bring a bag lunch for fellowship after the service.
URL:https://trinity-hamilton.com/event/mid-week-service-4/
LOCATION:Trinity Lutheran Church Fennell Ave.\, 232 Fennell Ave. E\, Hamilton\, Ontario\, Canada
ATTACH;FMTTYPE=image/jpeg:https://trinity-hamilton.com/wp-content/uploads/2023/06/pastor-Daniella6-e1732747256780.jpg
END:VEVENT
BEGIN:VEVENT
DTSTART;TZID=America/Toronto:20260514T120000
DTEND;TZID=America/Toronto:20260514T143000
DTSTAMP:20260423T071108
CREATED:20260415T201032Z
LAST-MODIFIED:20260415T201032Z
UID:6481-1778760000-1778769000@trinity-hamilton.com
SUMMARY:Good Food Box
DESCRIPTION:Good Food Box pick up at Eucharist Church\, 130 Victoria Ave. N. between 12:00 and 2:30 p.m. \nTrinity’s Good Food Box Program runs from September to June on the second Thursday each month. \nFor $22 you will receive a bag of fruits and vegetables. Some financial help may be available. \nIf possible\, please bring your own bags. \nTo order a good food box\, please email Pastor Thomas at tfrm58@gmail.com. You can also access the online Good Food Box form to order online. \nPlease note that orders need to be received at least one week prior to the pick-up date and prepayment by etransfer to Trinity Lutheran Church.
URL:https://trinity-hamilton.com/event/good-food-box-6/
LOCATION:Eucharist Church\, 130 Victoria Ave. N.\, Hamilton\, ON\, L8L 5E5\, Canada
ATTACH;FMTTYPE=image/jpeg:https://trinity-hamilton.com/wp-content/uploads/2023/04/good-food-box-copy-e1732500715511.jpg
END:VEVENT
BEGIN:VEVENT
DTSTART;TZID=America/Toronto:20260514T190000
DTEND;TZID=America/Toronto:20260514T203000
DTSTAMP:20260423T071108
CREATED:20260415T201809Z
LAST-MODIFIED:20260415T201809Z
UID:6488-1778785200-1778790600@trinity-hamilton.com
SUMMARY:Choir- Worship God with Music
DESCRIPTION:Come and find out about Trinity’s Choir and Worship God with Music! Whether contemporary\, traditional or global music is your favourite\, there’s always a way to musically enhance our worship. This is for singers and players of all instruments. \nContact Heide at heide.lang@gmail.com or 905-616-2575. Choir practices are held at 232 Fennell Ave. E.
URL:https://trinity-hamilton.com/event/choir-worship-god-with-music-4/
LOCATION:Trinity Lutheran Church Fennell Ave.\, 232 Fennell Ave. E\, Hamilton\, Ontario\, Canada
ATTACH;FMTTYPE=image/jpeg:https://trinity-hamilton.com/wp-content/uploads/2024/09/choir3-e1747834766926.jpg
END:VEVENT
BEGIN:VEVENT
DTSTART;TZID=America/Toronto:20260517T100000
DTEND;TZID=America/Toronto:20260517T110000
DTSTAMP:20260423T071108
CREATED:20260415T194415Z
LAST-MODIFIED:20260415T194415Z
UID:6453-1779012000-1779015600@trinity-hamilton.com
SUMMARY:Sunday Worship Service
DESCRIPTION:We offer in-person Sunday Worship service at our Fennell Avenue location. You may also watch our service through livestream on Zoom. Please contact the church office at 905 974-9878 for the link. A recording of the 10:00 am service will be posted on the Trinity Lutheran Church YouTube channel by the end of the day.
URL:https://trinity-hamilton.com/event/sunday-worship-service-4/
LOCATION:Trinity Lutheran Church Fennell Ave.\, 232 Fennell Ave. E\, Hamilton\, Ontario\, Canada
ATTACH;FMTTYPE=image/jpeg:https://trinity-hamilton.com/wp-content/uploads/2023/06/congregation-e1732747121525.jpg
END:VEVENT
BEGIN:VEVENT
DTSTART;TZID=America/Toronto:20260517T100000
DTEND;TZID=America/Toronto:20260517T110000
DTSTAMP:20260423T071108
CREATED:20260415T195408Z
LAST-MODIFIED:20260415T195408Z
UID:6466-1779012000-1779015600@trinity-hamilton.com
SUMMARY:Children's Activity
DESCRIPTION:For the remaining Sundays of the month the children are invited to join in the regular worship service. A children’s message and quiet independent activity will be provided for those in attendance.
URL:https://trinity-hamilton.com/event/childrens-activity-2/
LOCATION:Trinity Lutheran Church Fennell Ave.\, 232 Fennell Ave. E\, Hamilton\, Ontario\, Canada
ATTACH;FMTTYPE=image/jpeg:https://trinity-hamilton.com/wp-content/uploads/2023/04/Pastor-Dani4-e1732143221412.jpg
END:VEVENT
BEGIN:VEVENT
DTSTART;VALUE=DATE:20260518
DTEND;VALUE=DATE:20260519
DTSTAMP:20260423T071108
CREATED:20260418T181049Z
LAST-MODIFIED:20260418T181049Z
UID:6515-1779062400-1779148799@trinity-hamilton.com
SUMMARY:Victoria Day
DESCRIPTION:The office will be closed today.
URL:https://trinity-hamilton.com/event/victoria-day/
LOCATION:ON
END:VEVENT
BEGIN:VEVENT
DTSTART;TZID=America/Toronto:20260519T100000
DTEND;TZID=America/Toronto:20260519T120000
DTSTAMP:20260423T071108
CREATED:20260415T202616Z
LAST-MODIFIED:20260415T202616Z
UID:6498-1779184800-1779192000@trinity-hamilton.com
SUMMARY:People's Café
DESCRIPTION:Everyone is welcome at the People’s Café on Tuesdays from 10:00 am to 12:00 pm. Refreshments and fellowship are offered. Come and make new friends or sit quietly by yourself. Our neighbours are also welcome to enjoy coffee and toast while sheltering from the weather. People wishing to volunteer to help with the program can contact Pastor Dani.
URL:https://trinity-hamilton.com/event/peoples-cafe-11/
LOCATION:Streetlight Church\, 82 Ferguson Street North\, Hamilton\, ON\, L8R 1L4\, Canada
ATTACH;FMTTYPE=image/jpeg:https://trinity-hamilton.com/wp-content/uploads/2024/01/alzheimer-cafe-low-res-e1741893245194.jpg
END:VEVENT
BEGIN:VEVENT
DTSTART;TZID=America/Toronto:20260521T113000
DTEND;TZID=America/Toronto:20260521T123000
DTSTAMP:20260423T071108
CREATED:20260415T200406Z
LAST-MODIFIED:20260417T191639Z
UID:6475-1779363000-1779366600@trinity-hamilton.com
SUMMARY:Mid-Week Service
DESCRIPTION:Mid-Week service takes place on Thursdays at 11:30 a.m. Trinity offers a short mid-week service with Holy Communion at 232 Fennell Ave. East. You are welcome to bring a bag lunch for fellowship after the service.
URL:https://trinity-hamilton.com/event/mid-week-service-5/
LOCATION:Trinity Lutheran Church Fennell Ave.\, 232 Fennell Ave. E\, Hamilton\, Ontario\, Canada
ATTACH;FMTTYPE=image/jpeg:https://trinity-hamilton.com/wp-content/uploads/2023/06/congregation-e1732747121525.jpg
END:VEVENT
BEGIN:VEVENT
DTSTART;TZID=America/Toronto:20260521T190000
DTEND;TZID=America/Toronto:20260521T203000
DTSTAMP:20260423T071108
CREATED:20260415T201921Z
LAST-MODIFIED:20260415T201921Z
UID:6490-1779390000-1779395400@trinity-hamilton.com
SUMMARY:Choir- Worship God with Music
DESCRIPTION:Come and find out about Trinity’s Choir and Worship God with Music! Whether contemporary\, traditional or global music is your favourite\, there’s always a way to musically enhance our worship. This is for singers and players of all instruments. \nContact Heide at heide.lang@gmail.com or 905-616-2575. Choir practices are held at 232 Fennell Ave. E.
URL:https://trinity-hamilton.com/event/choir-worship-god-with-music-5/
LOCATION:Trinity Lutheran Church Fennell Ave.\, 232 Fennell Ave. E\, Hamilton\, Ontario\, Canada
ATTACH;FMTTYPE=image/jpeg:https://trinity-hamilton.com/wp-content/uploads/2024/09/choir2-e1741894349692.jpg
END:VEVENT
BEGIN:VEVENT
DTSTART;TZID=America/Toronto:20260524T100000
DTEND;TZID=America/Toronto:20260524T110000
DTSTAMP:20260423T071108
CREATED:20260415T194531Z
LAST-MODIFIED:20260418T181653Z
UID:6455-1779616800-1779620400@trinity-hamilton.com
SUMMARY:Sunday Worship Service and Music Sunday
DESCRIPTION:We offer in-person Sunday Worship service at our Fennell Avenue location. You may also watch our service through livestream on Zoom. Please contact the church office at 905 974-9878 for the link. A recording of the 10:00 am service will be posted on the Trinity Lutheran Church YouTube channel by the end of the day.
URL:https://trinity-hamilton.com/event/sunday-worship-service-17/
LOCATION:Trinity Lutheran Church Fennell Ave.\, 232 Fennell Ave. E\, Hamilton\, Ontario\, Canada
ATTACH;FMTTYPE=image/jpeg:https://trinity-hamilton.com/wp-content/uploads/2024/06/Jordan-Trinity-copy2.jpg
END:VEVENT
BEGIN:VEVENT
DTSTART;TZID=America/Toronto:20260524T100000
DTEND;TZID=America/Toronto:20260524T110000
DTSTAMP:20260423T071108
CREATED:20260415T195056Z
LAST-MODIFIED:20260415T195056Z
UID:6462-1779616800-1779620400@trinity-hamilton.com
SUMMARY:Sunday School
DESCRIPTION:Learning together is an important part of Sunday School. It is a place to learn about God and his teachings. We offer Sunday School from September to June for children ages 3 to 12. Sunday school run parallel to the Sunday Worship service at 10.00 a.m. The children begin the morning in Sunday School and join the congregation in the sanctuary at communion.
URL:https://trinity-hamilton.com/event/sunday-school-16/
LOCATION:Trinity Lutheran Church Fennell Ave.\, 232 Fennell Ave. E\, Hamilton\, Ontario\, Canada
ATTACH;FMTTYPE=image/jpeg:https://trinity-hamilton.com/wp-content/uploads/2023/02/Children.jpg
END:VEVENT
BEGIN:VEVENT
DTSTART;TZID=America/Toronto:20260524T111500
DTEND;TZID=America/Toronto:20260524T121500
DTSTAMP:20260423T071108
CREATED:20260312T202412Z
LAST-MODIFIED:20260312T202412Z
UID:6389-1779621300-1779624900@trinity-hamilton.com
SUMMARY:Spring Bible Study: Our Confession of Faith: The Apostle’ Creed
DESCRIPTION:Sundays at 11:15 a.m. in-person and on Zoom. \nJoin us for one hour on Sunday following worship as we study the Apostles’ Creed and Luther’s instruction in the Small and Large Catechism. Over the course of six weeks we learn about how the church has used creeds and work on writing personal creeds of faith.
URL:https://trinity-hamilton.com/event/spring-bible-study-our-confession-of-faith-the-apostle-creed-4/
LOCATION:Trinity Lutheran Church Fennell Ave.\, 232 Fennell Ave. E\, Hamilton\, Ontario\, Canada
ATTACH;FMTTYPE=image/jpeg:https://trinity-hamilton.com/wp-content/uploads/2026/03/Bible-study.jpg
END:VEVENT
BEGIN:VEVENT
DTSTART;TZID=America/Toronto:20260525T093000
DTEND;TZID=America/Toronto:20260525T110000
DTSTAMP:20260423T071108
CREATED:20260418T180753Z
LAST-MODIFIED:20260418T180753Z
UID:6513-1779701400-1779706800@trinity-hamilton.com
SUMMARY:Friendship Circle
DESCRIPTION:The Friendship Circle Ladies meet on Mondays at Trinity at 232 Fennell Ave. E. Come and join the Friendship Circle ladies for fellowship and creativity. We quilt and work on other creative projects. No experience is necessary.\nThe Friendship Circle is also looking for cotton material for quilting\, lightweight towels to make washcloths and flannel (sheets) to make diapers. If you’re interested in joining\, want more information\, or if you have donations\, please contact Marie Stanat 289-919-0603.
URL:https://trinity-hamilton.com/event/friendship-circle-16/
LOCATION:Trinity Lutheran Church Fennell Ave.\, 232 Fennell Ave. E\, Hamilton\, Ontario\, Canada
ATTACH;FMTTYPE=image/jpeg:https://trinity-hamilton.com/wp-content/uploads/2024/04/circle.jpg
END:VEVENT
BEGIN:VEVENT
DTSTART;TZID=America/Toronto:20260526T090000
DTEND;TZID=America/Toronto:20260526T103000
DTSTAMP:20260423T071108
CREATED:20251030T172455Z
LAST-MODIFIED:20251030T172455Z
UID:5580-1779786000-1779791400@trinity-hamilton.com
SUMMARY:Trinity Men's Breakfast- Golden Griddle
DESCRIPTION:The men of Trinity are invited to gather for breakfast and friendly conversation on the last Tuesday of each month\, at 9 a.m. We will meet at the Golden Griddle Restaurant\, 1119 Fennell Avenue East.  For more information\, please speak with Pastor Jordan.
URL:https://trinity-hamilton.com/event/trinity-mens-breakfast-golden-griddle-6/
LOCATION:Golden Griddle\, 1119 Fennell Ave.\, Hamilton\, Ontario\, L8T 1S2\, Canada
ATTACH;FMTTYPE=image/jpeg:https://trinity-hamilton.com/wp-content/uploads/2024/01/pancakes.jpg
END:VEVENT
BEGIN:VEVENT
DTSTART;TZID=America/Toronto:20260526T100000
DTEND;TZID=America/Toronto:20260526T120000
DTSTAMP:20260423T071108
CREATED:20260415T202748Z
LAST-MODIFIED:20260415T202748Z
UID:6500-1779789600-1779796800@trinity-hamilton.com
SUMMARY:People's Café
DESCRIPTION:Everyone is welcome at the People’s Café on Tuesdays from 10:00 am to 12:00 pm. Refreshments and fellowship are offered. Come and make new friends or sit quietly by yourself. Our neighbours are also welcome to enjoy coffee and toast while sheltering from the weather. People wishing to volunteer to help with the program can contact Pastor Dani.
URL:https://trinity-hamilton.com/event/peoples-cafe-12/
LOCATION:Streetlight Church\, 82 Ferguson Street North\, Hamilton\, ON\, L8R 1L4\, Canada
ATTACH;FMTTYPE=image/jpeg:https://trinity-hamilton.com/wp-content/uploads/2023/11/group-friends-enjoying-coffee-copy.jpg
END:VEVENT
BEGIN:VEVENT
DTSTART;TZID=America/Toronto:20260528T113000
DTEND;TZID=America/Toronto:20260528T123000
DTSTAMP:20260423T071108
CREATED:20260415T200514Z
LAST-MODIFIED:20260417T191714Z
UID:6477-1779967800-1779971400@trinity-hamilton.com
SUMMARY:Mid-Week Service
DESCRIPTION:Mid-Week service takes place on Thursdays at 11:30 a.m. Trinity offers a short mid-week service with Holy Communion at 232 Fennell Ave. East. You are welcome to bring a bag lunch for fellowship after the service.
URL:https://trinity-hamilton.com/event/mid-week-service-6/
LOCATION:Trinity Lutheran Church Fennell Ave.\, 232 Fennell Ave. E\, Hamilton\, Ontario\, Canada
ATTACH;FMTTYPE=image/jpeg:https://trinity-hamilton.com/wp-content/uploads/2024/06/Jordan-Trinity-copy2.jpg
END:VEVENT
BEGIN:VEVENT
DTSTART;TZID=America/Toronto:20260528T190000
DTEND;TZID=America/Toronto:20260528T203000
DTSTAMP:20260423T071108
CREATED:20260415T202031Z
LAST-MODIFIED:20260415T202031Z
UID:6492-1779994800-1780000200@trinity-hamilton.com
SUMMARY:Choir- Worship God with Music
DESCRIPTION:Come and find out about Trinity’s Choir and Worship God with Music! Whether contemporary\, traditional or global music is your favourite\, there’s always a way to musically enhance our worship. This is for singers and players of all instruments. \nContact Heide at heide.lang@gmail.com or 905-616-2575. Choir practices are held at 232 Fennell Ave. E.
URL:https://trinity-hamilton.com/event/choir-worship-god-with-music-29/
LOCATION:Trinity Lutheran Church Fennell Ave.\, 232 Fennell Ave. E\, Hamilton\, Ontario\, Canada
ATTACH;FMTTYPE=image/jpeg:https://trinity-hamilton.com/wp-content/uploads/2024/09/choir3-e1747834766926.jpg
END:VEVENT
BEGIN:VEVENT
DTSTART;TZID=America/Toronto:20260530T090000
DTEND;TZID=America/Toronto:20260530T103000
DTSTAMP:20260423T071108
CREATED:20260418T181402Z
LAST-MODIFIED:20260418T181402Z
UID:6517-1780131600-1780137000@trinity-hamilton.com
SUMMARY:Men's Breakfast
DESCRIPTION:Men’s breakfast is a hearty breakfast\, fellowship and thoughtful conversations. Join the men of Trinity from 9:00 a.m. to 10:30 a.m. In an informal setting we discuss a variety of topics from a Christian perspective. Sometimes guest presenters are asked to enlighten and challenge us! All men are welcome to join including non-members of Trinity.
URL:https://trinity-hamilton.com/event/mens-breakfast/
LOCATION:Trinity Lutheran Church Fennell Ave.\, 232 Fennell Ave. E\, Hamilton\, Ontario\, Canada
ATTACH;FMTTYPE=image/jpeg:https://trinity-hamilton.com/wp-content/uploads/2023/09/breakfast-copy2.jpg
END:VEVENT
BEGIN:VEVENT
DTSTART;TZID=America/Toronto:20260530T090000
DTEND;TZID=America/Toronto:20260530T103000
DTSTAMP:20260423T071108
CREATED:20260418T181612Z
LAST-MODIFIED:20260418T181612Z
UID:6519-1780131600-1780137000@trinity-hamilton.com
SUMMARY:Bibles and Bagels
DESCRIPTION:Bibles and Bagels women’s group meets for breakfast\, a discussion and fellowship (for about 90 minutes). It’s an opportunity to share and ask personal questions in a trustful atmosphere. Every month the conversation centers on a theme relevant to our lives. All are welcome – join us in-person or via zoom.
URL:https://trinity-hamilton.com/event/bibles-and-bagels/
LOCATION:Trinity Lutheran Church Fennell Ave.\, 232 Fennell Ave. E\, Hamilton\, Ontario\, Canada
ATTACH;FMTTYPE=image/jpeg:https://trinity-hamilton.com/wp-content/uploads/2023/02/Bagels-e1732749116300.jpg
END:VEVENT
BEGIN:VEVENT
DTSTART;TZID=America/Toronto:20260531T100000
DTEND;TZID=America/Toronto:20260531T110000
DTSTAMP:20260423T071108
CREATED:20260415T194811Z
LAST-MODIFIED:20260415T194811Z
UID:6457-1780221600-1780225200@trinity-hamilton.com
SUMMARY:Sunday Worship Service
DESCRIPTION:We offer in-person Sunday Worship service at our Fennell Avenue location. You may also watch our service through livestream on Zoom. Please contact the church office at 905 974-9878 for the link. A recording of the 10:00 am service will be posted on the Trinity Lutheran Church YouTube channel by the end of the day.
URL:https://trinity-hamilton.com/event/sunday-worship-service-18/
LOCATION:Trinity Lutheran Church Fennell Ave.\, 232 Fennell Ave. E\, Hamilton\, Ontario\, Canada
ATTACH;FMTTYPE=image/jpeg:https://trinity-hamilton.com/wp-content/uploads/2023/06/pastor-Daniella6-e1732747256780.jpg
END:VEVENT
BEGIN:VEVENT
DTSTART;TZID=America/Toronto:20260531T100000
DTEND;TZID=America/Toronto:20260531T110000
DTSTAMP:20260423T071108
CREATED:20260415T195525Z
LAST-MODIFIED:20260415T195525Z
UID:6468-1780221600-1780225200@trinity-hamilton.com
SUMMARY:Children's Activity
DESCRIPTION:For the remaining Sundays of the month the children are invited to join in the regular worship service. A children’s message and quiet independent activity will be provided for those in attendance.
URL:https://trinity-hamilton.com/event/childrens-activity-3/
LOCATION:Trinity Lutheran Church Fennell Ave.\, 232 Fennell Ave. E\, Hamilton\, Ontario\, Canada
ATTACH;FMTTYPE=image/jpeg:https://trinity-hamilton.com/wp-content/uploads/2024/06/Jordan-Trinity-copy2.jpg
END:VEVENT
BEGIN:VEVENT
DTSTART;TZID=America/Toronto:20260531T111500
DTEND;TZID=America/Toronto:20260531T121500
DTSTAMP:20260423T071108
CREATED:20260312T202530Z
LAST-MODIFIED:20260312T202530Z
UID:6391-1780226100-1780229700@trinity-hamilton.com
SUMMARY:Spring Bible Study: Our Confession of Faith: The Apostle’ Creed
DESCRIPTION:Sundays at 11:15 a.m. in-person and on Zoom. \nJoin us for one hour on Sunday following worship as we study the Apostles’ Creed and Luther’s instruction in the Small and Large Catechism. Over the course of six weeks we learn about how the church has used creeds and work on writing personal creeds of faith. \nContact Pastor Jordan for more information revjordansmith@gmail.com.
URL:https://trinity-hamilton.com/event/spring-bible-study-our-confession-of-faith-the-apostle-creed-5/
LOCATION:Trinity Lutheran Church Fennell Ave.\, 232 Fennell Ave. E\, Hamilton\, Ontario\, Canada
ATTACH;FMTTYPE=image/jpeg:https://trinity-hamilton.com/wp-content/uploads/2026/03/Bible-study.jpg
END:VEVENT
BEGIN:VEVENT
DTSTART;TZID=America/Toronto:20260607T111500
DTEND;TZID=America/Toronto:20260607T121500
DTSTAMP:20260423T071108
CREATED:20260312T202641Z
LAST-MODIFIED:20260312T202641Z
UID:6393-1780830900-1780834500@trinity-hamilton.com
SUMMARY:Spring Bible Study: Our Confession of Faith: The Apostle’ Creed
DESCRIPTION:Sundays at 11:15 a.m. in-person and on Zoom. \nJoin us for one hour on Sunday following worship as we study the Apostles’ Creed and Luther’s instruction in the Small and Large Catechism. Over the course of six weeks we learn about how the church has used creeds and work on writing personal creeds of faith. \nContact Pastor Jordan for more information revjordansmith@gmail.com.
URL:https://trinity-hamilton.com/event/spring-bible-study-our-confession-of-faith-the-apostle-creed-6/
LOCATION:Trinity Lutheran Church Fennell Ave.\, 232 Fennell Ave. E\, Hamilton\, Ontario\, Canada
ATTACH;FMTTYPE=image/jpeg:https://trinity-hamilton.com/wp-content/uploads/2026/03/Bible-study.jpg
END:VEVENT
BEGIN:VEVENT
DTSTART;TZID=America/Toronto:20260630T090000
DTEND;TZID=America/Toronto:20260630T103000
DTSTAMP:20260423T071108
CREATED:20251030T172609Z
LAST-MODIFIED:20251030T172609Z
UID:5582-1782810000-1782815400@trinity-hamilton.com
SUMMARY:Trinity Men's Breakfast- Golden Griddle
DESCRIPTION:The men of Trinity are invited to gather for breakfast and friendly conversation on the last Tuesday of each month\, at 9 a.m. We will meet at the Golden Griddle Restaurant\, 1119 Fennell Avenue East.  For more information\, please speak with Pastor Jordan.
URL:https://trinity-hamilton.com/event/trinity-mens-breakfast-golden-griddle-7/
LOCATION:Golden Griddle\, 1119 Fennell Ave.\, Hamilton\, Ontario\, L8T 1S2\, Canada
ATTACH;FMTTYPE=image/jpeg:https://trinity-hamilton.com/wp-content/uploads/2024/01/pancakes.jpg
END:VEVENT
END:VCALENDAR