BEGIN:VCALENDAR
VERSION:2.0
PRODID:-//Trinity Lutheran Church - ECPv6.15.20//NONSGML v1.0//EN
CALSCALE:GREGORIAN
METHOD:PUBLISH
X-ORIGINAL-URL:https://trinity-hamilton.com
X-WR-CALDESC:Events for Trinity Lutheran Church
REFRESH-INTERVAL;VALUE=DURATION:PT1H
X-Robots-Tag:noindex
X-PUBLISHED-TTL:PT1H
BEGIN:VTIMEZONE
TZID:America/Toronto
BEGIN:DAYLIGHT
TZOFFSETFROM:-0500
TZOFFSETTO:-0400
TZNAME:EDT
DTSTART:20240310T070000
END:DAYLIGHT
BEGIN:STANDARD
TZOFFSETFROM:-0400
TZOFFSETTO:-0500
TZNAME:EST
DTSTART:20241103T060000
END:STANDARD
BEGIN:DAYLIGHT
TZOFFSETFROM:-0500
TZOFFSETTO:-0400
TZNAME:EDT
DTSTART:20250309T070000
END:DAYLIGHT
BEGIN:STANDARD
TZOFFSETFROM:-0400
TZOFFSETTO:-0500
TZNAME:EST
DTSTART:20251102T060000
END:STANDARD
BEGIN:DAYLIGHT
TZOFFSETFROM:-0500
TZOFFSETTO:-0400
TZNAME:EDT
DTSTART:20260308T070000
END:DAYLIGHT
BEGIN:STANDARD
TZOFFSETFROM:-0400
TZOFFSETTO:-0500
TZNAME:EST
DTSTART:20261101T060000
END:STANDARD
END:VTIMEZONE
BEGIN:VEVENT
DTSTART;TZID=America/Toronto:20251118T100000
DTEND;TZID=America/Toronto:20251118T120000
DTSTAMP:20260423T110153
CREATED:20251021T200619Z
LAST-MODIFIED:20251021T200619Z
UID:5519-1763460000-1763467200@trinity-hamilton.com
SUMMARY:People's Café
DESCRIPTION:Everyone is welcome at the People’s Café on Tuesdays from 10:00 am to 12:00 pm. Refreshments and fellowship are offered. Come and make new friends or sit quietly by yourself. Our neighbours are also welcome to enjoy coffee and toast while sheltering from the weather. People wishing to volunteer to help with the program can contact Pastor Dani.
URL:https://trinity-hamilton.com/event/peoples-cafe-18/
LOCATION:Streetlight Church\, 82 Ferguson Street North\, Hamilton\, ON\, L8R 1L4\, Canada
ATTACH;FMTTYPE=image/jpeg:https://trinity-hamilton.com/wp-content/uploads/2023/11/group-friends-enjoying-coffee-copy.jpg
END:VEVENT
BEGIN:VEVENT
DTSTART;TZID=America/Toronto:20251120T113000
DTEND;TZID=America/Toronto:20251120T123000
DTSTAMP:20260423T110153
CREATED:20251020T145448Z
LAST-MODIFIED:20251020T145448Z
UID:5483-1763638200-1763641800@trinity-hamilton.com
SUMMARY:Mid-Week Service
DESCRIPTION:Mid-Week service takes place on Thursdays at 11:30 a.m. Trinity offers a short mid-week service with Holy Communion at 232 Fennell Ave. East. You are welcome to bring a bag lunch for fellowship after the service.
URL:https://trinity-hamilton.com/event/mid-week-service-13/
LOCATION:Trinity Lutheran Church Fennell Ave.\, 232 Fennell Ave. E\, Hamilton\, Ontario\, Canada
ATTACH;FMTTYPE=image/jpeg:https://trinity-hamilton.com/wp-content/uploads/2023/06/congregation-e1732747121525.jpg
END:VEVENT
BEGIN:VEVENT
DTSTART;TZID=America/Toronto:20251120T190000
DTEND;TZID=America/Toronto:20251120T203000
DTSTAMP:20260423T110153
CREATED:20251022T185309Z
LAST-MODIFIED:20251022T185309Z
UID:5535-1763665200-1763670600@trinity-hamilton.com
SUMMARY:Choir- Worship God with Music
DESCRIPTION:Come and find out about Trinity’s Choir and Worship God with Music! Whether contemporary\, traditional or global music is your favourite\, there’s always a way to musically enhance our worship. This is for singers and players of all instruments. \nContact Heide at heide.lang@gmail.com or 905-616-2575. Choir practices are held at 232 Fennell Ave. E.
URL:https://trinity-hamilton.com/event/choir-worship-god-with-music-11/
LOCATION:Trinity Lutheran Church Fennell Ave.\, 232 Fennell Ave. E\, Hamilton\, Ontario\, Canada
ATTACH;FMTTYPE=image/jpeg:https://trinity-hamilton.com/wp-content/uploads/2024/09/choir3-e1747834766926.jpg
END:VEVENT
BEGIN:VEVENT
DTSTART;TZID=America/Toronto:20251121T170000
DTEND;TZID=America/Toronto:20251121T190000
DTSTAMP:20260423T110153
CREATED:20250916T204644Z
LAST-MODIFIED:20251020T210631Z
UID:5193-1763744400-1763751600@trinity-hamilton.com
SUMMARY:Confirmation Class
DESCRIPTION:Confirmation class is an opportunity to reflect on faith-related questions in an open and non-judgmental atmosphere.\nWe see confirmation as a starting point for being involved in the congregation. Our classes run for two years (September to April) and end with confirmation on Palm Sunday of the second year. \nCome and join us to find out more about God and life.
URL:https://trinity-hamilton.com/event/confirmation-class-3/
LOCATION:Trinity Lutheran Church Fennell Ave.\, 232 Fennell Ave. E\, Hamilton\, Ontario\, Canada
ATTACH;FMTTYPE=image/png:https://trinity-hamilton.com/wp-content/uploads/2023/08/confirmation.png
END:VEVENT
BEGIN:VEVENT
DTSTART;TZID=America/Toronto:20251122T130000
DTEND;TZID=America/Toronto:20251122T210000
DTSTAMP:20260423T110153
CREATED:20251027T020434Z
LAST-MODIFIED:20251027T020453Z
UID:5551-1763816400-1763845200@trinity-hamilton.com
SUMMARY:ABIDING in HOPE - National Housing Day Prayer Gathering
DESCRIPTION:Join Indwell and the Greater Ontario House of Prayer (GOHOP) on Saturday\, November 22 for Abiding in Hope\, a day of prayer and worship focused on God’s heart for those without a home. \nDrop in anytime between 1–7 pm for interactive prayer stations\, and/or join us for a Prayer Gathering from 7–9 pm—an evening of music\, stories\, and intercession for Hamilton. Together\, let’s seek God’s hope and provision for every neighbour in Hamilton. Come by yourself\, or with a group! \nGOHOP -1907 King St E\, Hamilton – Bus No 5. Parking at the  back. \nThe building is not accessible.
URL:https://trinity-hamilton.com/event/abiding-in-hope-national-housing-day-prayer-gathering/
LOCATION:Greater Ontario House of Prayer\, 1907 King Street East\, Hamilton\, ON\, L8K 1V9\, Canada
ATTACH;FMTTYPE=image/jpeg:https://trinity-hamilton.com/wp-content/uploads/2024/02/pray.jpg
END:VEVENT
BEGIN:VEVENT
DTSTART;TZID=America/Toronto:20251123T100000
DTEND;TZID=America/Toronto:20251123T110000
DTSTAMP:20260423T110153
CREATED:20251020T144907Z
LAST-MODIFIED:20251020T144907Z
UID:5475-1763892000-1763895600@trinity-hamilton.com
SUMMARY:Sunday Worship Service
DESCRIPTION:We offer in-person Sunday Worship service at our Fennell Avenue location. You may also watch our service through livestream on Zoom. Please contact the church office at 905 974-9878 for the link. A recording of the 10:00 am service will be posted on the Trinity Lutheran Church YouTube channel by the end of the day.
URL:https://trinity-hamilton.com/event/sunday-worship-service-21/
LOCATION:Trinity Lutheran Church Hughson St.\, 104 Hughson Street North\, Hamilton\, Ontario\, Canada
ATTACH;FMTTYPE=image/jpeg:https://trinity-hamilton.com/wp-content/uploads/2025/10/Pastor-Daniella-copy_web.jpg
END:VEVENT
BEGIN:VEVENT
DTSTART;TZID=America/Toronto:20251123T100000
DTEND;TZID=America/Toronto:20251123T110000
DTSTAMP:20260423T110153
CREATED:20251020T225258Z
LAST-MODIFIED:20251020T225258Z
UID:5499-1763892000-1763895600@trinity-hamilton.com
SUMMARY:Sunday School
DESCRIPTION:Learning together is an important part of Sunday School. It is a place to learn about God and his teachings. We offer Sunday School from September to June for children ages 3 to 12. Sunday school run parallel to the Sunday Worship service at 10.00 a.m. The children begin the morning in Sunday School and join the congregation in the sanctuary at communion. \nSunday School includes bible stories\, crafts\, games\, and songs. Parents of younger children are welcome to join.
URL:https://trinity-hamilton.com/event/sunday-school-5/
LOCATION:Trinity Lutheran Church Fennell Ave.\, 232 Fennell Ave. E\, Hamilton\, Ontario\, Canada
ATTACH;FMTTYPE=image/jpeg:https://trinity-hamilton.com/wp-content/uploads/2023/02/Children.jpg
END:VEVENT
BEGIN:VEVENT
DTSTART;TZID=America/Toronto:20251124T093000
DTEND;TZID=America/Toronto:20251124T113000
DTSTAMP:20260423T110153
CREATED:20251022T184725Z
LAST-MODIFIED:20251022T184725Z
UID:5529-1763976600-1763983800@trinity-hamilton.com
SUMMARY:Friendship Circle
DESCRIPTION:The Friendship Circle Ladies meet on Mondays at Trinity at 232 Fennell Ave. E. Come and join the Friendship Circle ladies for fellowship and creativity. We quilt and work on other creative projects. No experience is necessary.\nThe Friendship Circle is also looking for cotton material for quilting\, lightweight towels to make washcloths and flannel (sheets) to make diapers. If you’re interested in joining\, want more information\, or if you have donations\, please contact Marie Stanat 289-919-0603.
URL:https://trinity-hamilton.com/event/friendship-circle-26/
LOCATION:Trinity Lutheran Church Fennell Ave.\, 232 Fennell Ave. E\, Hamilton\, Ontario\, Canada
ATTACH;FMTTYPE=image/jpeg:https://trinity-hamilton.com/wp-content/uploads/2024/04/circle.jpg
END:VEVENT
BEGIN:VEVENT
DTSTART;TZID=America/Toronto:20251125T090000
DTEND;TZID=America/Toronto:20251125T103000
DTSTAMP:20260423T110153
CREATED:20251021T194551Z
LAST-MODIFIED:20251030T171315Z
UID:5508-1764061200-1764066600@trinity-hamilton.com
SUMMARY:Trinity Men's Breakfast- Golden Griddle
DESCRIPTION:The men of Trinity are invited to gather for breakfast and friendly conversation on the last Tuesday of each month at 9 a.m. We will meet at the Golden Griddle Restaurant\, 1119 Fennell Avenue East.  For more information\, please speak with Pastor Jordan.
URL:https://trinity-hamilton.com/event/casual-mens-breakfast/
LOCATION:Golden Griddle\, 1119 Fennell Ave.\, Hamilton\, Ontario\, L8T 1S2\, Canada
ATTACH;FMTTYPE=image/jpeg:https://trinity-hamilton.com/wp-content/uploads/2024/12/pancakes.jpg
END:VEVENT
BEGIN:VEVENT
DTSTART;TZID=America/Toronto:20251125T100000
DTEND;TZID=America/Toronto:20251125T120000
DTSTAMP:20260423T110153
CREATED:20251021T201009Z
LAST-MODIFIED:20251021T201009Z
UID:5521-1764064800-1764072000@trinity-hamilton.com
SUMMARY:People's Café
DESCRIPTION:Everyone is welcome at the People’s Café on Tuesdays from 10:00 am to 12:00 pm. Refreshments and fellowship are offered. Come and make new friends or sit quietly by yourself. Our neighbours are also welcome to enjoy coffee and toast while sheltering from the weather. People wishing to volunteer to help with the program can contact Pastor Dani.
URL:https://trinity-hamilton.com/event/peoples-cafe-19/
LOCATION:Streetlight Church\, 82 Ferguson Street North\, Hamilton\, ON\, L8R 1L4\, Canada
ATTACH;FMTTYPE=image/jpeg:https://trinity-hamilton.com/wp-content/uploads/2024/01/group-of-people-for-creative-expression-class_low-res.jpg
END:VEVENT
BEGIN:VEVENT
DTSTART;TZID=America/Toronto:20251125T190000
DTEND;TZID=America/Toronto:20251125T203000
DTSTAMP:20260423T110153
CREATED:20251021T195123Z
LAST-MODIFIED:20251021T195123Z
UID:5512-1764097200-1764102600@trinity-hamilton.com
SUMMARY:Creation Care Group
DESCRIPTION:The Creation Care Group seeks a more sustainable lifestyle through a variety of activities. We meet on the last Tuesday of the month for about 90 minutes.
URL:https://trinity-hamilton.com/event/creation-care-group-3/
LOCATION:Online
ATTACH;FMTTYPE=image/jpeg:https://trinity-hamilton.com/wp-content/uploads/2023/08/CreationCare2-copy.jpg
END:VEVENT
BEGIN:VEVENT
DTSTART;TZID=America/Toronto:20251127T113000
DTEND;TZID=America/Toronto:20251127T123000
DTSTAMP:20260423T110153
CREATED:20251020T145616Z
LAST-MODIFIED:20251020T145616Z
UID:5485-1764243000-1764246600@trinity-hamilton.com
SUMMARY:Mid-Week Service
DESCRIPTION:Mid-Week service takes place on Thursdays at 11:30 a.m. Trinity offers a short mid-week service with Holy Communion at 232 Fennell Ave. East. You are welcome to bring a bag lunch for fellowship after the service.
URL:https://trinity-hamilton.com/event/mid-week-service-14/
LOCATION:Trinity Lutheran Church Fennell Ave.\, 232 Fennell Ave. E\, Hamilton\, Ontario\, Canada
ATTACH;FMTTYPE=image/jpeg:https://trinity-hamilton.com/wp-content/uploads/2023/06/congregation-e1732747121525.jpg
END:VEVENT
BEGIN:VEVENT
DTSTART;TZID=America/Toronto:20251127T190000
DTEND;TZID=America/Toronto:20251127T203000
DTSTAMP:20260423T110153
CREATED:20251022T185443Z
LAST-MODIFIED:20251022T185443Z
UID:5537-1764270000-1764275400@trinity-hamilton.com
SUMMARY:Choir- Worship God with Music
DESCRIPTION:Come and find out about Trinity’s Choir and Worship God with Music! Whether contemporary\, traditional or global music is your favourite\, there’s always a way to musically enhance our worship. This is for singers and players of all instruments. \nContact Heide at heide.lang@gmail.com or 905-616-2575. Choir practices are held at 232 Fennell Ave. E.
URL:https://trinity-hamilton.com/event/choir-worship-god-with-music-12/
LOCATION:Trinity Lutheran Church Fennell Ave.\, 232 Fennell Ave. E\, Hamilton\, Ontario\, Canada
ATTACH;FMTTYPE=image/jpeg:https://trinity-hamilton.com/wp-content/uploads/2024/09/choir2-e1741894349692.jpg
END:VEVENT
BEGIN:VEVENT
DTSTART;TZID=America/Toronto:20251129T090000
DTEND;TZID=America/Toronto:20251129T103000
DTSTAMP:20260423T110153
CREATED:20251021T193611Z
LAST-MODIFIED:20251025T195429Z
UID:5504-1764406800-1764412200@trinity-hamilton.com
SUMMARY:Bibles and Bagels
DESCRIPTION:Our discuss this month is about MAID (Medical Assistance in Dying).\nBibles and Bagels women’s group meets for breakfast\, a discussion and fellowship (for about 90 minutes). It’s an opportunity to share and ask personal questions in a trustful atmosphere. Every month the conversation centers on a theme relevant to our lives. All are welcome – join us in-person or via zoom.
URL:https://trinity-hamilton.com/event/bibles-and-bagels-3/
LOCATION:Trinity Lutheran Church Fennell Ave.\, 232 Fennell Ave. E\, Hamilton\, Ontario\, Canada
ATTACH;FMTTYPE=image/jpeg:https://trinity-hamilton.com/wp-content/uploads/2023/02/Bagels-e1732749116300.jpg
END:VEVENT
BEGIN:VEVENT
DTSTART;TZID=America/Toronto:20251129T090000
DTEND;TZID=America/Toronto:20251129T103000
DTSTAMP:20260423T110153
CREATED:20251021T194003Z
LAST-MODIFIED:20251021T194003Z
UID:5506-1764406800-1764412200@trinity-hamilton.com
SUMMARY:Men’s Breakfast
DESCRIPTION:Men’s breakfast is a hearty breakfast\, fellowship and thoughtful conversations. Join the men of Trinity from 9:00 a.m. to 10:30 a.m. In an informal setting we discuss a variety of topics from a Christian perspective. Sometimes guest presenters are asked to enlighten and challenge us! All men are welcome to join including non-members of Trinity.
URL:https://trinity-hamilton.com/event/mens-breakfast-3/
LOCATION:Trinity Lutheran Church Fennell Ave.\, 232 Fennell Ave. E\, Hamilton\, Ontario\, Canada
ATTACH;FMTTYPE=image/jpeg:https://trinity-hamilton.com/wp-content/uploads/2023/09/breakfast-copy2.jpg
END:VEVENT
BEGIN:VEVENT
DTSTART;TZID=America/Toronto:20251130T100000
DTEND;TZID=America/Toronto:20251130T110000
DTSTAMP:20260423T110153
CREATED:20251020T145035Z
LAST-MODIFIED:20251025T195956Z
UID:5477-1764496800-1764500400@trinity-hamilton.com
SUMMARY:Sunday Worship Service- Advent 1
DESCRIPTION:We offer in-person Sunday Worship service at our Fennell Avenue location. You may also watch our service through livestream on Zoom. Please contact the church office at 905 974-9878 for the link. A recording of the 10:00 am service will be posted on the Trinity Lutheran Church YouTube channel by the end of the day.
URL:https://trinity-hamilton.com/event/sunday-worship-service-22/
LOCATION:Trinity Lutheran Church Fennell Ave.\, 232 Fennell Ave. E\, Hamilton\, Ontario\, Canada
ATTACH;FMTTYPE=image/jpeg:https://trinity-hamilton.com/wp-content/uploads/2024/06/Jordan-Trinity-copy2.jpg
END:VEVENT
BEGIN:VEVENT
DTSTART;TZID=America/Toronto:20251130T180000
DTEND;TZID=America/Toronto:20251130T190000
DTSTAMP:20260423T110153
CREATED:20251022T190214Z
LAST-MODIFIED:20251022T190407Z
UID:5539-1764525600-1764529200@trinity-hamilton.com
SUMMARY:TrueCity Christmas Carol Service
DESCRIPTION:Join the first ever TrueCity Christmas Carol Service!Sunday\, November 30th at 6 p.m.\, at  Immanuel Christian Reformed Church.We are excited to celebrate the start of the Advent Season by coming together as a family of churches for this special worship service. Everyone is welcome.
URL:https://trinity-hamilton.com/event/truecity-christmas-carol-service/
LOCATION:Immanuel Christian Reformed Church\, 61 Mohawk Rd. W\, Hamilton\, Ontario\, L9C 1V9\, Canada
ATTACH;FMTTYPE=image/jpeg:https://trinity-hamilton.com/wp-content/uploads/2024/11/christmas-tree-e1761159699953.jpg
END:VEVENT
BEGIN:VEVENT
DTSTART;TZID=America/Toronto:20251201T093000
DTEND;TZID=America/Toronto:20251201T113000
DTSTAMP:20260423T110153
CREATED:20251124T211048Z
LAST-MODIFIED:20251124T211048Z
UID:5806-1764581400-1764588600@trinity-hamilton.com
SUMMARY:Friendship Circle
DESCRIPTION:The Friendship Circle Ladies meet on Mondays at Trinity at 232 Fennell Ave. E. Come and join the Friendship Circle ladies for fellowship and creativity. We quilt and work on other creative projects. No experience is necessary.\nThe Friendship Circle is also looking for cotton material for quilting\, lightweight towels to make washcloths and flannel (sheets) to make diapers. If you’re interested in joining\, want more information\, or if you have donations\, please contact Marie Stanat 289-919-0603.
URL:https://trinity-hamilton.com/event/friendship-circle-2/
LOCATION:Trinity Lutheran Church Fennell Ave.\, 232 Fennell Ave. E\, Hamilton\, Ontario\, Canada
ATTACH;FMTTYPE=image/jpeg:https://trinity-hamilton.com/wp-content/uploads/2024/04/circle.jpg
END:VEVENT
BEGIN:VEVENT
DTSTART;TZID=America/Toronto:20251202T100000
DTEND;TZID=America/Toronto:20251202T120000
DTSTAMP:20260423T110153
CREATED:20251117T021958Z
LAST-MODIFIED:20251117T021958Z
UID:5719-1764669600-1764676800@trinity-hamilton.com
SUMMARY:People's Café
DESCRIPTION:Everyone is welcome at the People’s Café on Tuesdays from 10:00 am to 12:00 pm. Refreshments and fellowship are offered. Come and make new friends or sit quietly by yourself. Our neighbours are also welcome to enjoy coffee and toast while sheltering from the weather. People wishing to volunteer to help with the program can contact Pastor Dani.
URL:https://trinity-hamilton.com/event/peoples-cafe-20/
LOCATION:Streetlight Church\, 82 Ferguson Street North\, Hamilton\, ON\, L8R 1L4\, Canada
ATTACH;FMTTYPE=image/jpeg:https://trinity-hamilton.com/wp-content/uploads/2023/09/peoples-cafe-coffee.jpg
END:VEVENT
BEGIN:VEVENT
DTSTART;TZID=America/Toronto:20251204T080000
DTEND;TZID=America/Toronto:20251204T170000
DTSTAMP:20260423T110153
CREATED:20251116T210148Z
LAST-MODIFIED:20251116T210148Z
UID:5713-1764835200-1764867600@trinity-hamilton.com
SUMMARY:Deadline to order Good Food Box for December
DESCRIPTION:The deadline to order the October Good Food Box is today\, December 4. If you are interested in purchasing a Good Food Box\, from either of our locations\, orders need to be received at least one week prior to the pick-up date. The locations for pick-up are 232 Fennell Ave. East and 130 Victoria Avenue North. \nTrinity’s Good Food Box Program runs from September to June on the second Thursday each month. \nFor $22 you will receive a bag of fruit and vegetables. The pickup date is December 11. \nTo order a good food box\, please email Pastor Thomas at tfrm58@gmail.com. You can also access the online Good Food Box form to order online.
URL:https://trinity-hamilton.com/event/deadline-to-order-good-food-box-for-december/
LOCATION:Online
ATTACH;FMTTYPE=image/jpeg:https://trinity-hamilton.com/wp-content/uploads/2023/04/good-food-box-copy-e1732500715511.jpg
END:VEVENT
BEGIN:VEVENT
DTSTART;TZID=America/Toronto:20251204T113000
DTEND;TZID=America/Toronto:20251204T123000
DTSTAMP:20260423T110153
CREATED:20251116T203905Z
LAST-MODIFIED:20251116T203905Z
UID:5701-1764847800-1764851400@trinity-hamilton.com
SUMMARY:Mid-Week Service
DESCRIPTION:Mid-Week service takes place on Thursdays at 11:30 a.m. Trinity offers a short mid-week service with Holy Communion at 232 Fennell Ave. East. You are welcome to bring a bag lunch for fellowship after the service.
URL:https://trinity-hamilton.com/event/mid-week-service-15/
LOCATION:Trinity Lutheran Church Fennell Ave.\, 232 Fennell Ave. E\, Hamilton\, Ontario\, Canada
ATTACH;FMTTYPE=image/jpeg:https://trinity-hamilton.com/wp-content/uploads/2024/06/Jordan-Trinity-copy2.jpg
END:VEVENT
BEGIN:VEVENT
DTSTART;TZID=America/Toronto:20251204T173000
DTEND;TZID=America/Toronto:20251204T183000
DTSTAMP:20260423T110153
CREATED:20251117T231852Z
LAST-MODIFIED:20251124T034138Z
UID:5747-1764869400-1764873000@trinity-hamilton.com
SUMMARY:Supper Club- A New Group!
DESCRIPTION:Come and join our “Supper Club”. We will serve a hot supper. You will have the opportunity to get a recipe\, and if you come a little earlier watch the cook and learn  how to make a nice meal from the Good Food Box vegetables. Everybody is invited (whether you receive a Good Food Box or not). To register please email Pastor Thomas tfrm58@gmail.com \n  \n 
URL:https://trinity-hamilton.com/event/supper-club-a-new-group/
LOCATION:Trinity Lutheran Church Fennell Ave.\, 232 Fennell Ave. E\, Hamilton\, Ontario\, Canada
ATTACH;FMTTYPE=image/jpeg:https://trinity-hamilton.com/wp-content/uploads/2025/11/supper-club.jpg
END:VEVENT
BEGIN:VEVENT
DTSTART;TZID=America/Toronto:20251204T190000
DTEND;TZID=America/Toronto:20251204T200000
DTSTAMP:20260423T110153
CREATED:20251116T205205Z
LAST-MODIFIED:20251116T205205Z
UID:5707-1764874800-1764878400@trinity-hamilton.com
SUMMARY:Choir- Worship God with Music
DESCRIPTION:Come and find out about Trinity’s Choir and Worship God with Music! Whether contemporary\, traditional or global music is your favourite\, there’s always a way to musically enhance our worship. This is for singers and players of all instruments. \nContact Heide at heide.lang@gmail.com or 905-616-2575. Choir practices are held at 232 Fennell Ave. E.
URL:https://trinity-hamilton.com/event/choir-worship-god-with-music-13/
LOCATION:Trinity Lutheran Church Fennell Ave.\, 232 Fennell Ave. E\, Hamilton\, Ontario\, Canada
ATTACH;FMTTYPE=image/jpeg:https://trinity-hamilton.com/wp-content/uploads/2024/09/choir2-e1741894349692.jpg
END:VEVENT
BEGIN:VEVENT
DTSTART;TZID=America/Toronto:20251205T170000
DTEND;TZID=America/Toronto:20251205T190000
DTSTAMP:20260423T110153
CREATED:20251118T164430Z
LAST-MODIFIED:20251118T164430Z
UID:5781-1764954000-1764961200@trinity-hamilton.com
SUMMARY:Confirmation Class
DESCRIPTION:Confirmation class is an opportunity to reflect on faith-related questions in an open and non-judgmental atmosphere.\nWe see confirmation as a starting point for being involved in the congregation. Our classes run for two years (September to April) and end with confirmation on Palm Sunday of the second year. \nCome and join us to find out more about God and life.
URL:https://trinity-hamilton.com/event/confirmation-class-4/
LOCATION:Trinity Lutheran Church Fennell Ave.\, 232 Fennell Ave. E\, Hamilton\, Ontario\, Canada
ATTACH;FMTTYPE=image/png:https://trinity-hamilton.com/wp-content/uploads/2023/08/confirmation.png
END:VEVENT
BEGIN:VEVENT
DTSTART;TZID=America/Toronto:20251206T093000
DTEND;TZID=America/Toronto:20251206T110000
DTSTAMP:20260423T110153
CREATED:20251124T022058Z
LAST-MODIFIED:20251125T133656Z
UID:5738-1765013400-1765018800@trinity-hamilton.com
SUMMARY:Join us for a Hike
DESCRIPTION:Come out and join us for a hike at Bayfront Park  on December 6 at 9:30 a.m.
URL:https://trinity-hamilton.com/event/join-us-for-a-hike-2/
LOCATION:Bayfront Park\, 200 Harbour Front Dr.\, Hamilton\, ON\, L8L 1C8\, Canada
ATTACH;FMTTYPE=image/jpeg:https://trinity-hamilton.com/wp-content/uploads/2025/01/bayfrontpark2.jpg
END:VEVENT
BEGIN:VEVENT
DTSTART;TZID=America/Toronto:20251207T100000
DTEND;TZID=America/Toronto:20251207T110000
DTSTAMP:20260423T110153
CREATED:20251112T201235Z
LAST-MODIFIED:20251112T201235Z
UID:5660-1765101600-1765105200@trinity-hamilton.com
SUMMARY:Sunday Worship Service
DESCRIPTION:We offer in-person Sunday Worship service at our Fennell Avenue location. You may also watch our service through livestream on Zoom. Please contact the church office at 905 974-9878 for the link. A recording of the 10:00 am service will be posted on the Trinity Lutheran Church YouTube channel by the end of the day.
URL:https://trinity-hamilton.com/event/sunday-worship-service-23/
LOCATION:Trinity Lutheran Church Fennell Ave.\, 232 Fennell Ave. E\, Hamilton\, Ontario\, Canada
ATTACH;FMTTYPE=image/jpeg:https://trinity-hamilton.com/wp-content/uploads/2023/11/IMG_2184-copy-1-scaled-e1732141656980.jpg
END:VEVENT
BEGIN:VEVENT
DTSTART;TZID=America/Toronto:20251207T100000
DTEND;TZID=America/Toronto:20251207T110000
DTSTAMP:20260423T110153
CREATED:20251116T194602Z
LAST-MODIFIED:20251116T194602Z
UID:5677-1765101600-1765105200@trinity-hamilton.com
SUMMARY:Sunday School
DESCRIPTION:Learning together is an important part of Sunday School. It is a place to learn about God and his teachings. We offer Sunday School from September to June for children ages 3 to 12. Sunday school run parallel to the Sunday Worship service at 10.00 a.m. The children begin the morning in Sunday School and join the congregation in the sanctuary at communion. \nSunday School includes bible stories\, crafts\, games\, and songs. Parents of younger children are welcome to join.
URL:https://trinity-hamilton.com/event/sunday-school-6/
LOCATION:Trinity Lutheran Church Fennell Ave.\, 232 Fennell Ave. E\, Hamilton\, Ontario\, Canada
ATTACH;FMTTYPE=image/jpeg:https://trinity-hamilton.com/wp-content/uploads/2023/06/SundaySchool-1-e1739737315196.jpg
END:VEVENT
BEGIN:VEVENT
DTSTART;TZID=America/Toronto:20251207T180000
DTEND;TZID=America/Toronto:20251207T190000
DTSTAMP:20260423T110153
CREATED:20251116T205647Z
LAST-MODIFIED:20251116T205647Z
UID:5711-1765130400-1765134000@trinity-hamilton.com
SUMMARY:Blue Christmas Service
DESCRIPTION:Grieving a loved one\, lonely\, feeling blue\, struggling with some burden… find comfort in knowing you are not alone. Please join us for a worship service of comfort and renewal at the Immanuel Christian Reformed Church of Hamilton.\nFor more details please ask Pastor Jordan or Pastor Daniela.
URL:https://trinity-hamilton.com/event/blue-christmas-service/
LOCATION:Immanuel Christian Reformed Church\, 61 Mohawk Rd. W\, Hamilton\, Ontario\, L9C 1V9\, Canada
ATTACH;FMTTYPE=image/jpeg:https://trinity-hamilton.com/wp-content/uploads/2024/02/hands2-copy.jpg
END:VEVENT
BEGIN:VEVENT
DTSTART;TZID=America/Toronto:20251208T093000
DTEND;TZID=America/Toronto:20251208T113000
DTSTAMP:20260423T110153
CREATED:20251124T211240Z
LAST-MODIFIED:20251124T211240Z
UID:5808-1765186200-1765193400@trinity-hamilton.com
SUMMARY:Friendship Circle
DESCRIPTION:The Friendship Circle Ladies meet on Mondays at Trinity at 232 Fennell Ave. E. Come and join the Friendship Circle ladies for fellowship and creativity. We quilt and work on other creative projects. No experience is necessary.\nThe Friendship Circle is also looking for cotton material for quilting\, lightweight towels to make washcloths and flannel (sheets) to make diapers. If you’re interested in joining\, want more information\, or if you have donations\, please contact Marie Stanat 289-919-0603.
URL:https://trinity-hamilton.com/event/friendship-circle-3/
LOCATION:Trinity Lutheran Church Fennell Ave.\, 232 Fennell Ave. E\, Hamilton\, Ontario\, Canada
ATTACH;FMTTYPE=image/jpeg:https://trinity-hamilton.com/wp-content/uploads/2024/04/circle.jpg
END:VEVENT
BEGIN:VEVENT
DTSTART;TZID=America/Toronto:20251209T100000
DTEND;TZID=America/Toronto:20251209T120000
DTSTAMP:20260423T110153
CREATED:20251117T022117Z
LAST-MODIFIED:20251117T022117Z
UID:5721-1765274400-1765281600@trinity-hamilton.com
SUMMARY:People's Café
DESCRIPTION:Everyone is welcome at the People’s Café on Tuesdays from 10:00 am to 12:00 pm. Refreshments and fellowship are offered. Come and make new friends or sit quietly by yourself. Our neighbours are also welcome to enjoy coffee and toast while sheltering from the weather. People wishing to volunteer to help with the program can contact Pastor Dani.
URL:https://trinity-hamilton.com/event/peoples-cafe-21/
LOCATION:Streetlight Church\, 82 Ferguson Street North\, Hamilton\, ON\, L8R 1L4\, Canada
ATTACH;FMTTYPE=image/jpeg:https://trinity-hamilton.com/wp-content/uploads/2024/01/group-of-people-for-creative-expression-class_low-res.jpg
END:VEVENT
END:VCALENDAR