BEGIN:VCALENDAR
VERSION:2.0
PRODID:-//Trinity Lutheran Church - ECPv6.15.20//NONSGML v1.0//EN
CALSCALE:GREGORIAN
METHOD:PUBLISH
X-ORIGINAL-URL:https://trinity-hamilton.com
X-WR-CALDESC:Events for Trinity Lutheran Church
REFRESH-INTERVAL;VALUE=DURATION:PT1H
X-Robots-Tag:noindex
X-PUBLISHED-TTL:PT1H
BEGIN:VTIMEZONE
TZID:America/Toronto
BEGIN:DAYLIGHT
TZOFFSETFROM:-0500
TZOFFSETTO:-0400
TZNAME:EDT
DTSTART:20250309T070000
END:DAYLIGHT
BEGIN:STANDARD
TZOFFSETFROM:-0400
TZOFFSETTO:-0500
TZNAME:EST
DTSTART:20251102T060000
END:STANDARD
BEGIN:DAYLIGHT
TZOFFSETFROM:-0500
TZOFFSETTO:-0400
TZNAME:EDT
DTSTART:20260308T070000
END:DAYLIGHT
BEGIN:STANDARD
TZOFFSETFROM:-0400
TZOFFSETTO:-0500
TZNAME:EST
DTSTART:20261101T060000
END:STANDARD
BEGIN:DAYLIGHT
TZOFFSETFROM:-0500
TZOFFSETTO:-0400
TZNAME:EDT
DTSTART:20270314T070000
END:DAYLIGHT
BEGIN:STANDARD
TZOFFSETFROM:-0400
TZOFFSETTO:-0500
TZNAME:EST
DTSTART:20271107T060000
END:STANDARD
END:VTIMEZONE
BEGIN:VEVENT
DTSTART;TZID=America/Toronto:20260330T093000
DTEND;TZID=America/Toronto:20260330T113000
DTSTAMP:20260423T043303
CREATED:20260203T202044Z
LAST-MODIFIED:20260203T202044Z
UID:6167-1774863000-1774870200@trinity-hamilton.com
SUMMARY:Friendship Circle
DESCRIPTION:The Friendship Circle Ladies meet on Mondays at Trinity at 232 Fennell Ave. E. Come and join the Friendship Circle ladies for fellowship and creativity. We quilt and work on other creative projects. No experience is necessary.\nThe Friendship Circle is also looking for cotton material for quilting\, lightweight towels to make washcloths and flannel (sheets) to make diapers. If you’re interested in joining\, want more information\, or if you have donations\, please contact Marie Stanat 289-919-0603.
URL:https://trinity-hamilton.com/event/friendship-circle-11/
LOCATION:Trinity Lutheran Church Fennell Ave.\, 232 Fennell Ave. E\, Hamilton\, Ontario\, Canada
ATTACH;FMTTYPE=image/jpeg:https://trinity-hamilton.com/wp-content/uploads/2024/04/circle.jpg
END:VEVENT
BEGIN:VEVENT
DTSTART;TZID=America/Toronto:20260331T090000
DTEND;TZID=America/Toronto:20260331T103000
DTSTAMP:20260423T043303
CREATED:20251030T172130Z
LAST-MODIFIED:20251030T172130Z
UID:5576-1774947600-1774953000@trinity-hamilton.com
SUMMARY:Trinity Men's Breakfast- Golden Griddle
DESCRIPTION:The men of Trinity are invited to gather for breakfast and friendly conversation on the last Tuesday of each month\, at 9 a.m. We will meet at the Golden Griddle Restaurant\, 1119 Fennell Avenue East.  For more information\, please speak with Pastor Jordan.
URL:https://trinity-hamilton.com/event/trinity-mens-breakfast-golden-griddle-4/
LOCATION:Golden Griddle\, 1119 Fennell Ave.\, Hamilton\, Ontario\, L8T 1S2\, Canada
ATTACH;FMTTYPE=image/jpeg:https://trinity-hamilton.com/wp-content/uploads/2024/01/pancakes.jpg
END:VEVENT
BEGIN:VEVENT
DTSTART;TZID=America/Toronto:20260331T100000
DTEND;TZID=America/Toronto:20260331T120000
DTSTAMP:20260423T043303
CREATED:20260203T203422Z
LAST-MODIFIED:20260203T203422Z
UID:6185-1774951200-1774958400@trinity-hamilton.com
SUMMARY:People's Café
DESCRIPTION:Everyone is welcome at the People’s Café on Tuesdays from 10:00 am to 12:00 pm. Refreshments and fellowship are offered. Come and make new friends or sit quietly by yourself. Our neighbours are also welcome to enjoy coffee and toast while sheltering from the weather. People wishing to volunteer to help with the program can contact Pastor Dani.
URL:https://trinity-hamilton.com/event/peoples-cafe-30/
LOCATION:Streetlight Church\, 82 Ferguson Street North\, Hamilton\, ON\, L8R 1L4\, Canada
ATTACH;FMTTYPE=image/jpeg:https://trinity-hamilton.com/wp-content/uploads/2023/09/peoples-cafe-coffee.jpg
END:VEVENT
BEGIN:VEVENT
DTSTART;TZID=America/Toronto:20260331T190000
DTEND;TZID=America/Toronto:20260331T203000
DTSTAMP:20260423T043303
CREATED:20260204T171439Z
LAST-MODIFIED:20260204T171439Z
UID:6216-1774983600-1774989000@trinity-hamilton.com
SUMMARY:Creation Care Group
DESCRIPTION:The Creation Care Group seeks a more sustainable lifestyle through a variety of activities. We meet on the last Tuesday of the month for about 90 minutes.
URL:https://trinity-hamilton.com/event/creation-care-group-6/
LOCATION:Online
ATTACH;FMTTYPE=image/jpeg:https://trinity-hamilton.com/wp-content/uploads/2026/02/planting-trees.jpg
END:VEVENT
BEGIN:VEVENT
DTSTART;TZID=America/Toronto:20260401T180000
DTEND;TZID=America/Toronto:20260401T193000
DTSTAMP:20260423T043303
CREATED:20260311T205634Z
LAST-MODIFIED:20260311T205634Z
UID:6302-1775066400-1775071800@trinity-hamilton.com
SUMMARY:Holy Week Family Activity Night
DESCRIPTION:Join us at church on Wednesday of Holy Week for our family activity night. All are welcome – young and young at heart. We will share in time of singing\, holy week crafts\, and a soup dinner. \nRSVP is not required\, but please let Pastor Jordan know if you are attending so that we can make sure to have enough supplies.
URL:https://trinity-hamilton.com/event/holy-week-family-activity-night/
LOCATION:Trinity Lutheran Church Fennell Ave.\, 232 Fennell Ave. E\, Hamilton\, Ontario\, Canada
ATTACH;FMTTYPE=image/jpeg:https://trinity-hamilton.com/wp-content/uploads/2026/03/soup.jpg
END:VEVENT
BEGIN:VEVENT
DTSTART;TZID=America/Toronto:20260402T080000
DTEND;TZID=America/Toronto:20260402T190000
DTSTAMP:20260423T043303
CREATED:20260312T200006Z
LAST-MODIFIED:20260415T201434Z
UID:6366-1775116800-1775156400@trinity-hamilton.com
SUMMARY:Deadline to order Good Food Box April
DESCRIPTION:The deadline to order the April Good Food Box is today\, Thursday April 2. If you are interested in purchasing a Good Food Box\, from either of our locations\, orders need to be received at least one week prior to the pick-up date. The locations for pick-up are 232 Fennell Ave. East and 130 Victoria Avenue North. \nTrinity’s Good Food Box Program runs from September to June on the second Thursday each month. \nFor $22 you will receive a bag of fruit and vegetables. The pickup date is April 9. \nTo order a good food box\, please email Pastor Thomas at tfrm58@gmail.com. You can also access the online Good Food Box form to order online.
URL:https://trinity-hamilton.com/event/deadline-to-order-good-food-box-april/
LOCATION:Online
ATTACH;FMTTYPE=image/jpeg:https://trinity-hamilton.com/wp-content/uploads/2023/04/good-food-box-copy-e1732500715511.jpg
END:VEVENT
BEGIN:VEVENT
DTSTART;TZID=America/Toronto:20260402T190000
DTEND;TZID=America/Toronto:20260402T200000
DTSTAMP:20260423T043303
CREATED:20260311T221316Z
LAST-MODIFIED:20260311T221316Z
UID:6330-1775156400-1775160000@trinity-hamilton.com
SUMMARY:Maundy Thursday
DESCRIPTION:Join us for Trinity’s Maundy Thursday worship service. Everyone is welcome.
URL:https://trinity-hamilton.com/event/maundy-thursday/
LOCATION:Trinity Lutheran Church Fennell Ave.\, 232 Fennell Ave. E\, Hamilton\, Ontario\, Canada
ATTACH;FMTTYPE=image/jpeg:https://trinity-hamilton.com/wp-content/uploads/2024/02/Maundy-Thursday.jpg
END:VEVENT
BEGIN:VEVENT
DTSTART;TZID=America/Toronto:20260402T194500
DTEND;TZID=America/Toronto:20260402T203000
DTSTAMP:20260423T043303
CREATED:20260320T200251Z
LAST-MODIFIED:20260320T200251Z
UID:6399-1775159100-1775161800@trinity-hamilton.com
SUMMARY:Choir- Worship God with Music
DESCRIPTION:Come and find out about Trinity’s Choir and Worship God with Music! Whether contemporary\, traditional or global music is your favourite\, there’s always a way to musically enhance our worship. This is for singers and players of all instruments. \nContact Heide at heide.lang@gmail.com or 905-616-2575. Choir practices are held at 232 Fennell Ave. E.
URL:https://trinity-hamilton.com/event/choir-worship-god-with-music-2/
LOCATION:Trinity Lutheran Church Fennell Ave.\, 232 Fennell Ave. E\, Hamilton\, Ontario\, Canada
ATTACH;FMTTYPE=image/jpeg:https://trinity-hamilton.com/wp-content/uploads/2024/09/choir2-e1741894349692.jpg
END:VEVENT
BEGIN:VEVENT
DTSTART;TZID=America/Toronto:20260403T100000
DTEND;TZID=America/Toronto:20260403T110000
DTSTAMP:20260423T043303
CREATED:20260311T221530Z
LAST-MODIFIED:20260311T221530Z
UID:6333-1775210400-1775214000@trinity-hamilton.com
SUMMARY:Good Friday Worship Service
DESCRIPTION:Join us for Trinity’s Good Friday Worship Service. Everyone is welcome. You may also watch our service through livestream on Zoom. Please contact the church office at 905 974-9878 for the link. A recording of the 10:00 am service will be posted on the Trinity Lutheran Church YouTube channel by the end of the day.
URL:https://trinity-hamilton.com/event/good-friday-worship-service/
LOCATION:Trinity Lutheran Church Fennell Ave.\, 232 Fennell Ave. E\, Hamilton\, Ontario\, Canada
ATTACH;FMTTYPE=image/jpeg:https://trinity-hamilton.com/wp-content/uploads/2024/02/good-friday-crosses.jpg
END:VEVENT
BEGIN:VEVENT
DTSTART;TZID=America/Toronto:20260405T070000
DTEND;TZID=America/Toronto:20260405T200000
DTSTAMP:20260423T043303
CREATED:20260311T221808Z
LAST-MODIFIED:20260311T221808Z
UID:6335-1775372400-1775419200@trinity-hamilton.com
SUMMARY:Easter Sunrise Service
DESCRIPTION:Come and join us to welcome the first light on Easter morning at Beasley Park.
URL:https://trinity-hamilton.com/event/easter-sunrise-service/
LOCATION:Beasley Park\, 96 Mary Street\, Hamilton\, Ontario\, L8R 1K4\, Canada
ATTACH;FMTTYPE=image/jpeg:https://trinity-hamilton.com/wp-content/uploads/2025/03/sunrise-lake-batur-copy.jpg
END:VEVENT
BEGIN:VEVENT
DTSTART;TZID=America/Toronto:20260405T080000
DTEND;TZID=America/Toronto:20260405T090000
DTSTAMP:20260423T043303
CREATED:20260327T151308Z
LAST-MODIFIED:20260327T151308Z
UID:6437-1775376000-1775379600@trinity-hamilton.com
SUMMARY:Easter Breakfast
DESCRIPTION:Following the Easter Sunrise Service\, come and join us for breakfast at Stewart Memorial Church.
URL:https://trinity-hamilton.com/event/easter-breakfast/
LOCATION:Stewart Memorial Church\, 114 John Street North\, Hamilton\, Ontario\, L8R 1H6\, Canada
ATTACH;FMTTYPE=image/jpeg:https://trinity-hamilton.com/wp-content/uploads/2023/09/breakfast-copy2.jpg
END:VEVENT
BEGIN:VEVENT
DTSTART;TZID=America/Toronto:20260405T100000
DTEND;TZID=America/Toronto:20260405T110000
DTSTAMP:20260423T043303
CREATED:20260311T210007Z
LAST-MODIFIED:20260311T221834Z
UID:6305-1775383200-1775386800@trinity-hamilton.com
SUMMARY:Easter Worship Service
DESCRIPTION:We offer in-person Sunday Worship service at our Fennell Avenue location. You may also watch our service through livestream on Zoom. Please contact the church office at 905 974-9878 for the link. A recording of the 10:00 am service will be posted on the Trinity Lutheran Church YouTube channel by the end of the day.
URL:https://trinity-hamilton.com/event/sunday-worship-service/
LOCATION:Trinity Lutheran Church Fennell Ave.\, 232 Fennell Ave. E\, Hamilton\, Ontario\, Canada
ATTACH;FMTTYPE=image/jpeg:https://trinity-hamilton.com/wp-content/uploads/2024/02/Easter-Sunday.jpg
END:VEVENT
BEGIN:VEVENT
DTSTART;TZID=America/Toronto:20260405T100000
DTEND;TZID=America/Toronto:20260405T110000
DTSTAMP:20260423T043303
CREATED:20260311T211710Z
LAST-MODIFIED:20260311T211710Z
UID:6318-1775383200-1775386800@trinity-hamilton.com
SUMMARY:Children's Activity
DESCRIPTION:For the remaining Sundays of the month the children are invited to join in the regular worship service. A children’s message and quiet independent activity will be provided for those in attendance.
URL:https://trinity-hamilton.com/event/childrens-activity-12/
LOCATION:Trinity Lutheran Church Fennell Ave.\, 232 Fennell Ave. E\, Hamilton\, Ontario\, Canada
ATTACH;FMTTYPE=image/jpeg:https://trinity-hamilton.com/wp-content/uploads/2023/04/P1144169-scaled-e1732748375643.jpg
END:VEVENT
BEGIN:VEVENT
DTSTART;VALUE=DATE:20260406
DTEND;VALUE=DATE:20260407
DTSTAMP:20260423T043303
CREATED:20260320T195951Z
LAST-MODIFIED:20260320T195951Z
UID:6395-1775433600-1775519999@trinity-hamilton.com
SUMMARY:Easter Monday- Church Office Closed
DESCRIPTION:Please not that the church office is closed on Easter Monday.
URL:https://trinity-hamilton.com/event/easter-monday-church-office-closed/
LOCATION:Trinity Lutheran Church Fennell Ave.\, 232 Fennell Ave. E\, Hamilton\, Ontario\, Canada
ATTACH;FMTTYPE=image/jpeg:https://trinity-hamilton.com/wp-content/uploads/2026/03/Easter-daiseys.jpg
END:VEVENT
BEGIN:VEVENT
DTSTART;TZID=America/Toronto:20260407T100000
DTEND;TZID=America/Toronto:20260407T120000
DTSTAMP:20260423T043303
CREATED:20260312T191952Z
LAST-MODIFIED:20260312T191952Z
UID:6344-1775556000-1775563200@trinity-hamilton.com
SUMMARY:People's Café
DESCRIPTION:Everyone is welcome at the People’s Café on Tuesdays from 10:00 am to 12:00 pm. Refreshments and fellowship are offered. Come and make new friends or sit quietly by yourself. Our neighbours are also welcome to enjoy coffee and toast while sheltering from the weather. People wishing to volunteer to help with the program can contact Pastor Dani.
URL:https://trinity-hamilton.com/event/peoples-cafe-7/
LOCATION:Streetlight Church\, 82 Ferguson Street North\, Hamilton\, ON\, L8R 1L4\, Canada
ATTACH;FMTTYPE=image/jpeg:https://trinity-hamilton.com/wp-content/uploads/2024/01/group-of-people-for-creative-expression-class_low-res.jpg
END:VEVENT
BEGIN:VEVENT
DTSTART;TZID=America/Toronto:20260407T190000
DTEND;TZID=America/Toronto:20260407T200000
DTSTAMP:20260423T043303
CREATED:20260312T191019Z
LAST-MODIFIED:20260312T191019Z
UID:6338-1775588400-1775592000@trinity-hamilton.com
SUMMARY:Newsletter Committee Meeting
DESCRIPTION:The Newsletter Committee meeting is on the first Tuesday of the month at 7:00 p.m. via Zoom. The Zoom link will be provided to committee members.
URL:https://trinity-hamilton.com/event/newsletter-committee-meeting/
LOCATION:Online
ATTACH;FMTTYPE=image/png:https://trinity-hamilton.com/wp-content/uploads/2023/06/newsletter.png
END:VEVENT
BEGIN:VEVENT
DTSTART;TZID=America/Toronto:20260408T190000
DTEND;TZID=America/Toronto:20260408T200000
DTSTAMP:20260423T043303
CREATED:20260129T004854Z
LAST-MODIFIED:20260129T004854Z
UID:6156-1775674800-1775678400@trinity-hamilton.com
SUMMARY:Worship and Music Committee Meeting
DESCRIPTION:Worship and Music Committee Meeting members meet as needed to discuss the needs of Trinity in regard to the music program. Members will be sent a Zoom link.
URL:https://trinity-hamilton.com/event/worship-and-music-committee-meeting-3/
LOCATION:Online
ATTACH;FMTTYPE=image/png:https://trinity-hamilton.com/wp-content/uploads/2023/08/music-notes-e1760207984947.png
END:VEVENT
BEGIN:VEVENT
DTSTART;TZID=America/Toronto:20260409T110000
DTEND;TZID=America/Toronto:20260409T160000
DTSTAMP:20260423T043303
CREATED:20260312T200428Z
LAST-MODIFIED:20260312T200428Z
UID:6370-1775732400-1775750400@trinity-hamilton.com
SUMMARY:Good Food Box
DESCRIPTION:Good Food Box pick up is at 232 Fennell Ave. East between 11:00 a.m. and 4:00 p.m. \nTrinity’s Good Food Box Program runs from September to June on the second Thursday each month. \nFor $22 you will receive a bag of fruits and vegetables. \nSome financial help may be available. If possible\, please bring your own bags. \nTo order a good food box\, please email Pastor Thomas at tfrm58@gmail.com. You can also access the online Good Food Box form to order online. \nPlease note that orders need to be received at least one week prior to the pick-up date and prepayment by etransfer to Trinity Lutheran Church.
URL:https://trinity-hamilton.com/event/good-food-box-2/
LOCATION:Trinity Lutheran Church Fennell Ave.\, 232 Fennell Ave. E\, Hamilton\, Ontario\, Canada
ATTACH;FMTTYPE=image/jpeg:https://trinity-hamilton.com/wp-content/uploads/2023/04/good-food-box-copy-e1732500715511.jpg
END:VEVENT
BEGIN:VEVENT
DTSTART;TZID=America/Toronto:20260409T113000
DTEND;TZID=America/Toronto:20260409T123000
DTSTAMP:20260423T043303
CREATED:20260311T220308Z
LAST-MODIFIED:20260311T220308Z
UID:6322-1775734200-1775737800@trinity-hamilton.com
SUMMARY:Mid-Week Service
DESCRIPTION:Mid-Week service takes place on Thursdays at 11:30 a.m. Trinity offers a short mid-week service with Holy Communion at 232 Fennell Ave. East. You are welcome to bring a bag lunch for fellowship after the service.
URL:https://trinity-hamilton.com/event/mid-week-service-21/
LOCATION:Trinity Lutheran Church Fennell Ave.\, 232 Fennell Ave. E\, Hamilton\, Ontario\, Canada
ATTACH;FMTTYPE=image/jpeg:https://trinity-hamilton.com/wp-content/uploads/2024/06/Jordan-Trinity-copy2.jpg
END:VEVENT
BEGIN:VEVENT
DTSTART;TZID=America/Toronto:20260409T120000
DTEND;TZID=America/Toronto:20260409T143000
DTSTAMP:20260423T043303
CREATED:20260312T200320Z
LAST-MODIFIED:20260312T200320Z
UID:6368-1775736000-1775745000@trinity-hamilton.com
SUMMARY:Good Food Box
DESCRIPTION:Good Food Box pick up at Eucharist Church\, 130 Victoria Ave. N. between 12:00 and 2:30 p.m. \nTrinity’s Good Food Box Program runs from September to June on the second Thursday each month. \nFor $22 you will receive a bag of fruits and vegetables. Some financial help may be available. \nIf possible\, please bring your own bags. \nTo order a good food box\, please email Pastor Thomas at tfrm58@gmail.com. You can also access the online Good Food Box form to order online. \nPlease note that orders need to be received at least one week prior to the pick-up date and prepayment by etransfer to Trinity Lutheran Church.
URL:https://trinity-hamilton.com/event/good-food-box/
LOCATION:Eucharist Church\, 130 Victoria Ave. N.\, Hamilton\, ON\, L8L 5E5\, Canada
ATTACH;FMTTYPE=image/jpeg:https://trinity-hamilton.com/wp-content/uploads/2023/04/good-food-box-copy-e1732500715511.jpg
END:VEVENT
BEGIN:VEVENT
DTSTART;TZID=America/Toronto:20260409T190000
DTEND;TZID=America/Toronto:20260409T203000
DTSTAMP:20260423T043303
CREATED:20260312T200653Z
LAST-MODIFIED:20260312T200653Z
UID:6372-1775761200-1775766600@trinity-hamilton.com
SUMMARY:Choir- Worship God with Music
DESCRIPTION:Come and find out about Trinity’s Choir and Worship God with Music! Whether contemporary\, traditional or global music is your favourite\, there’s always a way to musically enhance our worship. This is for singers and players of all instruments. \nContact Heide at heide.lang@gmail.com or 905-616-2575. Choir practices are held at 232 Fennell Ave. E.
URL:https://trinity-hamilton.com/event/choir-worship-god-with-music/
LOCATION:Trinity Lutheran Church Fennell Ave.\, 232 Fennell Ave. E\, Hamilton\, Ontario\, Canada
ATTACH;FMTTYPE=image/jpeg:https://trinity-hamilton.com/wp-content/uploads/2024/09/choir2-e1741894349692.jpg
END:VEVENT
BEGIN:VEVENT
DTSTART;TZID=America/Toronto:20260412T100000
DTEND;TZID=America/Toronto:20260412T110000
DTSTAMP:20260423T043303
CREATED:20260311T210409Z
LAST-MODIFIED:20260311T210409Z
UID:6307-1775988000-1775991600@trinity-hamilton.com
SUMMARY:Sunday Worship Service
DESCRIPTION:We offer in-person Sunday Worship service at our Fennell Avenue location. You may also watch our service through livestream on Zoom. Please contact the church office at 905 974-9878 for the link. A recording of the 10:00 am service will be posted on the Trinity Lutheran Church YouTube channel by the end of the day.
URL:https://trinity-hamilton.com/event/sunday-worship-service-16/
LOCATION:Trinity Lutheran Church Fennell Ave.\, 232 Fennell Ave. E\, Hamilton\, Ontario\, Canada
ATTACH;FMTTYPE=image/jpeg:https://trinity-hamilton.com/wp-content/uploads/2023/06/pastor-Daniella6-e1732747256780.jpg
END:VEVENT
BEGIN:VEVENT
DTSTART;TZID=America/Toronto:20260412T100000
DTEND;TZID=America/Toronto:20260412T110000
DTSTAMP:20260423T043303
CREATED:20260311T211104Z
LAST-MODIFIED:20260311T211104Z
UID:6314-1775988000-1775991600@trinity-hamilton.com
SUMMARY:Sunday School
DESCRIPTION:Learning together is an important part of Sunday School. It is a place to learn about God and his teachings. We offer Sunday School from September to June for children ages 3 to 12. Sunday school run parallel to the Sunday Worship service at 10.00 a.m. The children begin the morning in Sunday School and join the congregation in the sanctuary at communion.
URL:https://trinity-hamilton.com/event/sunday-school-14/
LOCATION:Trinity Lutheran Church Fennell Ave.\, 232 Fennell Ave. E\, Hamilton\, Ontario\, Canada
ATTACH;FMTTYPE=image/jpeg:https://trinity-hamilton.com/wp-content/uploads/2023/02/Children.jpg
END:VEVENT
BEGIN:VEVENT
DTSTART;TZID=America/Toronto:20260413T093000
DTEND;TZID=America/Toronto:20260413T110000
DTSTAMP:20260423T043303
CREATED:20260312T195428Z
LAST-MODIFIED:20260312T195428Z
UID:6360-1776072600-1776078000@trinity-hamilton.com
SUMMARY:Friendship Circle
DESCRIPTION:The Friendship Circle Ladies meet on Mondays at Trinity at 232 Fennell Ave. E. Come and join the Friendship Circle ladies for fellowship and creativity. We quilt and work on other creative projects. No experience is necessary.\nThe Friendship Circle is also looking for cotton material for quilting\, lightweight towels to make washcloths and flannel (sheets) to make diapers. If you’re interested in joining\, want more information\, or if you have donations\, please contact Marie Stanat 289-919-0603.
URL:https://trinity-hamilton.com/event/friendship-circle-12/
LOCATION:Trinity Lutheran Church Fennell Ave.\, 232 Fennell Ave. E\, Hamilton\, Ontario\, Canada
ATTACH;FMTTYPE=image/jpeg:https://trinity-hamilton.com/wp-content/uploads/2024/04/circle.jpg
END:VEVENT
BEGIN:VEVENT
DTSTART;TZID=America/Toronto:20260414T100000
DTEND;TZID=America/Toronto:20260414T120000
DTSTAMP:20260423T043303
CREATED:20260312T192055Z
LAST-MODIFIED:20260312T192055Z
UID:6346-1776160800-1776168000@trinity-hamilton.com
SUMMARY:People's Café
DESCRIPTION:Everyone is welcome at the People’s Café on Tuesdays from 10:00 am to 12:00 pm. Refreshments and fellowship are offered. Come and make new friends or sit quietly by yourself. Our neighbours are also welcome to enjoy coffee and toast while sheltering from the weather. People wishing to volunteer to help with the program can contact Pastor Dani.
URL:https://trinity-hamilton.com/event/peoples-cafe-8/
LOCATION:Streetlight Church\, 82 Ferguson Street North\, Hamilton\, ON\, L8R 1L4\, Canada
ATTACH;FMTTYPE=image/jpeg:https://trinity-hamilton.com/wp-content/uploads/2023/09/peoples-cafe-coffee.jpg
END:VEVENT
BEGIN:VEVENT
DTSTART;TZID=America/Toronto:20260414T190000
DTEND;TZID=America/Toronto:20260414T200000
DTSTAMP:20260423T043303
CREATED:20260312T191659Z
LAST-MODIFIED:20260312T191750Z
UID:6342-1776193200-1776196800@trinity-hamilton.com
SUMMARY:Congregational Life Meeting
DESCRIPTION:The meeting will take place Tuesday April 14 at 7:00 p.m. via Zoom. Committee members will receive the Zoom link.
URL:https://trinity-hamilton.com/event/congregational-life-meeting/
LOCATION:Online
ATTACH;FMTTYPE=image/jpeg:https://trinity-hamilton.com/wp-content/uploads/2023/06/congregation-e1732747121525.jpg
END:VEVENT
BEGIN:VEVENT
DTSTART;TZID=America/Toronto:20260416T113000
DTEND;TZID=America/Toronto:20260416T123000
DTSTAMP:20260423T043303
CREATED:20260311T220409Z
LAST-MODIFIED:20260311T220409Z
UID:6324-1776339000-1776342600@trinity-hamilton.com
SUMMARY:Mid-Week Service
DESCRIPTION:Mid-Week service takes place on Thursdays at 11:30 a.m. Trinity offers a short mid-week service with Holy Communion at 232 Fennell Ave. East. You are welcome to bring a bag lunch for fellowship after the service.
URL:https://trinity-hamilton.com/event/mid-week-service-22/
LOCATION:Trinity Lutheran Church Fennell Ave.\, 232 Fennell Ave. E\, Hamilton\, Ontario\, Canada
ATTACH;FMTTYPE=image/jpeg:https://trinity-hamilton.com/wp-content/uploads/2023/06/pastor-Daniella6-e1732747256780.jpg
END:VEVENT
BEGIN:VEVENT
DTSTART;TZID=America/Toronto:20260416T180000
DTEND;TZID=America/Toronto:20260416T190000
DTSTAMP:20260423T043303
CREATED:20260322T164657Z
LAST-MODIFIED:20260324T194429Z
UID:6413-1776362400-1776366000@trinity-hamilton.com
SUMMARY:Supper Club
DESCRIPTION:Join us for a hearty meal\, prepared with the ingredients we find in the Good Food Box. You will have the opportunity to get a recipe\, and if you come a little earlier watch the cook and learn how to prepare this meal. Everybody is invited (whether you receive a Good Food Box or not).
URL:https://trinity-hamilton.com/event/supper-club/
LOCATION:Trinity Lutheran Church Fennell Ave.\, 232 Fennell Ave. E\, Hamilton\, Ontario\, Canada
ATTACH;FMTTYPE=image/jpeg:https://trinity-hamilton.com/wp-content/uploads/2026/03/delicious-goulash-ready-dinner-copy.jpg
END:VEVENT
BEGIN:VEVENT
DTSTART;TZID=America/Toronto:20260416T190000
DTEND;TZID=America/Toronto:20260416T203000
DTSTAMP:20260423T043303
CREATED:20260312T200956Z
LAST-MODIFIED:20260312T200956Z
UID:6374-1776366000-1776371400@trinity-hamilton.com
SUMMARY:Choir- Worship God with Music
DESCRIPTION:Come and find out about Trinity’s Choir and Worship God with Music! Whether contemporary\, traditional or global music is your favourite\, there’s always a way to musically enhance our worship. This is for singers and players of all instruments. \nContact Heide at heide.lang@gmail.com or 905-616-2575. Choir practices are held at 232 Fennell Ave. E.
URL:https://trinity-hamilton.com/event/choir-worship-god-with-music-26/
LOCATION:Trinity Lutheran Church Fennell Ave.\, 232 Fennell Ave. E\, Hamilton\, Ontario\, Canada
ATTACH;FMTTYPE=image/jpeg:https://trinity-hamilton.com/wp-content/uploads/2024/09/choir3-e1747834766926.jpg
END:VEVENT
BEGIN:VEVENT
DTSTART;TZID=America/Toronto:20260418T100000
DTEND;TZID=America/Toronto:20260418T113000
DTSTAMP:20260423T043303
CREATED:20260323T210433Z
LAST-MODIFIED:20260324T203616Z
UID:6423-1776506400-1776511800@trinity-hamilton.com
SUMMARY:Bird Watching Outing
DESCRIPTION:April is an exciting time of year when many of our earlier migrants make their journey north and pass through our area to their breeding grounds. We’re going to meet at Spring Gardens Road just north of Woodland Cemetery and walk the Grindstone Marsh Trail of the RBG into Hendrie Valley. This area provides us with a variety of water features from the lake’s harbour to ponds\, marshland\, and a creek. \nWhether you are an experienced birder or a novice\, join Debbie Lindeman and Dennis Price for a morning of birding. Please bring a pair of binoculars if you have them. \nPlease email Debbie at deborahlindeman3@gmail.com or call at (905) 389-0224 if you would like to participate. More detailed information about parking and the meeting spot will be sent to you.
URL:https://trinity-hamilton.com/event/bird-watching-outing-2/
LOCATION:Grindstone Marsh Trail\, Royal Botanical Gardens\, 885 Spring Gardens Rd.\, Burlington\, ON\, Canada
ATTACH;FMTTYPE=image/jpeg:https://trinity-hamilton.com/wp-content/uploads/2023/09/binocular-copy.jpg
END:VEVENT
END:VCALENDAR