BEGIN:VCALENDAR
VERSION:2.0
PRODID:-//Trinity Lutheran Church - ECPv6.15.20//NONSGML v1.0//EN
CALSCALE:GREGORIAN
METHOD:PUBLISH
X-ORIGINAL-URL:https://trinity-hamilton.com
X-WR-CALDESC:Events for Trinity Lutheran Church
REFRESH-INTERVAL;VALUE=DURATION:PT1H
X-Robots-Tag:noindex
X-PUBLISHED-TTL:PT1H
BEGIN:VTIMEZONE
TZID:America/Toronto
BEGIN:DAYLIGHT
TZOFFSETFROM:-0500
TZOFFSETTO:-0400
TZNAME:EDT
DTSTART:20240310T070000
END:DAYLIGHT
BEGIN:STANDARD
TZOFFSETFROM:-0400
TZOFFSETTO:-0500
TZNAME:EST
DTSTART:20241103T060000
END:STANDARD
BEGIN:DAYLIGHT
TZOFFSETFROM:-0500
TZOFFSETTO:-0400
TZNAME:EDT
DTSTART:20250309T070000
END:DAYLIGHT
BEGIN:STANDARD
TZOFFSETFROM:-0400
TZOFFSETTO:-0500
TZNAME:EST
DTSTART:20251102T060000
END:STANDARD
BEGIN:DAYLIGHT
TZOFFSETFROM:-0500
TZOFFSETTO:-0400
TZNAME:EDT
DTSTART:20260308T070000
END:DAYLIGHT
BEGIN:STANDARD
TZOFFSETFROM:-0400
TZOFFSETTO:-0500
TZNAME:EST
DTSTART:20261101T060000
END:STANDARD
BEGIN:DAYLIGHT
TZOFFSETFROM:-0500
TZOFFSETTO:-0400
TZNAME:EDT
DTSTART:20270314T070000
END:DAYLIGHT
BEGIN:STANDARD
TZOFFSETFROM:-0400
TZOFFSETTO:-0500
TZNAME:EST
DTSTART:20271107T060000
END:STANDARD
END:VTIMEZONE
BEGIN:VEVENT
DTSTART;TZID=America/Toronto:20251215T093000
DTEND;TZID=America/Toronto:20251215T113000
DTSTAMP:20260423T132311
CREATED:20251124T211510Z
LAST-MODIFIED:20251124T211510Z
UID:5810-1765791000-1765798200@trinity-hamilton.com
SUMMARY:Friendship Circle
DESCRIPTION:The Friendship Circle Ladies meet on Mondays at Trinity at 232 Fennell Ave. E. Come and join the Friendship Circle ladies for fellowship and creativity. We quilt and work on other creative projects. No experience is necessary.\nThe Friendship Circle is also looking for cotton material for quilting\, lightweight towels to make washcloths and flannel (sheets) to make diapers. If you’re interested in joining\, want more information\, or if you have donations\, please contact Marie Stanat 289-919-0603.
URL:https://trinity-hamilton.com/event/friendship-circle-27/
LOCATION:Trinity Lutheran Church Fennell Ave.\, 232 Fennell Ave. E\, Hamilton\, Ontario\, Canada
ATTACH;FMTTYPE=image/jpeg:https://trinity-hamilton.com/wp-content/uploads/2024/04/circle.jpg
END:VEVENT
BEGIN:VEVENT
DTSTART;TZID=America/Toronto:20251215T190000
DTEND;TZID=America/Toronto:20251215T203000
DTSTAMP:20260423T132311
CREATED:20251117T224225Z
LAST-MODIFIED:20251117T224225Z
UID:5729-1765825200-1765830600@trinity-hamilton.com
SUMMARY:Trinity Board of Directors Meeting
DESCRIPTION:The Trinity Board of Directors meeting is on Monday December 15 at 7:00 p.m. at 232 Fennell Ave. East.
URL:https://trinity-hamilton.com/event/trinity-board-of-directors-meeting-6/
LOCATION:Trinity Lutheran Church Fennell Ave.\, 232 Fennell Ave. E\, Hamilton\, Ontario\, Canada
ATTACH;FMTTYPE=image/jpeg:https://trinity-hamilton.com/wp-content/uploads/2023/06/meeting-group1-copy.jpg
END:VEVENT
BEGIN:VEVENT
DTSTART;TZID=America/Toronto:20251216T100000
DTEND;TZID=America/Toronto:20251216T120000
DTSTAMP:20260423T132311
CREATED:20251117T022321Z
LAST-MODIFIED:20251117T022321Z
UID:5723-1765879200-1765886400@trinity-hamilton.com
SUMMARY:People's Café
DESCRIPTION:Everyone is welcome at the People’s Café on Tuesdays from 10:00 am to 12:00 pm. Refreshments and fellowship are offered. Come and make new friends or sit quietly by yourself. Our neighbours are also welcome to enjoy coffee and toast while sheltering from the weather. People wishing to volunteer to help with the program can contact Pastor Dani.
URL:https://trinity-hamilton.com/event/peoples-cafe-22/
LOCATION:Streetlight Church\, 82 Ferguson Street North\, Hamilton\, ON\, L8R 1L4\, Canada
ATTACH;FMTTYPE=image/jpeg:https://trinity-hamilton.com/wp-content/uploads/2024/01/alzheimer-cafe-low-res-e1741893245194.jpg
END:VEVENT
BEGIN:VEVENT
DTSTART;TZID=America/Toronto:20251216T133000
DTEND;TZID=America/Toronto:20251216T150000
DTSTAMP:20260423T132311
CREATED:20251117T230542Z
LAST-MODIFIED:20251124T011130Z
UID:5739-1765891800-1765897200@trinity-hamilton.com
SUMMARY:Lutheran Ladies United (LLU)
DESCRIPTION:“Bells At Christmas” is the theme for this year’s Christmas Program. We hope you will join us on December 16 at 1:30pm\, 232 Fennell Avenue East.\nIf possible bring a bell so you can join us in ringing in the Christmas Season. \nThe Christmas Market was a great success in part due to Trinity’s faithful support of the LLU. Your donations and attendance were very much\nappreciated. Proceeds from the bazaar were approximately $3\,000 before expenses\, will again be donated to The Living Rock and Liberty for Youth. \nThe next regular LLU meeting will take place on February 17\, 2026.\nMany thanks for collecting Denninger receipts and milk bags throughout 2025.\nMerry Christmas and a blessed New Year.
URL:https://trinity-hamilton.com/event/lutheran-ladies-united-llu-3/
LOCATION:Trinity Lutheran Church Fennell Ave.\, 232 Fennell Ave. E\, Hamilton\, Ontario\, Canada
ATTACH;FMTTYPE=image/jpeg:https://trinity-hamilton.com/wp-content/uploads/2023/08/handbells-2793510_1280.jpg
END:VEVENT
BEGIN:VEVENT
DTSTART;TZID=America/Toronto:20251218T113000
DTEND;TZID=America/Toronto:20251218T123000
DTSTAMP:20260423T132311
CREATED:20251116T204410Z
LAST-MODIFIED:20251116T204410Z
UID:5705-1766057400-1766061000@trinity-hamilton.com
SUMMARY:Mid-Week Service
DESCRIPTION:Mid-Week service takes place on Thursdays at 11:30 a.m. Trinity offers a short mid-week service with Holy Communion at 232 Fennell Ave. East. You are welcome to bring a bag lunch for fellowship after the service.
URL:https://trinity-hamilton.com/event/mid-week-service-17/
LOCATION:Trinity Lutheran Church Fennell Ave.\, 232 Fennell Ave. E\, Hamilton\, Ontario\, Canada
ATTACH;FMTTYPE=image/jpeg:https://trinity-hamilton.com/wp-content/uploads/2023/06/congregation-e1732747121525.jpg
END:VEVENT
BEGIN:VEVENT
DTSTART;TZID=America/Toronto:20251218T190000
DTEND;TZID=America/Toronto:20251218T200000
DTSTAMP:20260423T132311
CREATED:20251116T205318Z
LAST-MODIFIED:20251116T205318Z
UID:5709-1766084400-1766088000@trinity-hamilton.com
SUMMARY:Choir- Worship God with Music
DESCRIPTION:Come and find out about Trinity’s Choir and Worship God with Music! Whether contemporary\, traditional or global music is your favourite\, there’s always a way to musically enhance our worship. This is for singers and players of all instruments. \nContact Heide at heide.lang@gmail.com or 905-616-2575. Choir practices are held at 232 Fennell Ave. E.
URL:https://trinity-hamilton.com/event/choir-worship-god-with-music-14/
LOCATION:Trinity Lutheran Church Fennell Ave.\, 232 Fennell Ave. E\, Hamilton\, Ontario\, Canada
ATTACH;FMTTYPE=image/jpeg:https://trinity-hamilton.com/wp-content/uploads/2024/09/choir3-e1747834766926.jpg
END:VEVENT
BEGIN:VEVENT
DTSTART;TZID=America/Toronto:20251219T170000
DTEND;TZID=America/Toronto:20251219T190000
DTSTAMP:20260423T132311
CREATED:20251118T164546Z
LAST-MODIFIED:20251118T164546Z
UID:5783-1766163600-1766170800@trinity-hamilton.com
SUMMARY:Confirmation Class
DESCRIPTION:Confirmation class is an opportunity to reflect on faith-related questions in an open and non-judgmental atmosphere.\nWe see confirmation as a starting point for being involved in the congregation. Our classes run for two years (September to April) and end with confirmation on Palm Sunday of the second year. \nCome and join us to find out more about God and life.
URL:https://trinity-hamilton.com/event/confirmation-class-5/
LOCATION:Trinity Lutheran Church Fennell Ave.\, 232 Fennell Ave. E\, Hamilton\, Ontario\, Canada
ATTACH;FMTTYPE=image/png:https://trinity-hamilton.com/wp-content/uploads/2023/08/confirmation.png
END:VEVENT
BEGIN:VEVENT
DTSTART;TZID=America/Toronto:20251220T140000
DTEND;TZID=America/Toronto:20251220T160000
DTSTAMP:20260423T132311
CREATED:20251117T225410Z
LAST-MODIFIED:20251118T170854Z
UID:5735-1766239200-1766246400@trinity-hamilton.com
SUMMARY:German Afternoon-Weihnachtsfeier
DESCRIPTION:Join us for Weihnachtsfeier. We will have a Christmas Celebration with a devotion\, stories and hymn singing\, all in German.
URL:https://trinity-hamilton.com/event/german-afternoon-2/
LOCATION:Trinity Lutheran Church Fennell Ave.\, 232 Fennell Ave. E\, Hamilton\, Ontario\, Canada
ATTACH;FMTTYPE=image/jpeg:https://trinity-hamilton.com/wp-content/uploads/2025/11/weihnachtsfeirer.jpg
END:VEVENT
BEGIN:VEVENT
DTSTART;TZID=America/Toronto:20251221T100000
DTEND;TZID=America/Toronto:20251221T110000
DTSTAMP:20260423T132311
CREATED:20251112T201521Z
LAST-MODIFIED:20251112T201521Z
UID:5664-1766311200-1766314800@trinity-hamilton.com
SUMMARY:Sunday Worship Service
DESCRIPTION:We offer in-person Sunday Worship service at our Fennell Avenue location. You may also watch our service through livestream on Zoom. Please contact the church office at 905 974-9878 for the link. A recording of the 10:00 am service will be posted on the Trinity Lutheran Church YouTube channel by the end of the day.
URL:https://trinity-hamilton.com/event/sunday-worship-service-25/
LOCATION:Trinity Lutheran Church Fennell Ave.\, 232 Fennell Ave. E\, Hamilton\, Ontario\, Canada
ATTACH;FMTTYPE=image/jpeg:https://trinity-hamilton.com/wp-content/uploads/2024/06/Jordan-Trinity-copy2.jpg
END:VEVENT
BEGIN:VEVENT
DTSTART;TZID=America/Toronto:20251221T100000
DTEND;TZID=America/Toronto:20251221T110000
DTSTAMP:20260423T132311
CREATED:20251116T194739Z
LAST-MODIFIED:20251116T194739Z
UID:5679-1766311200-1766314800@trinity-hamilton.com
SUMMARY:Sunday School
DESCRIPTION:Learning together is an important part of Sunday School. It is a place to learn about God and his teachings. We offer Sunday School from September to June for children ages 3 to 12. Sunday school run parallel to the Sunday Worship service at 10.00 a.m. The children begin the morning in Sunday School and join the congregation in the sanctuary at communion. \nSunday School includes bible stories\, crafts\, games\, and songs. Parents of younger children are welcome to join.
URL:https://trinity-hamilton.com/event/sunday-school-7/
LOCATION:Trinity Lutheran Church Fennell Ave.\, 232 Fennell Ave. E\, Hamilton\, Ontario\, Canada
ATTACH;FMTTYPE=image/jpeg:https://trinity-hamilton.com/wp-content/uploads/2023/02/Children.jpg
END:VEVENT
BEGIN:VEVENT
DTSTART;TZID=America/Toronto:20251223T100000
DTEND;TZID=America/Toronto:20251223T120000
DTSTAMP:20260423T132311
CREATED:20251117T022457Z
LAST-MODIFIED:20251117T022457Z
UID:5725-1766484000-1766491200@trinity-hamilton.com
SUMMARY:People's Café
DESCRIPTION:Everyone is welcome at the People’s Café on Tuesdays from 10:00 am to 12:00 pm. Refreshments and fellowship are offered. Come and make new friends or sit quietly by yourself. Our neighbours are also welcome to enjoy coffee and toast while sheltering from the weather. People wishing to volunteer to help with the program can contact Pastor Dani.
URL:https://trinity-hamilton.com/event/peoples-cafe-23/
LOCATION:Streetlight Church\, 82 Ferguson Street North\, Hamilton\, ON\, L8R 1L4\, Canada
ATTACH;FMTTYPE=image/jpeg:https://trinity-hamilton.com/wp-content/uploads/2023/11/group-friends-enjoying-coffee-copy.jpg
END:VEVENT
BEGIN:VEVENT
DTSTART;TZID=America/Toronto:20251224T140000
DTEND;TZID=America/Toronto:20251224T150000
DTSTAMP:20260423T132311
CREATED:20251112T202644Z
LAST-MODIFIED:20251112T202705Z
UID:5669-1766584800-1766588400@trinity-hamilton.com
SUMMARY:Christmas Eve Worship Service
DESCRIPTION:Join us for Christmas Eve worship service. We are offering 3 different worship service times on December 24\, at 2:00 p.m.\, 5:00 p.m. and 7:00 p.m.
URL:https://trinity-hamilton.com/event/christmas-eve-worship-service/
LOCATION:Trinity Lutheran Church Fennell Ave.\, 232 Fennell Ave. E\, Hamilton\, Ontario\, Canada
ATTACH;FMTTYPE=image/jpeg:https://trinity-hamilton.com/wp-content/uploads/2024/11/christmas-tree-e1761159699953.jpg
END:VEVENT
BEGIN:VEVENT
DTSTART;TZID=America/Toronto:20251224T170000
DTEND;TZID=America/Toronto:20251224T180000
DTSTAMP:20260423T132311
CREATED:20251112T202855Z
LAST-MODIFIED:20251112T202855Z
UID:5671-1766595600-1766599200@trinity-hamilton.com
SUMMARY:Christmas Eve Worship Service
DESCRIPTION:Join us for Christmas Eve worship service. We are offering 3 different times on December 24 at 2:00 p.m.\, 5:00 p.m. and 7:00 p.m.
URL:https://trinity-hamilton.com/event/christmas-eve-worship-service-2/
LOCATION:Trinity Lutheran Church Fennell Ave.\, 232 Fennell Ave. E\, Hamilton\, Ontario\, Canada
ATTACH;FMTTYPE=image/jpeg:https://trinity-hamilton.com/wp-content/uploads/2024/11/christmas-tree-e1761159699953.jpg
END:VEVENT
BEGIN:VEVENT
DTSTART;TZID=America/Toronto:20251224T190000
DTEND;TZID=America/Toronto:20251224T200000
DTSTAMP:20260423T132311
CREATED:20251112T203007Z
LAST-MODIFIED:20251112T203007Z
UID:5673-1766602800-1766606400@trinity-hamilton.com
SUMMARY:Christmas Eve Worship Service
DESCRIPTION:Join us for Christmas Eve worship service. We are offering 3 different times on December 24 at 2:00 p.m.\, 5:00 p.m. and 7:00 p.m.
URL:https://trinity-hamilton.com/event/christmas-eve-worship-service-3/
LOCATION:Trinity Lutheran Church Fennell Ave.\, 232 Fennell Ave. E\, Hamilton\, Ontario\, Canada
ATTACH;FMTTYPE=image/jpeg:https://trinity-hamilton.com/wp-content/uploads/2024/11/christmas-tree-e1761159699953.jpg
END:VEVENT
BEGIN:VEVENT
DTSTART;TZID=America/Toronto:20251225T100000
DTEND;TZID=America/Toronto:20251225T110000
DTSTAMP:20260423T132311
CREATED:20251112T203218Z
LAST-MODIFIED:20251112T203218Z
UID:5675-1766656800-1766660400@trinity-hamilton.com
SUMMARY:Christmas Day Worship Service
DESCRIPTION:Please join us for Christmas Day worship service at our Fennell Avenue location. You may also watch our service through livestream on Zoom. Please contact the church office at 905 974-9878 for the link. A recording of the 10:00 am service will be posted on the Trinity Lutheran Church YouTube channel by the end of the day.
URL:https://trinity-hamilton.com/event/christmas-day-worship-service/
LOCATION:Trinity Lutheran Church Fennell Ave.\, 232 Fennell Ave. E\, Hamilton\, Ontario\, Canada
ATTACH;FMTTYPE=image/jpeg:https://trinity-hamilton.com/wp-content/uploads/2023/11/IMG_2184-copy-scaled.jpg
END:VEVENT
BEGIN:VEVENT
DTSTART;TZID=America/Toronto:20251228T100000
DTEND;TZID=America/Toronto:20251228T110000
DTSTAMP:20260423T132311
CREATED:20251112T201639Z
LAST-MODIFIED:20251112T201639Z
UID:5666-1766916000-1766919600@trinity-hamilton.com
SUMMARY:Sunday Worship Service
DESCRIPTION:We offer in-person Sunday Worship service at our Fennell Avenue location. You may also watch our service through livestream on Zoom. Please contact the church office at 905 974-9878 for the link. A recording of the 10:00 am service will be posted on the Trinity Lutheran Church YouTube channel by the end of the day.
URL:https://trinity-hamilton.com/event/sunday-worship-service-26/
LOCATION:Trinity Lutheran Church Fennell Ave.\, 232 Fennell Ave. E\, Hamilton\, Ontario\, Canada
ATTACH;FMTTYPE=image/jpeg:https://trinity-hamilton.com/wp-content/uploads/2023/06/pastor-Daniella6-e1732747256780.jpg
END:VEVENT
BEGIN:VEVENT
DTSTART;TZID=America/Toronto:20251228T100000
DTEND;TZID=America/Toronto:20251228T110000
DTSTAMP:20260423T132311
CREATED:20251116T195933Z
LAST-MODIFIED:20251116T195933Z
UID:5683-1766916000-1766919600@trinity-hamilton.com
SUMMARY:Children's Activity
DESCRIPTION:For the remaining Sundays of the month the children are invited to join in the regular worship service. A children’s message and quiet independent activity will be provided for those in attendance.
URL:https://trinity-hamilton.com/event/childrens-activity-5/
LOCATION:Trinity Lutheran Church Fennell Ave.\, 232 Fennell Ave. E\, Hamilton\, Ontario\, Canada
ATTACH;FMTTYPE=image/jpeg:https://trinity-hamilton.com/wp-content/uploads/2023/04/Pastor-Dani.jpg
END:VEVENT
BEGIN:VEVENT
DTSTART;TZID=America/Toronto:20251230T100000
DTEND;TZID=America/Toronto:20251230T120000
DTSTAMP:20260423T132311
CREATED:20251117T022633Z
LAST-MODIFIED:20251117T022633Z
UID:5727-1767088800-1767096000@trinity-hamilton.com
SUMMARY:People's Café
DESCRIPTION:Everyone is welcome at the People’s Café on Tuesdays from 10:00 am to 12:00 pm. Refreshments and fellowship are offered. Come and make new friends or sit quietly by yourself. Our neighbours are also welcome to enjoy coffee and toast while sheltering from the weather. People wishing to volunteer to help with the program can contact Pastor Dani.
URL:https://trinity-hamilton.com/event/peoples-cafe-24/
LOCATION:Streetlight Church\, 82 Ferguson Street North\, Hamilton\, ON\, L8R 1L4\, Canada
ATTACH;FMTTYPE=image/jpeg:https://trinity-hamilton.com/wp-content/uploads/2023/09/peoples-cafe-coffee.jpg
END:VEVENT
BEGIN:VEVENT
DTSTART;TZID=America/Toronto:20260104T100000
DTEND;TZID=America/Toronto:20260104T110000
DTSTAMP:20260423T132311
CREATED:20251116T200538Z
LAST-MODIFIED:20251116T200538Z
UID:5689-1767520800-1767524400@trinity-hamilton.com
SUMMARY:Sunday School
DESCRIPTION:Learning together is an important part of Sunday School. It is a place to learn about God and his teachings. We offer Sunday School from September to June for children ages 3 to 12. Sunday school run parallel to the Sunday Worship service at 10.00 a.m. The children begin the morning in Sunday School and join the congregation in the sanctuary at communion.
URL:https://trinity-hamilton.com/event/sunday-school-8/
LOCATION:Trinity Lutheran Church Fennell Ave.\, 232 Fennell Ave. E\, Hamilton\, Ontario\, Canada
ATTACH;FMTTYPE=image/jpeg:https://trinity-hamilton.com/wp-content/uploads/2023/06/SundaySchool-1-e1739737315196.jpg
END:VEVENT
BEGIN:VEVENT
DTSTART;TZID=America/Toronto:20260104T100000
DTEND;TZID=America/Toronto:20260104T110000
DTSTAMP:20260423T132311
CREATED:20251116T200818Z
LAST-MODIFIED:20251116T200818Z
UID:5693-1767520800-1767524400@trinity-hamilton.com
SUMMARY:Sunday Worship Service
DESCRIPTION:We offer in-person Sunday Worship service at our Fennell Avenue location. You may also watch our service through livestream on Zoom. Please contact the church office at 905 974-9878 for the link. A recording of the 10:00 am service will be posted on the Trinity Lutheran Church YouTube channel by the end of the day.
URL:https://trinity-hamilton.com/event/sunday-worship-service-27/
LOCATION:Trinity Lutheran Church Fennell Ave.\, 232 Fennell Ave. E\, Hamilton\, Ontario\, Canada
ATTACH;FMTTYPE=image/jpeg:https://trinity-hamilton.com/wp-content/uploads/2024/06/Jordan-Trinity-copy2.jpg
END:VEVENT
BEGIN:VEVENT
DTSTART;TZID=America/Toronto:20260105T093000
DTEND;TZID=America/Toronto:20260105T113000
DTSTAMP:20260423T132311
CREATED:20251124T212026Z
LAST-MODIFIED:20251124T212026Z
UID:5812-1767605400-1767612600@trinity-hamilton.com
SUMMARY:Friendship Circle
DESCRIPTION:The Friendship Circle Ladies meet on Mondays at Trinity at 232 Fennell Ave. E. Come and join the Friendship Circle ladies for fellowship and creativity. We quilt and work on other creative projects. No experience is necessary.\nThe Friendship Circle is also looking for cotton material for quilting\, lightweight towels to make washcloths and flannel (sheets) to make diapers. If you’re interested in joining\, want more information\, or if you have donations\, please contact Marie Stanat 289-919-0603.
URL:https://trinity-hamilton.com/event/friendship-circle-28/
LOCATION:Trinity Lutheran Church Fennell Ave.\, 232 Fennell Ave. E\, Hamilton\, Ontario\, Canada
ATTACH;FMTTYPE=image/jpeg:https://trinity-hamilton.com/wp-content/uploads/2024/04/circle.jpg
END:VEVENT
BEGIN:VEVENT
DTSTART;TZID=America/Toronto:20260106T100000
DTEND;TZID=America/Toronto:20260106T120000
DTSTAMP:20260423T132311
CREATED:20251118T163608Z
LAST-MODIFIED:20251118T163657Z
UID:5773-1767693600-1767700800@trinity-hamilton.com
SUMMARY:People's Café
DESCRIPTION:Everyone is welcome at the People’s Café on Tuesdays from 10:00 am to 12:00 pm. Refreshments and fellowship are offered. Come and make new friends or sit quietly by yourself. Our neighbours are also welcome to enjoy coffee and toast while sheltering from the weather. People wishing to volunteer to help with the program can contact Pastor Dani.
URL:https://trinity-hamilton.com/event/peoples-cafe-25/
LOCATION:Streetlight Church\, 82 Ferguson Street North\, Hamilton\, ON\, L8R 1L4\, Canada
ATTACH;FMTTYPE=image/jpeg:https://trinity-hamilton.com/wp-content/uploads/2023/09/peoples-cafe-coffee.jpg
END:VEVENT
BEGIN:VEVENT
DTSTART;TZID=America/Toronto:20260106T190000
DTEND;TZID=America/Toronto:20260106T200000
DTSTAMP:20260423T132311
CREATED:20251124T010136Z
LAST-MODIFIED:20251124T010136Z
UID:5793-1767726000-1767729600@trinity-hamilton.com
SUMMARY:Newsletter Committee Meeting
DESCRIPTION:The Newsletter Committee meeting is on the first Tuesday of the month at 7:00 p.m. via Zoom. The Zoom link will be provided to committee members.
URL:https://trinity-hamilton.com/event/newsletter-committee-meeting-6/
LOCATION:Online
ATTACH;FMTTYPE=image/png:https://trinity-hamilton.com/wp-content/uploads/2023/06/newsletter.png
END:VEVENT
BEGIN:VEVENT
DTSTART;TZID=America/Toronto:20260107T190000
DTEND;TZID=America/Toronto:20260107T200000
DTSTAMP:20260423T132311
CREATED:20251117T224823Z
LAST-MODIFIED:20251117T224902Z
UID:5733-1767812400-1767816000@trinity-hamilton.com
SUMMARY:Social Ministry Committee Meeting
DESCRIPTION:The Social Ministry Committee meeting is on Wednesday January 7 at 7:00 p.m. on Zoom. Members will receive the Zoom link.
URL:https://trinity-hamilton.com/event/social-ministry-committee-meeting-2/
LOCATION:Online
ATTACH;FMTTYPE=image/jpeg:https://trinity-hamilton.com/wp-content/uploads/2023/06/God-work-our-hands-copy2.jpg
END:VEVENT
BEGIN:VEVENT
DTSTART;TZID=America/Toronto:20260108T080000
DTEND;TZID=America/Toronto:20260108T170000
DTSTAMP:20260423T132311
CREATED:20251117T232400Z
LAST-MODIFIED:20251124T210304Z
UID:5750-1767859200-1767891600@trinity-hamilton.com
SUMMARY:Deadline to order Good Food Box for January
DESCRIPTION:The deadline to order the October Good Food Box is today\, January 8 . If you are interested in purchasing a Good Food Box\, from either of our locations\, orders need to be received at least one week prior to the pick-up date. The locations for pick-up are 232 Fennell Ave. East and 130 Victoria Avenue North. \nTrinity’s Good Food Box Program runs from September to June on the second Thursday each month. \nFor $22 you will receive a bag of fruit and vegetables. The pickup date is January 8. \nTo order a good food box\, please email Pastor Thomas at tfrm58@gmail.com. You can also access the online Good Food Box form to order online.
URL:https://trinity-hamilton.com/event/deadline-to-order-good-food-box-for-january/
LOCATION:Online
ATTACH;FMTTYPE=image/jpeg:https://trinity-hamilton.com/wp-content/uploads/2023/04/good-food-box-copy-e1732500715511.jpg
END:VEVENT
BEGIN:VEVENT
DTSTART;TZID=America/Toronto:20260108T113000
DTEND;TZID=America/Toronto:20260108T123000
DTSTAMP:20260423T132311
CREATED:20251118T162047Z
LAST-MODIFIED:20251118T162047Z
UID:5756-1767871800-1767875400@trinity-hamilton.com
SUMMARY:Mid-Week Service
DESCRIPTION:Mid-Week service takes place on Thursdays at 11:30 a.m. Trinity offers a short mid-week service with Holy Communion at 232 Fennell Ave. East. You are welcome to bring a bag lunch for fellowship after the service.
URL:https://trinity-hamilton.com/event/mid-week-service-18/
LOCATION:Trinity Lutheran Church Fennell Ave.\, 232 Fennell Ave. E\, Hamilton\, Ontario\, Canada
ATTACH;FMTTYPE=image/jpeg:https://trinity-hamilton.com/wp-content/uploads/2024/06/Jordan-Trinity-copy2.jpg
END:VEVENT
BEGIN:VEVENT
DTSTART;TZID=America/Toronto:20260109T170000
DTEND;TZID=America/Toronto:20260109T190000
DTSTAMP:20260423T132311
CREATED:20251118T164714Z
LAST-MODIFIED:20251118T164714Z
UID:5785-1767978000-1767985200@trinity-hamilton.com
SUMMARY:Confirmation Class
DESCRIPTION:Confirmation class is an opportunity to reflect on faith-related questions in an open and non-judgmental atmosphere.\nWe see confirmation as a starting point for being involved in the congregation. Our classes run for two years (September to April) and end with confirmation on Palm Sunday of the second year. \nCome and join us to find out more about God and life.
URL:https://trinity-hamilton.com/event/confirmation-class-6/
LOCATION:Trinity Lutheran Church Fennell Ave.\, 232 Fennell Ave. E\, Hamilton\, Ontario\, Canada
ATTACH;FMTTYPE=image/png:https://trinity-hamilton.com/wp-content/uploads/2023/08/confirmation.png
END:VEVENT
BEGIN:VEVENT
DTSTART;TZID=America/Toronto:20260111T100000
DTEND;TZID=America/Toronto:20260111T110000
DTSTAMP:20260423T132311
CREATED:20251116T200115Z
LAST-MODIFIED:20251116T200115Z
UID:5685-1768125600-1768129200@trinity-hamilton.com
SUMMARY:Children's Activity
DESCRIPTION:For the remaining Sundays of the month the children are invited to join in the regular worship service. A children’s message and quiet independent activity will be provided for those in attendance.
URL:https://trinity-hamilton.com/event/childrens-activity-6/
LOCATION:Trinity Lutheran Church Fennell Ave.\, 232 Fennell Ave. E\, Hamilton\, Ontario\, Canada
ATTACH;FMTTYPE=image/jpeg:https://trinity-hamilton.com/wp-content/uploads/2023/06/congregation-e1732747121525.jpg
END:VEVENT
BEGIN:VEVENT
DTSTART;TZID=America/Toronto:20260111T100000
DTEND;TZID=America/Toronto:20260111T110000
DTSTAMP:20260423T132311
CREATED:20251116T203418Z
LAST-MODIFIED:20251116T203418Z
UID:5695-1768125600-1768129200@trinity-hamilton.com
SUMMARY:Sunday Worship Service
DESCRIPTION:We offer in-person Sunday Worship service at our Fennell Avenue location. You may also watch our service through livestream on Zoom. Please contact the church office at 905 974-9878 for the link. A recording of the 10:00 am service will be posted on the Trinity Lutheran Church YouTube channel by the end of the day.
URL:https://trinity-hamilton.com/event/sunday-worship-service-28/
LOCATION:Trinity Lutheran Church Fennell Ave.\, 232 Fennell Ave. E\, Hamilton\, Ontario\, Canada
ATTACH;FMTTYPE=image/jpeg:https://trinity-hamilton.com/wp-content/uploads/2023/06/pastor-Daniella6-e1732747256780.jpg
END:VEVENT
BEGIN:VEVENT
DTSTART;TZID=America/Toronto:20260112T093000
DTEND;TZID=America/Toronto:20260112T113000
DTSTAMP:20260423T132311
CREATED:20251124T212129Z
LAST-MODIFIED:20251124T212129Z
UID:5814-1768210200-1768217400@trinity-hamilton.com
SUMMARY:Friendship Circle
DESCRIPTION:The Friendship Circle Ladies meet on Mondays at Trinity at 232 Fennell Ave. E. Come and join the Friendship Circle ladies for fellowship and creativity. We quilt and work on other creative projects. No experience is necessary.\nThe Friendship Circle is also looking for cotton material for quilting\, lightweight towels to make washcloths and flannel (sheets) to make diapers. If you’re interested in joining\, want more information\, or if you have donations\, please contact Marie Stanat 289-919-0603.
URL:https://trinity-hamilton.com/event/friendship-circle-29/
LOCATION:Trinity Lutheran Church Fennell Ave.\, 232 Fennell Ave. E\, Hamilton\, Ontario\, Canada
ATTACH;FMTTYPE=image/jpeg:https://trinity-hamilton.com/wp-content/uploads/2024/04/circle.jpg
END:VEVENT
END:VCALENDAR