BEGIN:VCALENDAR
VERSION:2.0
PRODID:-//Trinity Lutheran Church - ECPv6.15.20//NONSGML v1.0//EN
CALSCALE:GREGORIAN
METHOD:PUBLISH
X-WR-CALNAME:Trinity Lutheran Church
X-ORIGINAL-URL:https://trinity-hamilton.com
X-WR-CALDESC:Events for Trinity Lutheran Church
REFRESH-INTERVAL;VALUE=DURATION:PT1H
X-Robots-Tag:noindex
X-PUBLISHED-TTL:PT1H
BEGIN:VTIMEZONE
TZID:America/Toronto
BEGIN:DAYLIGHT
TZOFFSETFROM:-0500
TZOFFSETTO:-0400
TZNAME:EDT
DTSTART:20250309T070000
END:DAYLIGHT
BEGIN:STANDARD
TZOFFSETFROM:-0400
TZOFFSETTO:-0500
TZNAME:EST
DTSTART:20251102T060000
END:STANDARD
BEGIN:DAYLIGHT
TZOFFSETFROM:-0500
TZOFFSETTO:-0400
TZNAME:EDT
DTSTART:20260308T070000
END:DAYLIGHT
BEGIN:STANDARD
TZOFFSETFROM:-0400
TZOFFSETTO:-0500
TZNAME:EST
DTSTART:20261101T060000
END:STANDARD
BEGIN:DAYLIGHT
TZOFFSETFROM:-0500
TZOFFSETTO:-0400
TZNAME:EDT
DTSTART:20270314T070000
END:DAYLIGHT
BEGIN:STANDARD
TZOFFSETFROM:-0400
TZOFFSETTO:-0500
TZNAME:EST
DTSTART:20271107T060000
END:STANDARD
END:VTIMEZONE
BEGIN:VEVENT
DTSTART;TZID=America/Toronto:20260201T100000
DTEND;TZID=America/Toronto:20260201T110000
DTSTAMP:20260423T042711
CREATED:20260112T004121Z
LAST-MODIFIED:20260112T004121Z
UID:5992-1769940000-1769943600@trinity-hamilton.com
SUMMARY:Sunday Worship Service
DESCRIPTION:We offer in-person Sunday Worship service at our Fennell Avenue location. You may also watch our service through livestream on Zoom. Please contact the church office at 905 974-9878 for the link. A recording of the 10:00 am service will be posted on the Trinity Lutheran Church YouTube channel by the end of the day.
URL:https://trinity-hamilton.com/event/sunday-worship-service-8/
LOCATION:Trinity Lutheran Church Fennell Ave.\, 232 Fennell Ave. E\, Hamilton\, Ontario\, Canada
ATTACH;FMTTYPE=image/jpeg:https://trinity-hamilton.com/wp-content/uploads/2024/06/Jordan-Trinity-copy2.jpg
END:VEVENT
BEGIN:VEVENT
DTSTART;TZID=America/Toronto:20260201T100000
DTEND;TZID=America/Toronto:20260201T110000
DTSTAMP:20260423T042711
CREATED:20260115T193940Z
LAST-MODIFIED:20260115T193940Z
UID:6030-1769940000-1769943600@trinity-hamilton.com
SUMMARY:Sunday School
DESCRIPTION:Learning together is an important part of Sunday School. It is a place to learn about God and his teachings. We offer Sunday School from September to June for children ages 3 to 12. Sunday school run parallel to the Sunday Worship service at 10.00 a.m. The children begin the morning in Sunday School and join the congregation in the sanctuary at communion.
URL:https://trinity-hamilton.com/event/sunday-school-2/
LOCATION:Trinity Lutheran Church Fennell Ave.\, 232 Fennell Ave. E\, Hamilton\, Ontario\, Canada
ATTACH;FMTTYPE=image/jpeg:https://trinity-hamilton.com/wp-content/uploads/2023/06/SundaySchool-1-e1739737315196.jpg
END:VEVENT
BEGIN:VEVENT
DTSTART;TZID=America/Toronto:20260202T093000
DTEND;TZID=America/Toronto:20260202T113000
DTSTAMP:20260423T042711
CREATED:20260112T010221Z
LAST-MODIFIED:20260112T010221Z
UID:6018-1770024600-1770031800@trinity-hamilton.com
SUMMARY:Friendship Circle
DESCRIPTION:The Friendship Circle Ladies meet on Mondays at Trinity at 232 Fennell Ave. E. Come and join the Friendship Circle ladies for fellowship and creativity. We quilt and work on other creative projects. No experience is necessary.\nThe Friendship Circle is also looking for cotton material for quilting\, lightweight towels to make washcloths and flannel (sheets) to make diapers. If you’re interested in joining\, want more information\, or if you have donations\, please contact Marie Stanat 289-919-0603.
URL:https://trinity-hamilton.com/event/friendship-circle-4/
LOCATION:Trinity Lutheran Church Fennell Ave.\, 232 Fennell Ave. E\, Hamilton\, Ontario\, Canada
ATTACH;FMTTYPE=image/jpeg:https://trinity-hamilton.com/wp-content/uploads/2024/04/circle.jpg
END:VEVENT
BEGIN:VEVENT
DTSTART;TZID=America/Toronto:20260203T100000
DTEND;TZID=America/Toronto:20260203T120000
DTSTAMP:20260423T042711
CREATED:20260112T004723Z
LAST-MODIFIED:20260112T004723Z
UID:6001-1770112800-1770120000@trinity-hamilton.com
SUMMARY:People's Café
DESCRIPTION:Everyone is welcome at the People’s Café on Tuesdays from 10:00 am to 12:00 pm. Refreshments and fellowship are offered. Come and make new friends or sit quietly by yourself. Our neighbours are also welcome to enjoy coffee and toast while sheltering from the weather. People wishing to volunteer to help with the program can contact Pastor Dani.
URL:https://trinity-hamilton.com/event/peoples-cafe/
LOCATION:Streetlight Church\, 82 Ferguson Street North\, Hamilton\, ON\, L8R 1L4\, Canada
ATTACH;FMTTYPE=image/jpeg:https://trinity-hamilton.com/wp-content/uploads/2024/01/group-of-people-for-creative-expression-class_low-res.jpg
END:VEVENT
BEGIN:VEVENT
DTSTART;TZID=America/Toronto:20260203T190000
DTEND;TZID=America/Toronto:20260203T200000
DTSTAMP:20260423T042711
CREATED:20260115T202359Z
LAST-MODIFIED:20260115T202359Z
UID:6056-1770145200-1770148800@trinity-hamilton.com
SUMMARY:Newsletter Committee Meeting
DESCRIPTION:The Newsletter Committee meeting is on the first Tuesday of the month at 7:00 p.m. via Zoom. The Zoom link will be provided to committee members.
URL:https://trinity-hamilton.com/event/newsletter-committee-meeting-3/
LOCATION:Online
ATTACH;FMTTYPE=image/png:https://trinity-hamilton.com/wp-content/uploads/2023/06/newsletter.png
END:VEVENT
BEGIN:VEVENT
DTSTART;TZID=America/Toronto:20260204T190000
DTEND;TZID=America/Toronto:20260204T200000
DTSTAMP:20260423T042711
CREATED:20260115T204204Z
LAST-MODIFIED:20260115T204204Z
UID:6061-1770231600-1770235200@trinity-hamilton.com
SUMMARY:Social Ministry Committee Meeting
DESCRIPTION:The Social Ministry Committee meeting is on Wednesday February 4 at 7:00 p.m. on Zoom. Members will receive the Zoom link.
URL:https://trinity-hamilton.com/event/social-ministry-committee-meeting-4/
LOCATION:Online
ATTACH;FMTTYPE=image/jpeg:https://trinity-hamilton.com/wp-content/uploads/2023/06/God-work-our-hands-copy.jpg
END:VEVENT
BEGIN:VEVENT
DTSTART;TZID=America/Toronto:20260205T080000
DTEND;TZID=America/Toronto:20260205T180000
DTSTAMP:20260423T042711
CREATED:20260115T212236Z
LAST-MODIFIED:20260115T212300Z
UID:6075-1770278400-1770314400@trinity-hamilton.com
SUMMARY:Deadline to order Good Food Box for February
DESCRIPTION:The deadline to order the February Good Food Box is today\, February 5 . If you are interested in purchasing a Good Food Box\, from either of our locations\, orders need to be received at least one week prior to the pick-up date. The locations for pick-up are 232 Fennell Ave. East and 130 Victoria Avenue North. \nTrinity’s Good Food Box Program runs from September to June on the second Thursday each month. \nFor $22 you will receive a bag of fruit and vegetables. The pickup date is February 12. \nTo order a good food box\, please email Pastor Thomas at tfrm58@gmail.com. You can also access the online Good Food Box form to order online.
URL:https://trinity-hamilton.com/event/deadline-to-order-good-food-box-for-february/
LOCATION:Online
ATTACH;FMTTYPE=image/jpeg:https://trinity-hamilton.com/wp-content/uploads/2023/04/good-food-box-copy-e1732500715511.jpg
END:VEVENT
BEGIN:VEVENT
DTSTART;TZID=America/Toronto:20260205T113000
DTEND;TZID=America/Toronto:20260205T123000
DTSTAMP:20260423T042711
CREATED:20260115T195050Z
LAST-MODIFIED:20260115T195050Z
UID:6038-1770291000-1770294600@trinity-hamilton.com
SUMMARY:Mid-Week Service
DESCRIPTION:Mid-Week service takes place on Thursdays at 11:30 a.m. Trinity offers a short mid-week service with Holy Communion at 232 Fennell Ave. East. You are welcome to bring a bag lunch for fellowship after the service.
URL:https://trinity-hamilton.com/event/mid-week-service-2/
LOCATION:Trinity Lutheran Church Fennell Ave.\, 232 Fennell Ave. E\, Hamilton\, Ontario\, Canada
ATTACH;FMTTYPE=image/jpeg:https://trinity-hamilton.com/wp-content/uploads/2023/06/congregation-e1732747121525.jpg
END:VEVENT
BEGIN:VEVENT
DTSTART;TZID=America/Toronto:20260205T190000
DTEND;TZID=America/Toronto:20260205T203000
DTSTAMP:20260423T042711
CREATED:20260112T005515Z
LAST-MODIFIED:20260112T005515Z
UID:6010-1770318000-1770323400@trinity-hamilton.com
SUMMARY:Choir- Worship God with Music
DESCRIPTION:Come and find out about Trinity’s Choir and Worship God with Music! Whether contemporary\, traditional or global music is your favourite\, there’s always a way to musically enhance our worship. This is for singers and players of all instruments. \nContact Heide at heide.lang@gmail.com or 905-616-2575. Choir practices are held at 232 Fennell Ave. E.
URL:https://trinity-hamilton.com/event/choir-worship-god-with-music-15/
LOCATION:Trinity Lutheran Church Fennell Ave.\, 232 Fennell Ave. E\, Hamilton\, Ontario\, Canada
ATTACH;FMTTYPE=image/jpeg:https://trinity-hamilton.com/wp-content/uploads/2024/09/choir2-e1741894349692.jpg
END:VEVENT
BEGIN:VEVENT
DTSTART;TZID=America/Toronto:20260207T100000
DTEND;TZID=America/Toronto:20260207T113000
DTSTAMP:20260423T042711
CREATED:20260122T163229Z
LAST-MODIFIED:20260122T163229Z
UID:6142-1770458400-1770463800@trinity-hamilton.com
SUMMARY:Birdwatching Outing
DESCRIPTION:Saturday\, February 7\, 10:00 to 11:30 a.m. \nDesjardins Recreation Trail\, Hamilton \nSince forest trails can be snow-covered and icy during this time of year\, let’s do a birding outing on the Desjardins Recreation Trail that is flat and plowed. The flowing water of the Desjardins Canal tends to keep the water ice-free there\, attracting a variety of waterfowl. If we’re lucky\, one of our resident Bald Eagles might fly by. We’ll be parking at the Princess Point parking lot and the RBG charges for parking there at $3/hour (free if you have a displayed RBG pass). Carpooling can be arranged. \nWhether you are an experienced birder or a novice\, join Debbie Lindeman and Dennis Price at 10:00 a.m. for a morning of birding and nature appreciation.  Please bring binoculars if you have them. \nPlease email Debbie at deborahlindeman3@gmail.com or call at (905) 389-0224 if you would like to participate.
URL:https://trinity-hamilton.com/event/birdwatching-outing/
LOCATION:Desjardins Recreation Trail\, Hamilton\, 335 Longwood Rd N\, Hamilton\, Ontario\, L8S 3R8\, Canada
ATTACH;FMTTYPE=image/jpeg:https://trinity-hamilton.com/wp-content/uploads/2023/09/binocular-copy.jpg
END:VEVENT
BEGIN:VEVENT
DTSTART;TZID=America/Toronto:20260207T140000
DTEND;TZID=America/Toronto:20260207T160000
DTSTAMP:20260423T042711
CREATED:20260115T204618Z
LAST-MODIFIED:20260125T194643Z
UID:6063-1770472800-1770480000@trinity-hamilton.com
SUMMARY:German Afternoon
DESCRIPTION:Join us for German afternoon at 232 Fennell Ave. East.
URL:https://trinity-hamilton.com/event/german-afternoon-3/
LOCATION:Trinity Lutheran Church Fennell Ave.\, 232 Fennell Ave. E\, Hamilton\, Ontario\, Canada
END:VEVENT
BEGIN:VEVENT
DTSTART;TZID=America/Toronto:20260208T100000
DTEND;TZID=America/Toronto:20260208T110000
DTSTAMP:20260423T042711
CREATED:20260112T004223Z
LAST-MODIFIED:20260112T004223Z
UID:5994-1770544800-1770548400@trinity-hamilton.com
SUMMARY:Sunday Worship Service
DESCRIPTION:We offer in-person Sunday Worship service at our Fennell Avenue location. You may also watch our service through livestream on Zoom. Please contact the church office at 905 974-9878 for the link. A recording of the 10:00 am service will be posted on the Trinity Lutheran Church YouTube channel by the end of the day.
URL:https://trinity-hamilton.com/event/sunday-worship-service-9/
LOCATION:Trinity Lutheran Church Fennell Ave.\, 232 Fennell Ave. E\, Hamilton\, Ontario\, Canada
ATTACH;FMTTYPE=image/jpeg:https://trinity-hamilton.com/wp-content/uploads/2024/06/Pastor-Daniella-scaled-e1750189238652.jpg
END:VEVENT
BEGIN:VEVENT
DTSTART;TZID=America/Toronto:20260208T100000
DTEND;TZID=America/Toronto:20260208T110000
DTSTAMP:20260423T042711
CREATED:20260115T194233Z
LAST-MODIFIED:20260115T194233Z
UID:6034-1770544800-1770548400@trinity-hamilton.com
SUMMARY:Children's Activity
DESCRIPTION:For the remaining Sundays of the month the children are invited to join in the regular worship service. A children’s message and quiet independent activity will be provided for those in attendance.
URL:https://trinity-hamilton.com/event/childrens-activity-8/
LOCATION:Trinity Lutheran Church Fennell Ave.\, 232 Fennell Ave. E\, Hamilton\, Ontario\, Canada
ATTACH;FMTTYPE=image/jpeg:https://trinity-hamilton.com/wp-content/uploads/2023/04/P1144169-scaled-e1732748375643.jpg
END:VEVENT
BEGIN:VEVENT
DTSTART;TZID=America/Toronto:20260208T110000
DTEND;TZID=America/Toronto:20260208T120000
DTSTAMP:20260423T042711
CREATED:20260115T201141Z
LAST-MODIFIED:20260115T201141Z
UID:6054-1770548400-1770552000@trinity-hamilton.com
SUMMARY:Coffee Hour
DESCRIPTION:Please join us after the worship service for coffee hour\, prepared by the Creation Care Group.
URL:https://trinity-hamilton.com/event/coffee-hour/
LOCATION:Trinity Lutheran Church Fennell Ave.\, 232 Fennell Ave. E\, Hamilton\, Ontario\, Canada
ATTACH;FMTTYPE=image/jpeg:https://trinity-hamilton.com/wp-content/uploads/2023/07/CoffeeHour-copy.jpg
END:VEVENT
BEGIN:VEVENT
DTSTART;TZID=America/Toronto:20260209T093000
DTEND;TZID=America/Toronto:20260209T113000
DTSTAMP:20260423T042711
CREATED:20260112T010322Z
LAST-MODIFIED:20260112T010322Z
UID:6020-1770629400-1770636600@trinity-hamilton.com
SUMMARY:Friendship Circle
DESCRIPTION:The Friendship Circle Ladies meet on Mondays at Trinity at 232 Fennell Ave. E. Come and join the Friendship Circle ladies for fellowship and creativity. We quilt and work on other creative projects. No experience is necessary.\nThe Friendship Circle is also looking for cotton material for quilting\, lightweight towels to make washcloths and flannel (sheets) to make diapers. If you’re interested in joining\, want more information\, or if you have donations\, please contact Marie Stanat 289-919-0603.
URL:https://trinity-hamilton.com/event/friendship-circle-5/
LOCATION:Trinity Lutheran Church Fennell Ave.\, 232 Fennell Ave. E\, Hamilton\, Ontario\, Canada
ATTACH;FMTTYPE=image/jpeg:https://trinity-hamilton.com/wp-content/uploads/2024/04/circle.jpg
END:VEVENT
BEGIN:VEVENT
DTSTART;TZID=America/Toronto:20260210T100000
DTEND;TZID=America/Toronto:20260210T120000
DTSTAMP:20260423T042711
CREATED:20260112T004820Z
LAST-MODIFIED:20260112T004820Z
UID:6003-1770717600-1770724800@trinity-hamilton.com
SUMMARY:People's Café
DESCRIPTION:Everyone is welcome at the People’s Café on Tuesdays from 10:00 am to 12:00 pm. Refreshments and fellowship are offered. Come and make new friends or sit quietly by yourself. Our neighbours are also welcome to enjoy coffee and toast while sheltering from the weather. People wishing to volunteer to help with the program can contact Pastor Dani.
URL:https://trinity-hamilton.com/event/peoples-cafe-2/
LOCATION:Streetlight Church\, 82 Ferguson Street North\, Hamilton\, ON\, L8R 1L4\, Canada
ATTACH;FMTTYPE=image/jpeg:https://trinity-hamilton.com/wp-content/uploads/2023/09/peoples-cafe-coffee.jpg
END:VEVENT
BEGIN:VEVENT
DTSTART;TZID=America/Toronto:20260212T110000
DTEND;TZID=America/Toronto:20260212T160000
DTSTAMP:20260423T042711
CREATED:20260115T211940Z
LAST-MODIFIED:20260115T211940Z
UID:6073-1770894000-1770912000@trinity-hamilton.com
SUMMARY:Good Food Box
DESCRIPTION:Good Food Box pick up is at 232 Fennell Ave. East between 11:00 a.m. and 4:00 p.m. \nTrinity’s Good Food Box Program runs from September to June on the second Thursday each month. \nFor $22 you will receive a bag of fruits and vegetables. \nSome financial help may be available. If possible\, please bring your own bags. \nTo order a good food box\, please email Pastor Thomas at tfrm58@gmail.com. You can also access the online Good Food Box form to order online. \nPlease note that orders need to be received at least one week prior to the pick-up date and prepayment by etransfer to Trinity Lutheran Church.
URL:https://trinity-hamilton.com/event/good-food-box-4/
LOCATION:Trinity Lutheran Church Fennell Ave.\, 232 Fennell Ave. E\, Hamilton\, Ontario\, Canada
ATTACH;FMTTYPE=image/jpeg:https://trinity-hamilton.com/wp-content/uploads/2023/04/good-food-box-copy-e1732500715511.jpg
END:VEVENT
BEGIN:VEVENT
DTSTART;TZID=America/Toronto:20260212T113000
DTEND;TZID=America/Toronto:20260212T123000
DTSTAMP:20260423T042711
CREATED:20260115T195155Z
LAST-MODIFIED:20260115T195155Z
UID:6040-1770895800-1770899400@trinity-hamilton.com
SUMMARY:Mid-Week Service
DESCRIPTION:Mid-Week service takes place on Thursdays at 11:30 a.m. Trinity offers a short mid-week service with Holy Communion at 232 Fennell Ave. East. You are welcome to bring a bag lunch for fellowship after the service.
URL:https://trinity-hamilton.com/event/mid-week-service-3/
LOCATION:Trinity Lutheran Church Fennell Ave.\, 232 Fennell Ave. E\, Hamilton\, Ontario\, Canada
ATTACH;FMTTYPE=image/jpeg:https://trinity-hamilton.com/wp-content/uploads/2023/06/congregation-e1732747121525.jpg
END:VEVENT
BEGIN:VEVENT
DTSTART;TZID=America/Toronto:20260212T120000
DTEND;TZID=America/Toronto:20260212T143000
DTSTAMP:20260423T042711
CREATED:20260115T211817Z
LAST-MODIFIED:20260115T211817Z
UID:6071-1770897600-1770906600@trinity-hamilton.com
SUMMARY:Good Food Box
DESCRIPTION:Good Food Box pick up at Eucharist Church\, 130 Victoria Ave. N. between 12:00 and 2:30 p.m. \nTrinity’s Good Food Box Program runs from September to June on the second Thursday each month. \nFor $22 you will receive a bag of fruits and vegetables. Some financial help may be available. \nIf possible\, please bring your own bags. \nTo order a good food box\, please email Pastor Thomas at tfrm58@gmail.com. You can also access the online Good Food Box form to order online. \nPlease note that orders need to be received at least one week prior to the pick-up date and prepayment by etransfer to Trinity Lutheran Church.
URL:https://trinity-hamilton.com/event/good-food-box-3/
LOCATION:Eucharist Church\, 130 Victoria Ave. N.\, Hamilton\, ON\, L8L 5E5\, Canada
ATTACH;FMTTYPE=image/jpeg:https://trinity-hamilton.com/wp-content/uploads/2023/04/good-food-box-copy-e1732500715511.jpg
END:VEVENT
BEGIN:VEVENT
DTSTART;TZID=America/Toronto:20260212T190000
DTEND;TZID=America/Toronto:20260212T203000
DTSTAMP:20260423T042711
CREATED:20260112T005619Z
LAST-MODIFIED:20260112T005619Z
UID:6012-1770922800-1770928200@trinity-hamilton.com
SUMMARY:Choir- Worship God with Music
DESCRIPTION:Come and find out about Trinity’s Choir and Worship God with Music! Whether contemporary\, traditional or global music is your favourite\, there’s always a way to musically enhance our worship. This is for singers and players of all instruments. \nContact Heide at heide.lang@gmail.com or 905-616-2575. Choir practices are held at 232 Fennell Ave. E.
URL:https://trinity-hamilton.com/event/choir-worship-god-with-music-19/
LOCATION:Trinity Lutheran Church Fennell Ave.\, 232 Fennell Ave. E\, Hamilton\, Ontario\, Canada
ATTACH;FMTTYPE=image/jpeg:https://trinity-hamilton.com/wp-content/uploads/2024/09/choir3-e1747834766926.jpg
END:VEVENT
BEGIN:VEVENT
DTSTART;TZID=America/Toronto:20260213T170000
DTEND;TZID=America/Toronto:20260213T190000
DTSTAMP:20260423T042711
CREATED:20260115T210832Z
LAST-MODIFIED:20260115T210832Z
UID:6069-1771002000-1771009200@trinity-hamilton.com
SUMMARY:Confirmation Class
DESCRIPTION:Confirmation class is an opportunity to reflect on faith-related questions in an open and non-judgmental atmosphere.\nWe see confirmation as a starting point for being involved in the congregation. Our classes run for two years (September to April) and end with confirmation on Palm Sunday of the second year. \nCome and join us to find out more about God and life.
URL:https://trinity-hamilton.com/event/confirmation-class-8/
LOCATION:Trinity Lutheran Church Fennell Ave.\, 232 Fennell Ave. E\, Hamilton\, Ontario\, Canada
ATTACH;FMTTYPE=image/png:https://trinity-hamilton.com/wp-content/uploads/2023/08/confirmation.png
END:VEVENT
BEGIN:VEVENT
DTSTART;TZID=America/Toronto:20260215T100000
DTEND;TZID=America/Toronto:20260215T110000
DTSTAMP:20260423T042711
CREATED:20260112T004326Z
LAST-MODIFIED:20260112T004326Z
UID:5996-1771149600-1771153200@trinity-hamilton.com
SUMMARY:Sunday Worship Service
DESCRIPTION:We offer in-person Sunday Worship service at our Fennell Avenue location. You may also watch our service through livestream on Zoom. Please contact the church office at 905 974-9878 for the link. A recording of the 10:00 am service will be posted on the Trinity Lutheran Church YouTube channel by the end of the day.
URL:https://trinity-hamilton.com/event/sunday-worship-service-10/
LOCATION:Trinity Lutheran Church Fennell Ave.\, 232 Fennell Ave. E\, Hamilton\, Ontario\, Canada
ATTACH;FMTTYPE=image/jpeg:https://trinity-hamilton.com/wp-content/uploads/2024/06/Pastor-Jordan-copy-e1736717348342.jpg
END:VEVENT
BEGIN:VEVENT
DTSTART;TZID=America/Toronto:20260215T100000
DTEND;TZID=America/Toronto:20260215T110000
DTSTAMP:20260423T042711
CREATED:20260115T194056Z
LAST-MODIFIED:20260115T194117Z
UID:6032-1771149600-1771153200@trinity-hamilton.com
SUMMARY:Sunday School
DESCRIPTION:Learning together is an important part of Sunday School. It is a place to learn about God and his teachings. We offer Sunday School from September to June for children ages 3 to 12. Sunday school run parallel to the Sunday Worship service at 10.00 a.m. The children begin the morning in Sunday School and join the congregation in the sanctuary at communion.
URL:https://trinity-hamilton.com/event/sunday-school-10/
LOCATION:Trinity Lutheran Church Fennell Ave.\, 232 Fennell Ave. E\, Hamilton\, Ontario\, Canada
ATTACH;FMTTYPE=image/jpeg:https://trinity-hamilton.com/wp-content/uploads/2023/06/SundaySchool-1-e1739737315196.jpg
END:VEVENT
BEGIN:VEVENT
DTSTART;VALUE=DATE:20260216
DTEND;VALUE=DATE:20260217
DTSTAMP:20260423T042711
CREATED:20260112T010551Z
LAST-MODIFIED:20260112T010551Z
UID:6024-1771200000-1771286399@trinity-hamilton.com
SUMMARY:Family Day
DESCRIPTION:
URL:https://trinity-hamilton.com/event/family-day/
LOCATION:ON
ATTACH;FMTTYPE=image/gif:https://trinity-hamilton.com/wp-content/uploads/2026/01/family-day.gif
END:VEVENT
BEGIN:VEVENT
DTSTART;TZID=America/Toronto:20260217T100000
DTEND;TZID=America/Toronto:20260217T120000
DTSTAMP:20260423T042711
CREATED:20260112T004940Z
LAST-MODIFIED:20260122T153539Z
UID:6005-1771322400-1771329600@trinity-hamilton.com
SUMMARY:People's Café
DESCRIPTION:Pancakes will be served. Everyone is welcome at the People’s Café on Tuesdays from 10:00 am to 12:00 pm. Refreshments and fellowship are offered. Come and make new friends or sit quietly by yourself. Our neighbours are also welcome to enjoy coffee and toast while sheltering from the weather. People wishing to volunteer to help with the program can contact Pastor Dani.
URL:https://trinity-hamilton.com/event/peoples-cafe-3/
LOCATION:Streetlight Church\, 82 Ferguson Street North\, Hamilton\, ON\, L8R 1L4\, Canada
ATTACH;FMTTYPE=image/jpeg:https://trinity-hamilton.com/wp-content/uploads/2024/01/pancakes.jpg
END:VEVENT
BEGIN:VEVENT
DTSTART;TZID=America/Toronto:20260217T120000
DTEND;TZID=America/Toronto:20260217T140000
DTSTAMP:20260423T042711
CREATED:20260125T174659Z
LAST-MODIFIED:20260125T174659Z
UID:6150-1771329600-1771336800@trinity-hamilton.com
SUMMARY:Pancake (Shrove) Tuesday
DESCRIPTION:The LLU and Congregational Life Committee are preparing a pancake and sausage lunch from 12:00 to 2:00 and everyone is invited. The meal will be followed by “The Origin and Tradition of Shrove Tuesday”\, by Pastor Daniela Mertz. \nCome and join us for food\, learning and fellowship.
URL:https://trinity-hamilton.com/event/pancake-shrove-tuesday/
LOCATION:Trinity Lutheran Church Fennell Ave.\, 232 Fennell Ave. E\, Hamilton\, Ontario\, Canada
ATTACH;FMTTYPE=image/jpeg:https://trinity-hamilton.com/wp-content/uploads/2024/01/pancakes.jpg
END:VEVENT
BEGIN:VEVENT
DTSTART;TZID=America/Toronto:20260217T140000
DTEND;TZID=America/Toronto:20260217T150000
DTSTAMP:20260423T042711
CREATED:20260115T204917Z
LAST-MODIFIED:20260125T174434Z
UID:6065-1771336800-1771340400@trinity-hamilton.com
SUMMARY:Lutheran Ladies United
DESCRIPTION:Today is Shrove Tuesday or pancake Tuesday. Come and learn about the origin and tradition of Shrove Tuesday by Pastor Daniela Mertz. Everyone is welcome. Come and join us for food\, learning and fellowship.
URL:https://trinity-hamilton.com/event/lutheran-ladies-united/
LOCATION:Trinity Lutheran Church Fennell Ave.\, 232 Fennell Ave. E\, Hamilton\, Ontario\, Canada
ATTACH;FMTTYPE=image/jpeg:https://trinity-hamilton.com/wp-content/uploads/2024/08/be-g336965d8b_1920-e1732398810626.jpg
END:VEVENT
BEGIN:VEVENT
DTSTART;TZID=America/Toronto:20260218T113000
DTEND;TZID=America/Toronto:20260218T130000
DTSTAMP:20260423T042711
CREATED:20260115T200331Z
LAST-MODIFIED:20260122T154016Z
UID:6050-1771414200-1771419600@trinity-hamilton.com
SUMMARY:Trinity Ash Wednesday Service and Soup Luncheon
DESCRIPTION:Join us at Trinity for the Ash Wednesday Bay Area Service\, followed by a soup luncheon.
URL:https://trinity-hamilton.com/event/ash-wednesday-service/
LOCATION:Trinity Lutheran Church Fennell Ave.\, 232 Fennell Ave. E\, Hamilton\, Ontario\, Canada
ATTACH;FMTTYPE=image/jpeg:https://trinity-hamilton.com/wp-content/uploads/2024/01/ash-wed-e1769096970205.jpg
END:VEVENT
BEGIN:VEVENT
DTSTART;TZID=America/Toronto:20260218T190000
DTEND;TZID=America/Toronto:20260218T200000
DTSTAMP:20260423T042711
CREATED:20260122T154822Z
LAST-MODIFIED:20260122T154822Z
UID:6140-1771441200-1771444800@trinity-hamilton.com
SUMMARY:Evening Ash Wednesday Services in Hamilton
DESCRIPTION:Listed are locations for those looking for an evening Ash Wednesday service. \n\nChurch of the Nativity Hamilton\, Anglican – 1831 King St. East at 7:00 p.m.\nEcumenical Service at St. Paul’s Anglican Church in Westdale – 1140 King St. West at 7:00 p.m.\nChurch of the Resurrection\, Anglican – 435 Mohawk Road West at 7:00 p.m.
URL:https://trinity-hamilton.com/event/evening-ash-wednesday-services-in-hamilton/
LOCATION:ON
ATTACH;FMTTYPE=image/jpeg:https://trinity-hamilton.com/wp-content/uploads/2024/01/ash-wed-e1769096970205.jpg
END:VEVENT
BEGIN:VEVENT
DTSTART;TZID=America/Toronto:20260219T113000
DTEND;TZID=America/Toronto:20260219T123000
DTSTAMP:20260423T042711
CREATED:20260115T195344Z
LAST-MODIFIED:20260115T195344Z
UID:6042-1771500600-1771504200@trinity-hamilton.com
SUMMARY:Mid-Week Service
DESCRIPTION:Mid-Week service takes place on Thursdays at 11:30 a.m. Trinity offers a short mid-week service with Holy Communion at 232 Fennell Ave. East. You are welcome to bring a bag lunch for fellowship after the service.
URL:https://trinity-hamilton.com/event/mid-week-service-20/
LOCATION:Trinity Lutheran Church Fennell Ave.\, 232 Fennell Ave. E\, Hamilton\, Ontario\, Canada
ATTACH;FMTTYPE=image/jpeg:https://trinity-hamilton.com/wp-content/uploads/2023/06/congregation-e1732747121525.jpg
END:VEVENT
END:VCALENDAR