BEGIN:VCALENDAR
VERSION:2.0
PRODID:-//Trinity Lutheran Church - ECPv6.15.20//NONSGML v1.0//EN
CALSCALE:GREGORIAN
METHOD:PUBLISH
X-WR-CALNAME:Trinity Lutheran Church
X-ORIGINAL-URL:https://trinity-hamilton.com
X-WR-CALDESC:Events for Trinity Lutheran Church
REFRESH-INTERVAL;VALUE=DURATION:PT1H
X-Robots-Tag:noindex
X-PUBLISHED-TTL:PT1H
BEGIN:VTIMEZONE
TZID:America/Toronto
BEGIN:DAYLIGHT
TZOFFSETFROM:-0500
TZOFFSETTO:-0400
TZNAME:EDT
DTSTART:20250309T070000
END:DAYLIGHT
BEGIN:STANDARD
TZOFFSETFROM:-0400
TZOFFSETTO:-0500
TZNAME:EST
DTSTART:20251102T060000
END:STANDARD
BEGIN:DAYLIGHT
TZOFFSETFROM:-0500
TZOFFSETTO:-0400
TZNAME:EDT
DTSTART:20260308T070000
END:DAYLIGHT
BEGIN:STANDARD
TZOFFSETFROM:-0400
TZOFFSETTO:-0500
TZNAME:EST
DTSTART:20261101T060000
END:STANDARD
BEGIN:DAYLIGHT
TZOFFSETFROM:-0500
TZOFFSETTO:-0400
TZNAME:EDT
DTSTART:20270314T070000
END:DAYLIGHT
BEGIN:STANDARD
TZOFFSETFROM:-0400
TZOFFSETTO:-0500
TZNAME:EST
DTSTART:20271107T060000
END:STANDARD
END:VTIMEZONE
BEGIN:VEVENT
DTSTART;TZID=America/Toronto:20260607T111500
DTEND;TZID=America/Toronto:20260607T121500
DTSTAMP:20260423T042711
CREATED:20260312T202641Z
LAST-MODIFIED:20260312T202641Z
UID:6393-1780830900-1780834500@trinity-hamilton.com
SUMMARY:Spring Bible Study: Our Confession of Faith: The Apostle’ Creed
DESCRIPTION:Sundays at 11:15 a.m. in-person and on Zoom. \nJoin us for one hour on Sunday following worship as we study the Apostles’ Creed and Luther’s instruction in the Small and Large Catechism. Over the course of six weeks we learn about how the church has used creeds and work on writing personal creeds of faith. \nContact Pastor Jordan for more information revjordansmith@gmail.com.
URL:https://trinity-hamilton.com/event/spring-bible-study-our-confession-of-faith-the-apostle-creed-6/
LOCATION:Trinity Lutheran Church Fennell Ave.\, 232 Fennell Ave. E\, Hamilton\, Ontario\, Canada
ATTACH;FMTTYPE=image/jpeg:https://trinity-hamilton.com/wp-content/uploads/2026/03/Bible-study.jpg
END:VEVENT
BEGIN:VEVENT
DTSTART;TZID=America/Toronto:20260630T090000
DTEND;TZID=America/Toronto:20260630T103000
DTSTAMP:20260423T042711
CREATED:20251030T172609Z
LAST-MODIFIED:20251030T172609Z
UID:5582-1782810000-1782815400@trinity-hamilton.com
SUMMARY:Trinity Men's Breakfast- Golden Griddle
DESCRIPTION:The men of Trinity are invited to gather for breakfast and friendly conversation on the last Tuesday of each month\, at 9 a.m. We will meet at the Golden Griddle Restaurant\, 1119 Fennell Avenue East.  For more information\, please speak with Pastor Jordan.
URL:https://trinity-hamilton.com/event/trinity-mens-breakfast-golden-griddle-7/
LOCATION:Golden Griddle\, 1119 Fennell Ave.\, Hamilton\, Ontario\, L8T 1S2\, Canada
ATTACH;FMTTYPE=image/jpeg:https://trinity-hamilton.com/wp-content/uploads/2024/01/pancakes.jpg
END:VEVENT
END:VCALENDAR